BEGIN:VCALENDAR
VERSION:2.0
PRODID:-//Faith Lutheran of Homewood, IL - ECPv6.15.20//NONSGML v1.0//EN
CALSCALE:GREGORIAN
METHOD:PUBLISH
X-ORIGINAL-URL:https://www.faithhomewood.org
X-WR-CALDESC:Events for Faith Lutheran of Homewood, IL
REFRESH-INTERVAL;VALUE=DURATION:PT1H
X-Robots-Tag:noindex
X-PUBLISHED-TTL:PT1H
BEGIN:VTIMEZONE
TZID:America/Chicago
BEGIN:DAYLIGHT
TZOFFSETFROM:-0600
TZOFFSETTO:-0500
TZNAME:CDT
DTSTART:20230312T080000
END:DAYLIGHT
BEGIN:STANDARD
TZOFFSETFROM:-0500
TZOFFSETTO:-0600
TZNAME:CST
DTSTART:20231105T070000
END:STANDARD
BEGIN:DAYLIGHT
TZOFFSETFROM:-0600
TZOFFSETTO:-0500
TZNAME:CDT
DTSTART:20240310T080000
END:DAYLIGHT
BEGIN:STANDARD
TZOFFSETFROM:-0500
TZOFFSETTO:-0600
TZNAME:CST
DTSTART:20241103T070000
END:STANDARD
BEGIN:DAYLIGHT
TZOFFSETFROM:-0600
TZOFFSETTO:-0500
TZNAME:CDT
DTSTART:20250309T080000
END:DAYLIGHT
BEGIN:STANDARD
TZOFFSETFROM:-0500
TZOFFSETTO:-0600
TZNAME:CST
DTSTART:20251102T070000
END:STANDARD
END:VTIMEZONE
BEGIN:VEVENT
DTSTART;TZID=America/Chicago:20241101T080000
DTEND;TZID=America/Chicago:20241101T170000
DTSTAMP:20260424T144257
CREATED:20241023T200442Z
LAST-MODIFIED:20241023T200443Z
UID:2749-1730448000-1730480400@www.faithhomewood.org
SUMMARY:Deadline: November 16 Field Trip Sign-Up
DESCRIPTION:A reminder that Friday\, November 1st will be the deadline for signing up for our November 16th field trip to Feed My Starving Children’s Aurora Site. We have a limited number of spots so sign up today at faithhomewood.org. Just click the “Nov 16th Field Trip Sign Up” button and you’ll be taken to the link. \n\n\n\nFeed My Starving Children packs shelf stable meals and sends them to places of crisis or famine.
URL:https://www.faithhomewood.org/event/deadline-november-16-field-trip-sign-up/
LOCATION:IL
END:VEVENT
END:VCALENDAR