BEGIN:VCALENDAR
VERSION:2.0
PRODID:-//Faith Lutheran of Homewood, IL - ECPv6.15.20//NONSGML v1.0//EN
CALSCALE:GREGORIAN
METHOD:PUBLISH
X-ORIGINAL-URL:https://www.faithhomewood.org
X-WR-CALDESC:Events for Faith Lutheran of Homewood, IL
REFRESH-INTERVAL;VALUE=DURATION:PT1H
X-Robots-Tag:noindex
X-PUBLISHED-TTL:PT1H
BEGIN:VTIMEZONE
TZID:America/Chicago
BEGIN:DAYLIGHT
TZOFFSETFROM:-0600
TZOFFSETTO:-0500
TZNAME:CDT
DTSTART:20230312T080000
END:DAYLIGHT
BEGIN:STANDARD
TZOFFSETFROM:-0500
TZOFFSETTO:-0600
TZNAME:CST
DTSTART:20231105T070000
END:STANDARD
BEGIN:DAYLIGHT
TZOFFSETFROM:-0600
TZOFFSETTO:-0500
TZNAME:CDT
DTSTART:20240310T080000
END:DAYLIGHT
BEGIN:STANDARD
TZOFFSETFROM:-0500
TZOFFSETTO:-0600
TZNAME:CST
DTSTART:20241103T070000
END:STANDARD
BEGIN:DAYLIGHT
TZOFFSETFROM:-0600
TZOFFSETTO:-0500
TZNAME:CDT
DTSTART:20250309T080000
END:DAYLIGHT
BEGIN:STANDARD
TZOFFSETFROM:-0500
TZOFFSETTO:-0600
TZNAME:CST
DTSTART:20251102T070000
END:STANDARD
END:VTIMEZONE
BEGIN:VEVENT
DTSTART;TZID=America/Chicago:20241111T153000
DTEND;TZID=America/Chicago:20241111T170000
DTSTAMP:20260424T144256
CREATED:20241106T192757Z
LAST-MODIFIED:20241106T192758Z
UID:2757-1731339000-1731344400@www.faithhomewood.org
SUMMARY:Cooking for PADS
DESCRIPTION:Once a month we cook for homeless guests of PADS. This month please consider contributing needed ingredients to help in our efforts. please check the list on the church office window or call the office at 708-799-1160 for specific information. We’re thankful for Lee Brauer who heads this ministry\, and she can be reached at 708-769-3432
URL:https://www.faithhomewood.org/event/cooking-for-pads/
LOCATION:Faith Lutheran of Homewood IL\, 18645 Dixie Highway\, Homewood\, IL\, 60430\, United States
END:VEVENT
END:VCALENDAR