BEGIN:VCALENDAR
VERSION:2.0
PRODID:-//Faith Lutheran of Homewood, IL - ECPv6.15.20//NONSGML v1.0//EN
CALSCALE:GREGORIAN
METHOD:PUBLISH
X-WR-CALNAME:Faith Lutheran of Homewood, IL
X-ORIGINAL-URL:https://www.faithhomewood.org
X-WR-CALDESC:Events for Faith Lutheran of Homewood, IL
REFRESH-INTERVAL;VALUE=DURATION:PT1H
X-Robots-Tag:noindex
X-PUBLISHED-TTL:PT1H
BEGIN:VTIMEZONE
TZID:America/Chicago
BEGIN:DAYLIGHT
TZOFFSETFROM:-0600
TZOFFSETTO:-0500
TZNAME:CDT
DTSTART:20240310T080000
END:DAYLIGHT
BEGIN:STANDARD
TZOFFSETFROM:-0500
TZOFFSETTO:-0600
TZNAME:CST
DTSTART:20241103T070000
END:STANDARD
BEGIN:DAYLIGHT
TZOFFSETFROM:-0600
TZOFFSETTO:-0500
TZNAME:CDT
DTSTART:20250309T080000
END:DAYLIGHT
BEGIN:STANDARD
TZOFFSETFROM:-0500
TZOFFSETTO:-0600
TZNAME:CST
DTSTART:20251102T070000
END:STANDARD
BEGIN:DAYLIGHT
TZOFFSETFROM:-0600
TZOFFSETTO:-0500
TZNAME:CDT
DTSTART:20260308T080000
END:DAYLIGHT
BEGIN:STANDARD
TZOFFSETFROM:-0500
TZOFFSETTO:-0600
TZNAME:CST
DTSTART:20261101T070000
END:STANDARD
END:VTIMEZONE
BEGIN:VEVENT
DTSTART;TZID=America/Chicago:20250223T103000
DTEND;TZID=America/Chicago:20250223T113000
DTSTAMP:20260424T083422
CREATED:20241127T001154Z
LAST-MODIFIED:20241127T001155Z
UID:2795-1740306600-1740310200@www.faithhomewood.org
SUMMARY:Worship Service
DESCRIPTION:Please join us for our weekly Sunday worship. Past services can be viewed via our YouTube channel.
URL:https://www.faithhomewood.org/event/worship-service-49/
LOCATION:Faith Lutheran of Homewood IL\, 18645 Dixie Highway\, Homewood\, IL\, 60430\, United States
END:VEVENT
BEGIN:VEVENT
DTSTART;TZID=America/Chicago:20250223T113000
DTEND;TZID=America/Chicago:20250223T130000
DTSTAMP:20260424T083422
CREATED:20250124T201826Z
LAST-MODIFIED:20250124T201827Z
UID:2945-1740310200-1740315600@www.faithhomewood.org
SUMMARY:Annual Meeting
DESCRIPTION:
URL:https://www.faithhomewood.org/event/annual-meeting/
LOCATION:IL
END:VEVENT
END:VCALENDAR