BEGIN:VCALENDAR
VERSION:2.0
PRODID:-//Faith Lutheran of Homewood, IL - ECPv6.15.20//NONSGML v1.0//EN
CALSCALE:GREGORIAN
METHOD:PUBLISH
X-ORIGINAL-URL:https://www.faithhomewood.org
X-WR-CALDESC:Events for Faith Lutheran of Homewood, IL
REFRESH-INTERVAL;VALUE=DURATION:PT1H
X-Robots-Tag:noindex
X-PUBLISHED-TTL:PT1H
BEGIN:VTIMEZONE
TZID:America/Chicago
BEGIN:DAYLIGHT
TZOFFSETFROM:-0600
TZOFFSETTO:-0500
TZNAME:CDT
DTSTART:20240310T080000
END:DAYLIGHT
BEGIN:STANDARD
TZOFFSETFROM:-0500
TZOFFSETTO:-0600
TZNAME:CST
DTSTART:20241103T070000
END:STANDARD
BEGIN:DAYLIGHT
TZOFFSETFROM:-0600
TZOFFSETTO:-0500
TZNAME:CDT
DTSTART:20250309T080000
END:DAYLIGHT
BEGIN:STANDARD
TZOFFSETFROM:-0500
TZOFFSETTO:-0600
TZNAME:CST
DTSTART:20251102T070000
END:STANDARD
BEGIN:DAYLIGHT
TZOFFSETFROM:-0600
TZOFFSETTO:-0500
TZNAME:CDT
DTSTART:20260308T080000
END:DAYLIGHT
BEGIN:STANDARD
TZOFFSETFROM:-0500
TZOFFSETTO:-0600
TZNAME:CST
DTSTART:20261101T070000
END:STANDARD
END:VTIMEZONE
BEGIN:VEVENT
DTSTART;TZID=America/Chicago:20250528T140000
DTEND;TZID=America/Chicago:20250528T160000
DTSTAMP:20260424T053452
CREATED:20250524T201600Z
LAST-MODIFIED:20250524T201601Z
UID:3196-1748440800-1748448000@www.faithhomewood.org
SUMMARY:Visitation - Beth Wierczbicki
DESCRIPTION:Beth Wierzbicki of our community died last week. You may remember Beth from her involvement in contemporary worship music. Services for Beth will be held on Wednesday\, May 28th. Visitation will be held from 2:00 pm – 4:00 pm\, and the funeral will start at 4:00 pm.
URL:https://www.faithhomewood.org/event/visitation-beth-wierczbicki/
LOCATION:Faith Lutheran of Homewood IL\, 18645 Dixie Highway\, Homewood\, IL\, 60430\, United States
END:VEVENT
BEGIN:VEVENT
DTSTART;TZID=America/Chicago:20250528T160000
DTEND;TZID=America/Chicago:20250528T170000
DTSTAMP:20260424T053452
CREATED:20250524T201711Z
LAST-MODIFIED:20250524T201712Z
UID:3198-1748448000-1748451600@www.faithhomewood.org
SUMMARY:Funeral Services - Beth Wierczbicki
DESCRIPTION:Beth Wierzbicki of our community died last week. You may remember Beth from her involvement in contemporary worship music. Services for Beth will be held on Wednesday\, May 28th. Visitation will be held from 2:00 pm – 4:00 pm\, and the funeral will start at 4:00 pm.
URL:https://www.faithhomewood.org/event/funeral-services-beth-wierczbicki/
LOCATION:Faith Lutheran of Homewood IL\, 18645 Dixie Highway\, Homewood\, IL\, 60430\, United States
END:VEVENT
END:VCALENDAR