BEGIN:VCALENDAR
VERSION:2.0
PRODID:-//Faith Lutheran of Homewood, IL - ECPv6.15.20//NONSGML v1.0//EN
CALSCALE:GREGORIAN
METHOD:PUBLISH
X-WR-CALNAME:Faith Lutheran of Homewood, IL
X-ORIGINAL-URL:https://www.faithhomewood.org
X-WR-CALDESC:Events for Faith Lutheran of Homewood, IL
REFRESH-INTERVAL;VALUE=DURATION:PT1H
X-Robots-Tag:noindex
X-PUBLISHED-TTL:PT1H
BEGIN:VTIMEZONE
TZID:America/Chicago
BEGIN:DAYLIGHT
TZOFFSETFROM:-0600
TZOFFSETTO:-0500
TZNAME:CDT
DTSTART:20240310T080000
END:DAYLIGHT
BEGIN:STANDARD
TZOFFSETFROM:-0500
TZOFFSETTO:-0600
TZNAME:CST
DTSTART:20241103T070000
END:STANDARD
BEGIN:DAYLIGHT
TZOFFSETFROM:-0600
TZOFFSETTO:-0500
TZNAME:CDT
DTSTART:20250309T080000
END:DAYLIGHT
BEGIN:STANDARD
TZOFFSETFROM:-0500
TZOFFSETTO:-0600
TZNAME:CST
DTSTART:20251102T070000
END:STANDARD
BEGIN:DAYLIGHT
TZOFFSETFROM:-0600
TZOFFSETTO:-0500
TZNAME:CDT
DTSTART:20260308T080000
END:DAYLIGHT
BEGIN:STANDARD
TZOFFSETFROM:-0500
TZOFFSETTO:-0600
TZNAME:CST
DTSTART:20261101T070000
END:STANDARD
END:VTIMEZONE
BEGIN:VEVENT
DTSTART;TZID=America/Chicago:20250610T090000
DTEND;TZID=America/Chicago:20250610T120000
DTSTAMP:20260424T035428
CREATED:20250128T203818Z
LAST-MODIFIED:20250128T203818Z
UID:2951-1749546000-1749556800@www.faithhomewood.org
SUMMARY:Vacation Bible School 2025
DESCRIPTION:(More Information Coming – Watch This Space!)  \n\n\n\nSign children up by completing the online Registration form by Sunday\, May 12th (or mail or drop off a paper form) at the church building no later than Sunday\, May 19th. We welcome your child/children and their friends ages 3 years old through completing 5th grade this June. (Though there is no charge for this program\, donations are appreciated). \n\n\n\nIf you have older children who will have completed 6th grade through high school & college age who want to participate in a leadership capacity\, please fill out the enclosed Crew Leader/Helper form. Also\, return these by May 12th as we will order t-shirts for leaders. \n\n\n\nAdults are welcome and needed as well! If you are interested in helping with this adventure\, please call Janet Daley\, VBS Director\, at 708-912-1940. \n\n\n\nWe look forward to seeing you and your children during this always fun and uplifting week! You may mail the forms to the address above or drop them off at the church office (north side of the building) Monday through Friday 9 a.m. – noon. Of course\, we are always open on Sunday mornings! \n\n\n\nIf you have any questions\, please call Janet Daley at (708) 912-1940 or the church office at (708) 799-1160
URL:https://www.faithhomewood.org/event/vacation-bible-school-2025-5/
LOCATION:Faith Lutheran of Homewood IL\, 18645 Dixie Highway\, Homewood\, IL\, 60430\, United States
END:VEVENT
END:VCALENDAR