BEGIN:VCALENDAR
VERSION:2.0
PRODID:-//Faith Lutheran of Homewood, IL - ECPv6.15.20//NONSGML v1.0//EN
CALSCALE:GREGORIAN
METHOD:PUBLISH
X-WR-CALNAME:Faith Lutheran of Homewood, IL
X-ORIGINAL-URL:https://www.faithhomewood.org
X-WR-CALDESC:Events for Faith Lutheran of Homewood, IL
REFRESH-INTERVAL;VALUE=DURATION:PT1H
X-Robots-Tag:noindex
X-PUBLISHED-TTL:PT1H
BEGIN:VTIMEZONE
TZID:America/Chicago
BEGIN:DAYLIGHT
TZOFFSETFROM:-0600
TZOFFSETTO:-0500
TZNAME:CDT
DTSTART:20240310T080000
END:DAYLIGHT
BEGIN:STANDARD
TZOFFSETFROM:-0500
TZOFFSETTO:-0600
TZNAME:CST
DTSTART:20241103T070000
END:STANDARD
BEGIN:DAYLIGHT
TZOFFSETFROM:-0600
TZOFFSETTO:-0500
TZNAME:CDT
DTSTART:20250309T080000
END:DAYLIGHT
BEGIN:STANDARD
TZOFFSETFROM:-0500
TZOFFSETTO:-0600
TZNAME:CST
DTSTART:20251102T070000
END:STANDARD
BEGIN:DAYLIGHT
TZOFFSETFROM:-0600
TZOFFSETTO:-0500
TZNAME:CDT
DTSTART:20260308T080000
END:DAYLIGHT
BEGIN:STANDARD
TZOFFSETFROM:-0500
TZOFFSETTO:-0600
TZNAME:CST
DTSTART:20261101T070000
END:STANDARD
END:VTIMEZONE
BEGIN:VEVENT
DTSTART;TZID=America/Chicago:20250622T093000
DTEND;TZID=America/Chicago:20250622T103000
DTSTAMP:20260424T035449
CREATED:20250212T200940Z
LAST-MODIFIED:20250212T200941Z
UID:2983-1750584600-1750588200@www.faithhomewood.org
SUMMARY:Worship Service
DESCRIPTION:Please join us for our weekly Sunday worship. Past services can be viewed via our YouTube channel.
URL:https://www.faithhomewood.org/event/worship-service-65/
LOCATION:Faith Lutheran of Homewood IL\, 18645 Dixie Highway\, Homewood\, IL\, 60430\, United States
END:VEVENT
BEGIN:VEVENT
DTSTART;TZID=America/Chicago:20250622T110000
DTEND;TZID=America/Chicago:20250622T123000
DTSTAMP:20260424T035449
CREATED:20250618T170216Z
LAST-MODIFIED:20250618T170217Z
UID:3227-1750590000-1750595400@www.faithhomewood.org
SUMMARY:Fill A Dumpster Party
DESCRIPTION:The basement has been made new! Many thanks to Matt Beal and his crew\, whose hard work made it beautiful. Take a look if you haven’t already! While we have a dumpster\, we’re taking advantage to fill it. \n\n\n\nWear your old clothes and help us clean out on Friday\, June 20th\, at 6:30 pm or Sunday\, June 22nd\, after worship (about 11 am). We can get a lot done in an hour together\, so we hope you can join us!
URL:https://www.faithhomewood.org/event/fill-a-dumpster-party-2/
LOCATION:Faith Lutheran of Homewood IL\, 18645 Dixie Highway\, Homewood\, IL\, 60430\, United States
END:VEVENT
END:VCALENDAR