BEGIN:VCALENDAR
VERSION:2.0
PRODID:-//Faith Lutheran of Homewood, IL - ECPv6.15.20//NONSGML v1.0//EN
CALSCALE:GREGORIAN
METHOD:PUBLISH
X-WR-CALNAME:Faith Lutheran of Homewood, IL
X-ORIGINAL-URL:https://www.faithhomewood.org
X-WR-CALDESC:Events for Faith Lutheran of Homewood, IL
REFRESH-INTERVAL;VALUE=DURATION:PT1H
X-Robots-Tag:noindex
X-PUBLISHED-TTL:PT1H
BEGIN:VTIMEZONE
TZID:America/Chicago
BEGIN:DAYLIGHT
TZOFFSETFROM:-0600
TZOFFSETTO:-0500
TZNAME:CDT
DTSTART:20240310T080000
END:DAYLIGHT
BEGIN:STANDARD
TZOFFSETFROM:-0500
TZOFFSETTO:-0600
TZNAME:CST
DTSTART:20241103T070000
END:STANDARD
BEGIN:DAYLIGHT
TZOFFSETFROM:-0600
TZOFFSETTO:-0500
TZNAME:CDT
DTSTART:20250309T080000
END:DAYLIGHT
BEGIN:STANDARD
TZOFFSETFROM:-0500
TZOFFSETTO:-0600
TZNAME:CST
DTSTART:20251102T070000
END:STANDARD
BEGIN:DAYLIGHT
TZOFFSETFROM:-0600
TZOFFSETTO:-0500
TZNAME:CDT
DTSTART:20260308T080000
END:DAYLIGHT
BEGIN:STANDARD
TZOFFSETFROM:-0500
TZOFFSETTO:-0600
TZNAME:CST
DTSTART:20261101T070000
END:STANDARD
END:VTIMEZONE
BEGIN:VEVENT
DTSTART;TZID=America/Chicago:20250921T091500
DTEND;TZID=America/Chicago:20250921T101500
DTSTAMP:20260423T232103
CREATED:20250830T182951Z
LAST-MODIFIED:20250903T171217Z
UID:3634-1758446100-1758449700@www.faithhomewood.org
SUMMARY:Preaching Series: Mental Health & Faith
DESCRIPTION:“Anxiety is a lot like a toddler.  It never stops talking\, tells you you’re wrong about everything\, even wakes you up at 3 am.”  – Anonymous \n\n\n\nFor many people\, the voice of anxiety is a daily and personal struggle. We hear it when we watch the news\, when life escapes our control\, and even in the day-to-day.  We will discover resources in our community and congregation that support health and healing\, and learn spiritual practices that help us to look to God as we navigate life together.
URL:https://www.faithhomewood.org/event/preaching-series-mental-health-faith/
LOCATION:Faith Lutheran of Homewood IL\, 18645 Dixie Highway\, Homewood\, IL\, 60430\, United States
END:VEVENT
BEGIN:VEVENT
DTSTART;TZID=America/Chicago:20250921T103000
DTEND;TZID=America/Chicago:20250921T113000
DTSTAMP:20260423T232103
CREATED:20250830T182212Z
LAST-MODIFIED:20250830T182213Z
UID:3611-1758450600-1758454200@www.faithhomewood.org
SUMMARY:Worship Service
DESCRIPTION:Please join us for our weekly Sunday worship. Past services can be viewed via our YouTube channel.
URL:https://www.faithhomewood.org/event/worship-service-79/
LOCATION:Faith Lutheran of Homewood IL\, 18645 Dixie Highway\, Homewood\, IL\, 60430\, United States
END:VEVENT
BEGIN:VEVENT
DTSTART;TZID=America/Chicago:20250921T114500
DTEND;TZID=America/Chicago:20250921T130000
DTSTAMP:20260423T232103
CREATED:20250830T182834Z
LAST-MODIFIED:20250903T172219Z
UID:3631-1758455100-1758459600@www.faithhomewood.org
SUMMARY:Potluck After Worship
DESCRIPTION:Please join us for our potluck after worship (which will start around 11:45 am). If your last name begins with A-L\, please bring a side dish; last names beginning with M-Z\, please bring a dessert. Hope to see you there!
URL:https://www.faithhomewood.org/event/potluck-after-worship/
LOCATION:Faith Lutheran of Homewood IL\, 18645 Dixie Highway\, Homewood\, IL\, 60430\, United States
END:VEVENT
END:VCALENDAR