BEGIN:VCALENDAR
VERSION:2.0
PRODID:-//Faith Lutheran of Homewood, IL - ECPv6.15.20//NONSGML v1.0//EN
CALSCALE:GREGORIAN
METHOD:PUBLISH
X-WR-CALNAME:Faith Lutheran of Homewood, IL
X-ORIGINAL-URL:https://www.faithhomewood.org
X-WR-CALDESC:Events for Faith Lutheran of Homewood, IL
REFRESH-INTERVAL;VALUE=DURATION:PT1H
X-Robots-Tag:noindex
X-PUBLISHED-TTL:PT1H
BEGIN:VTIMEZONE
TZID:America/Chicago
BEGIN:DAYLIGHT
TZOFFSETFROM:-0600
TZOFFSETTO:-0500
TZNAME:CDT
DTSTART:20240310T080000
END:DAYLIGHT
BEGIN:STANDARD
TZOFFSETFROM:-0500
TZOFFSETTO:-0600
TZNAME:CST
DTSTART:20241103T070000
END:STANDARD
BEGIN:DAYLIGHT
TZOFFSETFROM:-0600
TZOFFSETTO:-0500
TZNAME:CDT
DTSTART:20250309T080000
END:DAYLIGHT
BEGIN:STANDARD
TZOFFSETFROM:-0500
TZOFFSETTO:-0600
TZNAME:CST
DTSTART:20251102T070000
END:STANDARD
BEGIN:DAYLIGHT
TZOFFSETFROM:-0600
TZOFFSETTO:-0500
TZNAME:CDT
DTSTART:20260308T080000
END:DAYLIGHT
BEGIN:STANDARD
TZOFFSETFROM:-0500
TZOFFSETTO:-0600
TZNAME:CST
DTSTART:20261101T070000
END:STANDARD
END:VTIMEZONE
BEGIN:VEVENT
DTSTART;TZID=America/Chicago:20250928T091500
DTEND;TZID=America/Chicago:20250928T101500
DTSTAMP:20260423T214243
CREATED:20250830T183039Z
LAST-MODIFIED:20250910T212453Z
UID:3637-1759050900-1759054500@www.faithhomewood.org
SUMMARY:God’s Peace in Our Minds: Breaking the Silence on Mental Health
DESCRIPTION:Too often\, conversations about mental health are hidden in the shadows—even in the church. Join us as Danielle Sheree Brown\, a mental health first aide instructor\,  shares part of her personal journey of faith and mental health\, offering hope\, understanding\, and biblical truth\, and invites you to break the silence too. We can incorporate faith and mental health care and discover how God’s peace meets us right where we are.  
URL:https://www.faithhomewood.org/event/preaching-series-mental-health-faith-2/
LOCATION:Faith Lutheran of Homewood IL\, 18645 Dixie Highway\, Homewood\, IL\, 60430\, United States
END:VEVENT
BEGIN:VEVENT
DTSTART;TZID=America/Chicago:20250928T103000
DTEND;TZID=America/Chicago:20250928T113000
DTSTAMP:20260423T214243
CREATED:20250830T182232Z
LAST-MODIFIED:20250830T182232Z
UID:3610-1759055400-1759059000@www.faithhomewood.org
SUMMARY:Worship Service
DESCRIPTION:Please join us for our weekly Sunday worship. Past services can be viewed via our YouTube channel.
URL:https://www.faithhomewood.org/event/worship-service-80/
LOCATION:Faith Lutheran of Homewood IL\, 18645 Dixie Highway\, Homewood\, IL\, 60430\, United States
END:VEVENT
END:VCALENDAR