BEGIN:VCALENDAR
VERSION:2.0
PRODID:-//Faith Lutheran of Homewood, IL - ECPv6.15.20//NONSGML v1.0//EN
CALSCALE:GREGORIAN
METHOD:PUBLISH
X-WR-CALNAME:Faith Lutheran of Homewood, IL
X-ORIGINAL-URL:https://www.faithhomewood.org
X-WR-CALDESC:Events for Faith Lutheran of Homewood, IL
REFRESH-INTERVAL;VALUE=DURATION:PT1H
X-Robots-Tag:noindex
X-PUBLISHED-TTL:PT1H
BEGIN:VTIMEZONE
TZID:America/Chicago
BEGIN:DAYLIGHT
TZOFFSETFROM:-0600
TZOFFSETTO:-0500
TZNAME:CDT
DTSTART:20250309T080000
END:DAYLIGHT
BEGIN:STANDARD
TZOFFSETFROM:-0500
TZOFFSETTO:-0600
TZNAME:CST
DTSTART:20251102T070000
END:STANDARD
BEGIN:DAYLIGHT
TZOFFSETFROM:-0600
TZOFFSETTO:-0500
TZNAME:CDT
DTSTART:20260308T080000
END:DAYLIGHT
BEGIN:STANDARD
TZOFFSETFROM:-0500
TZOFFSETTO:-0600
TZNAME:CST
DTSTART:20261101T070000
END:STANDARD
BEGIN:DAYLIGHT
TZOFFSETFROM:-0600
TZOFFSETTO:-0500
TZNAME:CDT
DTSTART:20270314T080000
END:DAYLIGHT
BEGIN:STANDARD
TZOFFSETFROM:-0500
TZOFFSETTO:-0600
TZNAME:CST
DTSTART:20271107T070000
END:STANDARD
END:VTIMEZONE
BEGIN:VEVENT
DTSTART;TZID=America/Chicago:20260304T180000
DTEND;TZID=America/Chicago:20260304T200000
DTSTAMP:20260423T155813
CREATED:20260219T135226Z
LAST-MODIFIED:20260219T135227Z
UID:4221-1772647200-1772654400@www.faithhomewood.org
SUMMARY:Lenten Soup Supper/Worship
DESCRIPTION:On Wednesday\, March 4th\, we will hold a Lenten Soup Supper and worship. Soup and bread will be served from 6:00 pm to 6:45 pm\, with worship starting at 7:00 pm. Sign-up forms for the soup supper will be posted on the office window.
URL:https://www.faithhomewood.org/event/lenten-soup-supper-worship/
LOCATION:Faith Lutheran of Homewood IL\, 18645 Dixie Highway\, Homewood\, IL\, 60430\, United States
END:VEVENT
BEGIN:VEVENT
DTSTART;TZID=America/Chicago:20260307T090000
DTEND;TZID=America/Chicago:20260307T100000
DTSTAMP:20260423T155813
CREATED:20260113T145554Z
LAST-MODIFIED:20260113T145555Z
UID:4133-1772874000-1772877600@www.faithhomewood.org
SUMMARY:Altar Setup
DESCRIPTION:We encourage potential volunteers to assist in altar setup for our Sunday worship services for fellowship\, camaraderie\, and inspiration.
URL:https://www.faithhomewood.org/event/altar-setup-107/
LOCATION:Faith Lutheran of Homewood IL\, 18645 Dixie Highway\, Homewood\, IL\, 60430\, United States
END:VEVENT
BEGIN:VEVENT
DTSTART;TZID=America/Chicago:20260310T190000
DTEND;TZID=America/Chicago:20260310T200000
DTSTAMP:20260423T155813
CREATED:20260305T143703Z
LAST-MODIFIED:20260305T143704Z
UID:4249-1773169200-1773172800@www.faithhomewood.org
SUMMARY:Property Team Meeting
DESCRIPTION:
URL:https://www.faithhomewood.org/event/property-team-meeting/
LOCATION:Faith Lutheran of Homewood IL\, 18645 Dixie Highway\, Homewood\, IL\, 60430\, United States
END:VEVENT
BEGIN:VEVENT
DTSTART;TZID=America/Chicago:20260314T090000
DTEND;TZID=America/Chicago:20260314T100000
DTSTAMP:20260423T155813
CREATED:20260113T145619Z
LAST-MODIFIED:20260113T145619Z
UID:4132-1773478800-1773482400@www.faithhomewood.org
SUMMARY:Altar Setup
DESCRIPTION:We encourage potential volunteers to assist in altar setup for our Sunday worship services for fellowship\, camaraderie\, and inspiration.
URL:https://www.faithhomewood.org/event/altar-setup-108/
LOCATION:Faith Lutheran of Homewood IL\, 18645 Dixie Highway\, Homewood\, IL\, 60430\, United States
END:VEVENT
BEGIN:VEVENT
DTSTART;TZID=America/Chicago:20260315T103000
DTEND;TZID=America/Chicago:20260315T113000
DTSTAMP:20260423T155813
CREATED:20260113T145255Z
LAST-MODIFIED:20260113T145256Z
UID:4142-1773570600-1773574200@www.faithhomewood.org
SUMMARY:Worship Service
DESCRIPTION:Please join us for our weekly Sunday worship. Past services can be viewed via our YouTube channel.
URL:https://www.faithhomewood.org/event/worship-service-104/
LOCATION:Faith Lutheran of Homewood IL\, 18645 Dixie Highway\, Homewood\, IL\, 60430\, United States
END:VEVENT
BEGIN:VEVENT
DTSTART;TZID=America/Chicago:20260315T103000
DTEND;TZID=America/Chicago:20260315T113000
DTSTAMP:20260423T155813
CREATED:20260305T145100Z
LAST-MODIFIED:20260305T145100Z
UID:4266-1773570600-1773574200@www.faithhomewood.org
SUMMARY:Paster Amy at Jubilee; CC Hills and Pastor Ellie Dowd at Faith
DESCRIPTION:Please join us for our weekly Sunday worship. Past services can be viewed via our YouTube channel.
URL:https://www.faithhomewood.org/event/paster-amy-at-jubilee-cc-hills-and-pastor-ellie-dowd-at-faith/
LOCATION:Faith Lutheran of Homewood IL\, 18645 Dixie Highway\, Homewood\, IL\, 60430\, United States
END:VEVENT
BEGIN:VEVENT
DTSTART;TZID=America/Chicago:20260317T130000
DTEND;TZID=America/Chicago:20260317T143000
DTSTAMP:20260423T155813
CREATED:20260305T144419Z
LAST-MODIFIED:20260305T144526Z
UID:4257-1773752400-1773757800@www.faithhomewood.org
SUMMARY:Altar Guild Meeting
DESCRIPTION:
URL:https://www.faithhomewood.org/event/altar-guild-meeting/
LOCATION:Faith Lutheran of Homewood IL\, 18645 Dixie Highway\, Homewood\, IL\, 60430\, United States
END:VEVENT
BEGIN:VEVENT
DTSTART;TZID=America/Chicago:20260317T190000
DTEND;TZID=America/Chicago:20260317T203000
DTSTAMP:20260423T155813
CREATED:20260305T144623Z
LAST-MODIFIED:20260305T144624Z
UID:4258-1773774000-1773779400@www.faithhomewood.org
SUMMARY:Council Meeting
DESCRIPTION:
URL:https://www.faithhomewood.org/event/council-meeting/
LOCATION:Faith Lutheran of Homewood IL\, 18645 Dixie Highway\, Homewood\, IL\, 60430\, United States
END:VEVENT
BEGIN:VEVENT
DTSTART;TZID=America/Chicago:20260321T090000
DTEND;TZID=America/Chicago:20260321T100000
DTSTAMP:20260423T155813
CREATED:20260113T145646Z
LAST-MODIFIED:20260113T145646Z
UID:4131-1774083600-1774087200@www.faithhomewood.org
SUMMARY:Altar Setup
DESCRIPTION:We encourage potential volunteers to assist in altar setup for our Sunday worship services for fellowship\, camaraderie\, and inspiration.
URL:https://www.faithhomewood.org/event/altar-setup-109/
LOCATION:Faith Lutheran of Homewood IL\, 18645 Dixie Highway\, Homewood\, IL\, 60430\, United States
END:VEVENT
BEGIN:VEVENT
DTSTART;TZID=America/Chicago:20260322T103000
DTEND;TZID=America/Chicago:20260322T113000
DTSTAMP:20260423T155813
CREATED:20260113T145315Z
LAST-MODIFIED:20260113T145316Z
UID:4139-1774175400-1774179000@www.faithhomewood.org
SUMMARY:Worship Service
DESCRIPTION:Please join us for our weekly Sunday worship. Past services can be viewed via our YouTube channel.
URL:https://www.faithhomewood.org/event/worship-service-105/
LOCATION:Faith Lutheran of Homewood IL\, 18645 Dixie Highway\, Homewood\, IL\, 60430\, United States
END:VEVENT
BEGIN:VEVENT
DTSTART;TZID=America/Chicago:20260324T080000
DTEND;TZID=America/Chicago:20260324T130000
DTSTAMP:20260423T155813
CREATED:20260305T144913Z
LAST-MODIFIED:20260305T144914Z
UID:4256-1774339200-1774357200@www.faithhomewood.org
SUMMARY:Messy Church Day (Chicago)
DESCRIPTION:
URL:https://www.faithhomewood.org/event/messy-church-day-chicago/
LOCATION:Faith Lutheran of Homewood IL\, 18645 Dixie Highway\, Homewood\, IL\, 60430\, United States
END:VEVENT
BEGIN:VEVENT
DTSTART;TZID=America/Chicago:20260324T114500
DTEND;TZID=America/Chicago:20260324T130000
DTSTAMP:20260423T155813
CREATED:20260305T143826Z
LAST-MODIFIED:20260305T144143Z
UID:4252-1774352700-1774357200@www.faithhomewood.org
SUMMARY:Environmental Team Meeting
DESCRIPTION:
URL:https://www.faithhomewood.org/event/environmental-team-meeting/
LOCATION:Faith Lutheran of Homewood IL\, 18645 Dixie Highway\, Homewood\, IL\, 60430\, United States
END:VEVENT
BEGIN:VEVENT
DTSTART;TZID=America/Chicago:20260324T190000
DTEND;TZID=America/Chicago:20260324T200000
DTSTAMP:20260423T155813
CREATED:20260305T143952Z
LAST-MODIFIED:20260305T143953Z
UID:4251-1774378800-1774382400@www.faithhomewood.org
SUMMARY:LGTBQIA+ Team Meeting
DESCRIPTION:
URL:https://www.faithhomewood.org/event/lgtbqia-team-meeting/
LOCATION:Faith Lutheran of Homewood IL\, 18645 Dixie Highway\, Homewood\, IL\, 60430\, United States
END:VEVENT
BEGIN:VEVENT
DTSTART;TZID=America/Chicago:20260325T130000
DTEND;TZID=America/Chicago:20260325T140000
DTSTAMP:20260423T155813
CREATED:20260323T131506Z
LAST-MODIFIED:20260323T131506Z
UID:4277-1774443600-1774447200@www.faithhomewood.org
SUMMARY:Bible Scripture Sharing
DESCRIPTION:
URL:https://www.faithhomewood.org/event/bible-scripture-sharing-2/
LOCATION:Faith Lutheran of Homewood IL\, 18645 Dixie Highway\, Homewood\, IL\, 60430\, United States
END:VEVENT
BEGIN:VEVENT
DTSTART;TZID=America/Chicago:20260328T090000
DTEND;TZID=America/Chicago:20260328T100000
DTSTAMP:20260423T155813
CREATED:20260113T145712Z
LAST-MODIFIED:20260113T145712Z
UID:4130-1774688400-1774692000@www.faithhomewood.org
SUMMARY:Altar Setup
DESCRIPTION:We encourage potential volunteers to assist in altar setup for our Sunday worship services for fellowship\, camaraderie\, and inspiration.
URL:https://www.faithhomewood.org/event/altar-setup-110/
LOCATION:Faith Lutheran of Homewood IL\, 18645 Dixie Highway\, Homewood\, IL\, 60430\, United States
END:VEVENT
BEGIN:VEVENT
DTSTART;TZID=America/Chicago:20260329T103000
DTEND;TZID=America/Chicago:20260329T113000
DTSTAMP:20260423T155813
CREATED:20260113T145340Z
LAST-MODIFIED:20260305T143545Z
UID:4137-1774780200-1774783800@www.faithhomewood.org
SUMMARY:Palm Sunday Worship Service
DESCRIPTION:Please join us for our weekly Sunday worship. Past services can be viewed via our YouTube channel.
URL:https://www.faithhomewood.org/event/worship-service-106/
LOCATION:Faith Lutheran of Homewood IL\, 18645 Dixie Highway\, Homewood\, IL\, 60430\, United States
END:VEVENT
BEGIN:VEVENT
DTSTART;TZID=America/Chicago:20260402T190000
DTEND;TZID=America/Chicago:20260402T200000
DTSTAMP:20260423T155813
CREATED:20260305T142905Z
LAST-MODIFIED:20260305T142905Z
UID:4231-1775156400-1775160000@www.faithhomewood.org
SUMMARY:Maundy Thursday Worship
DESCRIPTION:
URL:https://www.faithhomewood.org/event/maundy-thursday-worship-2/
LOCATION:Faith Lutheran of Homewood IL\, 18645 Dixie Highway\, Homewood\, IL\, 60430\, United States
END:VEVENT
BEGIN:VEVENT
DTSTART;TZID=America/Chicago:20260403T190000
DTEND;TZID=America/Chicago:20260403T200000
DTSTAMP:20260423T155813
CREATED:20260305T143022Z
LAST-MODIFIED:20260305T143023Z
UID:4233-1775242800-1775246400@www.faithhomewood.org
SUMMARY:Good Friday Worship
DESCRIPTION:
URL:https://www.faithhomewood.org/event/good-friday-worship-3/
LOCATION:Faith Lutheran of Homewood IL\, 18645 Dixie Highway\, Homewood\, IL\, 60430\, United States
END:VEVENT
BEGIN:VEVENT
DTSTART;TZID=America/Chicago:20260404T090000
DTEND;TZID=America/Chicago:20260404T100000
DTSTAMP:20260423T155813
CREATED:20260113T145737Z
LAST-MODIFIED:20260113T145738Z
UID:4129-1775293200-1775296800@www.faithhomewood.org
SUMMARY:Altar Setup
DESCRIPTION:We encourage potential volunteers to assist in altar setup for our Sunday worship services for fellowship\, camaraderie\, and inspiration.
URL:https://www.faithhomewood.org/event/altar-setup-111/
LOCATION:Faith Lutheran of Homewood IL\, 18645 Dixie Highway\, Homewood\, IL\, 60430\, United States
END:VEVENT
BEGIN:VEVENT
DTSTART;TZID=America/Chicago:20260405T103000
DTEND;TZID=America/Chicago:20260405T113000
DTSTAMP:20260423T155813
CREATED:20260113T145421Z
LAST-MODIFIED:20260113T145421Z
UID:4136-1775385000-1775388600@www.faithhomewood.org
SUMMARY:Worship Service
DESCRIPTION:Please join us for our weekly Sunday worship. Past services can be viewed via our YouTube channel.
URL:https://www.faithhomewood.org/event/worship-service-107/
LOCATION:Faith Lutheran of Homewood IL\, 18645 Dixie Highway\, Homewood\, IL\, 60430\, United States
END:VEVENT
BEGIN:VEVENT
DTSTART;TZID=America/Chicago:20260405T103000
DTEND;TZID=America/Chicago:20260405T113000
DTSTAMP:20260423T155813
CREATED:20260305T143110Z
LAST-MODIFIED:20260305T143110Z
UID:4235-1775385000-1775388600@www.faithhomewood.org
SUMMARY:Easter Sunday Worship
DESCRIPTION:
URL:https://www.faithhomewood.org/event/easter-sunday-worship/
LOCATION:Faith Lutheran of Homewood IL\, 18645 Dixie Highway\, Homewood\, IL\, 60430\, United States
END:VEVENT
BEGIN:VEVENT
DTSTART;TZID=America/Chicago:20260406T080000
DTEND;TZID=America/Chicago:20260406T170000
DTSTAMP:20260423T155813
CREATED:20260305T143237Z
LAST-MODIFIED:20260305T143237Z
UID:4238-1775462400-1775494800@www.faithhomewood.org
SUMMARY:Office Closed
DESCRIPTION:The Church Office will be closed on Monday\, April 6th\, in observance of the Easter holiday. \n\n\n\nWe will reopen at 9:00 am on Tuesday\, April 7th.
URL:https://www.faithhomewood.org/event/office-closed/
LOCATION:Faith Lutheran of Homewood IL\, 18645 Dixie Highway\, Homewood\, IL\, 60430\, United States
END:VEVENT
BEGIN:VEVENT
DTSTART;TZID=America/Chicago:20260408T130000
DTEND;TZID=America/Chicago:20260408T140000
DTSTAMP:20260423T155813
CREATED:20260323T131602Z
LAST-MODIFIED:20260323T131602Z
UID:4281-1775653200-1775656800@www.faithhomewood.org
SUMMARY:Bible Scripture Sharing
DESCRIPTION:
URL:https://www.faithhomewood.org/event/bible-scripture-sharing-15/
LOCATION:Faith Lutheran of Homewood IL\, 18645 Dixie Highway\, Homewood\, IL\, 60430\, United States
END:VEVENT
BEGIN:VEVENT
DTSTART;TZID=America/Chicago:20260411T090000
DTEND;TZID=America/Chicago:20260411T100000
DTSTAMP:20260423T155813
CREATED:20260113T145803Z
LAST-MODIFIED:20260113T145803Z
UID:4128-1775898000-1775901600@www.faithhomewood.org
SUMMARY:Altar Setup
DESCRIPTION:We encourage potential volunteers to assist in altar setup for our Sunday worship services for fellowship\, camaraderie\, and inspiration.
URL:https://www.faithhomewood.org/event/altar-setup-112/
LOCATION:Faith Lutheran of Homewood IL\, 18645 Dixie Highway\, Homewood\, IL\, 60430\, United States
END:VEVENT
BEGIN:VEVENT
DTSTART;TZID=America/Chicago:20260412T093000
DTEND;TZID=America/Chicago:20260412T103000
DTSTAMP:20260423T155813
CREATED:20260305T144751Z
LAST-MODIFIED:20260305T144751Z
UID:4237-1775986200-1775989800@www.faithhomewood.org
SUMMARY:Funeral/Memorial Planning
DESCRIPTION:
URL:https://www.faithhomewood.org/event/funeral-memorial-planning/
LOCATION:Faith Lutheran of Homewood IL\, 18645 Dixie Highway\, Homewood\, IL\, 60430\, United States
END:VEVENT
BEGIN:VEVENT
DTSTART;TZID=America/Chicago:20260412T103000
DTEND;TZID=America/Chicago:20260412T113000
DTSTAMP:20260423T155813
CREATED:20260113T145952Z
LAST-MODIFIED:20260113T145952Z
UID:4169-1775989800-1775993400@www.faithhomewood.org
SUMMARY:Worship Service
DESCRIPTION:Please join us for our weekly Sunday worship. Past services can be viewed via our YouTube channel.
URL:https://www.faithhomewood.org/event/worship-service-108/
LOCATION:Faith Lutheran of Homewood IL\, 18645 Dixie Highway\, Homewood\, IL\, 60430\, United States
END:VEVENT
BEGIN:VEVENT
DTSTART;TZID=America/Chicago:20260412T113000
DTEND;TZID=America/Chicago:20260412T123000
DTSTAMP:20260423T155813
CREATED:20260402T121904Z
LAST-MODIFIED:20260402T121905Z
UID:4329-1775993400-1775997000@www.faithhomewood.org
SUMMARY:Tech Booth Training
DESCRIPTION:Learn how to work sound and video in our tech booth for worship and other events. Join us on Sunday\, April 12th\, following worship for a lively session with Rob Travis.
URL:https://www.faithhomewood.org/event/tech-booth-training/
LOCATION:Faith Lutheran of Homewood IL\, 18645 Dixie Highway\, Homewood\, IL\, 60430\, United States
END:VEVENT
BEGIN:VEVENT
DTSTART;TZID=America/Chicago:20260415T130000
DTEND;TZID=America/Chicago:20260415T140000
DTSTAMP:20260423T155813
CREATED:20260323T131627Z
LAST-MODIFIED:20260323T131627Z
UID:4280-1776258000-1776261600@www.faithhomewood.org
SUMMARY:Bible Scripture Sharing
DESCRIPTION:
URL:https://www.faithhomewood.org/event/bible-scripture-sharing-16/
LOCATION:Faith Lutheran of Homewood IL\, 18645 Dixie Highway\, Homewood\, IL\, 60430\, United States
END:VEVENT
BEGIN:VEVENT
DTSTART;TZID=America/Chicago:20260418T090000
DTEND;TZID=America/Chicago:20260418T100000
DTSTAMP:20260423T155813
CREATED:20260113T145847Z
LAST-MODIFIED:20260113T145848Z
UID:4127-1776502800-1776506400@www.faithhomewood.org
SUMMARY:Altar Setup
DESCRIPTION:We encourage potential volunteers to assist in altar setup for our Sunday worship services for fellowship\, camaraderie\, and inspiration.
URL:https://www.faithhomewood.org/event/altar-setup-113/
LOCATION:Faith Lutheran of Homewood IL\, 18645 Dixie Highway\, Homewood\, IL\, 60430\, United States
END:VEVENT
BEGIN:VEVENT
DTSTART;TZID=America/Chicago:20260418T114500
DTEND;TZID=America/Chicago:20260418T130000
DTSTAMP:20260423T155813
CREATED:20260305T144834Z
LAST-MODIFIED:20260305T144834Z
UID:4255-1776512700-1776517200@www.faithhomewood.org
SUMMARY:Spring Cleaning Day
DESCRIPTION:
URL:https://www.faithhomewood.org/event/spring-cleaning-day/
LOCATION:Faith Lutheran of Homewood IL\, 18645 Dixie Highway\, Homewood\, IL\, 60430\, United States
END:VEVENT
END:VCALENDAR