BEGIN:VCALENDAR
VERSION:2.0
PRODID:-//Faith Lutheran of Homewood, IL - ECPv6.15.20//NONSGML v1.0//EN
CALSCALE:GREGORIAN
METHOD:PUBLISH
X-WR-CALNAME:Faith Lutheran of Homewood, IL
X-ORIGINAL-URL:https://www.faithhomewood.org
X-WR-CALDESC:Events for Faith Lutheran of Homewood, IL
REFRESH-INTERVAL;VALUE=DURATION:PT1H
X-Robots-Tag:noindex
X-PUBLISHED-TTL:PT1H
BEGIN:VTIMEZONE
TZID:America/Chicago
BEGIN:DAYLIGHT
TZOFFSETFROM:-0600
TZOFFSETTO:-0500
TZNAME:CDT
DTSTART:20230312T080000
END:DAYLIGHT
BEGIN:STANDARD
TZOFFSETFROM:-0500
TZOFFSETTO:-0600
TZNAME:CST
DTSTART:20231105T070000
END:STANDARD
BEGIN:DAYLIGHT
TZOFFSETFROM:-0600
TZOFFSETTO:-0500
TZNAME:CDT
DTSTART:20240310T080000
END:DAYLIGHT
BEGIN:STANDARD
TZOFFSETFROM:-0500
TZOFFSETTO:-0600
TZNAME:CST
DTSTART:20241103T070000
END:STANDARD
BEGIN:DAYLIGHT
TZOFFSETFROM:-0600
TZOFFSETTO:-0500
TZNAME:CDT
DTSTART:20250309T080000
END:DAYLIGHT
BEGIN:STANDARD
TZOFFSETFROM:-0500
TZOFFSETTO:-0600
TZNAME:CST
DTSTART:20251102T070000
END:STANDARD
BEGIN:DAYLIGHT
TZOFFSETFROM:-0600
TZOFFSETTO:-0500
TZNAME:CDT
DTSTART:20260308T080000
END:DAYLIGHT
BEGIN:STANDARD
TZOFFSETFROM:-0500
TZOFFSETTO:-0600
TZNAME:CST
DTSTART:20261101T070000
END:STANDARD
END:VTIMEZONE
BEGIN:VEVENT
DTSTART;TZID=America/Chicago:20240310T103000
DTEND;TZID=America/Chicago:20240310T113000
DTSTAMP:20260425T113837
CREATED:20240305T220049Z
LAST-MODIFIED:20240311T154856Z
UID:2031-1710066600-1710070200@www.faithhomewood.org
SUMMARY:Worship Service
DESCRIPTION:
URL:https://www.faithhomewood.org/event/worship-service/
LOCATION:IL
END:VEVENT
BEGIN:VEVENT
DTSTART;TZID=America/Chicago:20250126T113000
DTEND;TZID=America/Chicago:20250126T123000
DTSTAMP:20260425T113837
CREATED:20250123T135042Z
LAST-MODIFIED:20250123T135053Z
UID:2938-1737891000-1737894600@www.faithhomewood.org
SUMMARY:Widen the Welcome Q & A
DESCRIPTION:
URL:https://www.faithhomewood.org/event/widen-the-welcome-q-a-2/
LOCATION:Faith Lutheran of Homewood IL\, 18645 Dixie Highway\, Homewood\, IL\, 60430\, United States
END:VEVENT
BEGIN:VEVENT
DTSTART;TZID=America/Chicago:20240309T090000
DTEND;TZID=America/Chicago:20240309T100000
DTSTAMP:20260425T113837
CREATED:20240309T011252Z
LAST-MODIFIED:20240309T011253Z
UID:2074-1709974800-1709978400@www.faithhomewood.org
SUMMARY:Altar Setup
DESCRIPTION:
URL:https://www.faithhomewood.org/event/altar-setup/
LOCATION:IL
END:VEVENT
BEGIN:VEVENT
DTSTART;TZID=America/Chicago:20240308T183000
DTEND;TZID=America/Chicago:20240308T203000
DTSTAMP:20260425T113837
CREATED:20240305T220001Z
LAST-MODIFIED:20240311T154434Z
UID:2029-1709922600-1709929800@www.faithhomewood.org
SUMMARY:Trivia Night
DESCRIPTION:Join us for pizza\, beverages\, and trivia! \n\n\n\nSuggested donation $5 for individuals\, $20 for families \n\n\n\nPlease bring a 4 pack of toilet paper for Respond Now!
URL:https://www.faithhomewood.org/event/trivia-night/
LOCATION:IL
END:VEVENT
END:VCALENDAR