BEGIN:VCALENDAR
VERSION:2.0
PRODID:-//Faith Lutheran of Homewood, IL - ECPv6.15.20//NONSGML v1.0//EN
CALSCALE:GREGORIAN
METHOD:PUBLISH
X-WR-CALNAME:Faith Lutheran of Homewood, IL
X-ORIGINAL-URL:https://www.faithhomewood.org
X-WR-CALDESC:Events for Faith Lutheran of Homewood, IL
REFRESH-INTERVAL;VALUE=DURATION:PT1H
X-Robots-Tag:noindex
X-PUBLISHED-TTL:PT1H
BEGIN:VTIMEZONE
TZID:America/Chicago
BEGIN:DAYLIGHT
TZOFFSETFROM:-0600
TZOFFSETTO:-0500
TZNAME:CDT
DTSTART:20230312T080000
END:DAYLIGHT
BEGIN:STANDARD
TZOFFSETFROM:-0500
TZOFFSETTO:-0600
TZNAME:CST
DTSTART:20231105T070000
END:STANDARD
BEGIN:DAYLIGHT
TZOFFSETFROM:-0600
TZOFFSETTO:-0500
TZNAME:CDT
DTSTART:20240310T080000
END:DAYLIGHT
BEGIN:STANDARD
TZOFFSETFROM:-0500
TZOFFSETTO:-0600
TZNAME:CST
DTSTART:20241103T070000
END:STANDARD
BEGIN:DAYLIGHT
TZOFFSETFROM:-0600
TZOFFSETTO:-0500
TZNAME:CDT
DTSTART:20250309T080000
END:DAYLIGHT
BEGIN:STANDARD
TZOFFSETFROM:-0500
TZOFFSETTO:-0600
TZNAME:CST
DTSTART:20251102T070000
END:STANDARD
END:VTIMEZONE
BEGIN:VEVENT
DTSTART;TZID=America/Chicago:20240607T170000
DTEND;TZID=America/Chicago:20240607T210000
DTSTAMP:20260425T112005
CREATED:20240522T212200Z
LAST-MODIFIED:20240522T212331Z
UID:2611-1717779600-1717794000@www.faithhomewood.org
SUMMARY:Community Pride Party
DESCRIPTION:(A group from Faith will be attending – please join if you’re interested) \n\n\n\nThe community-wide pride celebration returns to Homewood’s Irwin Park on Friday\, June 7 from 5:00 pm to 9:00 pm. The free party includes live music by Six of Spades\, the Bel Canto Community Choir\, and Beyond the Blonde.  Food will be available for purchase. This event is sponsored the Villages of Flossmoor and Homewood and the Homewood-Flossmoor Park District.
URL:https://www.faithhomewood.org/event/community-pride-party/
LOCATION:Irwin Park\, 18120 S Highland Avenue\, Homewood\, Illinois\, 60430\, United States
END:VEVENT
BEGIN:VEVENT
DTSTART;TZID=America/Chicago:20240605T130000
DTEND;TZID=America/Chicago:20240605T140000
DTSTAMP:20260425T112005
CREATED:20240509T160159Z
LAST-MODIFIED:20240509T160200Z
UID:2477-1717592400-1717596000@www.faithhomewood.org
SUMMARY:Bible Study Group
DESCRIPTION:
URL:https://www.faithhomewood.org/event/bible-study-group-4/
LOCATION:Faith Lutheran of Homewood IL\, 18645 Dixie Highway\, Homewood\, IL\, 60430\, United States
END:VEVENT
BEGIN:VEVENT
DTSTART;TZID=America/Chicago:20240602T093000
DTEND;TZID=America/Chicago:20240602T103000
DTSTAMP:20260425T112005
CREATED:20240311T153359Z
LAST-MODIFIED:20240501T162819Z
UID:2136-1717320600-1717324200@www.faithhomewood.org
SUMMARY:Worship Service
DESCRIPTION:
URL:https://www.faithhomewood.org/event/worship-service-13/
LOCATION:Faith Lutheran of Homewood IL\, 18645 Dixie Highway\, Homewood\, IL\, 60430\, United States
END:VEVENT
BEGIN:VEVENT
DTSTART;TZID=America/Chicago:20240601T090000
DTEND;TZID=America/Chicago:20240601T100000
DTSTAMP:20260425T112005
CREATED:20240311T130326Z
LAST-MODIFIED:20240330T123119Z
UID:2126-1717232400-1717236000@www.faithhomewood.org
SUMMARY:Altar Setup
DESCRIPTION:
URL:https://www.faithhomewood.org/event/altar-setup-13/
LOCATION:Faith Lutheran of Homewood IL\, 18645 Dixie Highway\, Homewood\, IL\, 60430\, United States
END:VEVENT
BEGIN:VEVENT
DTSTART;TZID=America/Chicago:20240529T130000
DTEND;TZID=America/Chicago:20240529T140000
DTSTAMP:20260425T112005
CREATED:20240509T160026Z
LAST-MODIFIED:20240509T160129Z
UID:2475-1716987600-1716991200@www.faithhomewood.org
SUMMARY:Bible Study Group
DESCRIPTION:
URL:https://www.faithhomewood.org/event/bible-study-group-3/
LOCATION:Faith Lutheran of Homewood IL\, 18645 Dixie Highway\, Homewood\, IL\, 60430\, United States
END:VEVENT
BEGIN:VEVENT
DTSTART;TZID=America/Chicago:20240526T093000
DTEND;TZID=America/Chicago:20240526T103000
DTSTAMP:20260425T112005
CREATED:20240309T014248Z
LAST-MODIFIED:20240507T200626Z
UID:2098-1716715800-1716719400@www.faithhomewood.org
SUMMARY:Worship Service - Note New Start (9:30 am)
DESCRIPTION:On Sunday May 26 through Sunday September 1\, we gather for worship at 9:30m. We return to 10:30am worship on September 8.
URL:https://www.faithhomewood.org/event/worship-service-12/
LOCATION:Faith Lutheran of Homewood IL\, 18645 Dixie Highway\, Homewood\, IL\, 60430\, United States
END:VEVENT
BEGIN:VEVENT
DTSTART;TZID=America/Chicago:20240525T090000
DTEND;TZID=America/Chicago:20240525T103000
DTSTAMP:20260425T112005
CREATED:20240326T152433Z
LAST-MODIFIED:20240429T135351Z
UID:2253-1716627600-1716633000@www.faithhomewood.org
SUMMARY:A BIGGER TABLE by John Pavlovitz: In-Person Discussion
DESCRIPTION:Please join us for the final in-person discussion of John Pavlovitz’s excellent book A Bigger Table
URL:https://www.faithhomewood.org/event/a-bigger-table-by-john-pavlovitz-in-person-discussion-6/
LOCATION:Faith Lutheran of Homewood IL\, 18645 Dixie Highway\, Homewood\, IL\, 60430\, United States
END:VEVENT
BEGIN:VEVENT
DTSTART;TZID=America/Chicago:20240525T090000
DTEND;TZID=America/Chicago:20240525T100000
DTSTAMP:20260425T112005
CREATED:20240309T014951Z
LAST-MODIFIED:20240330T123056Z
UID:2111-1716627600-1716631200@www.faithhomewood.org
SUMMARY:Altar Setup
DESCRIPTION:
URL:https://www.faithhomewood.org/event/altar-setup-12/
LOCATION:Faith Lutheran of Homewood IL\, 18645 Dixie Highway\, Homewood\, IL\, 60430\, United States
END:VEVENT
BEGIN:VEVENT
DTSTART;TZID=America/Chicago:20240522T130000
DTEND;TZID=America/Chicago:20240522T140000
DTSTAMP:20260425T112005
CREATED:20240509T160020Z
LAST-MODIFIED:20240509T160020Z
UID:2476-1716382800-1716386400@www.faithhomewood.org
SUMMARY:Bible Study Group
DESCRIPTION:
URL:https://www.faithhomewood.org/event/bible-study-group-2/
LOCATION:Faith Lutheran of Homewood IL\, 18645 Dixie Highway\, Homewood\, IL\, 60430\, United States
END:VEVENT
BEGIN:VEVENT
DTSTART;TZID=America/Chicago:20240521T190000
DTEND;TZID=America/Chicago:20240521T203000
DTSTAMP:20260425T112005
CREATED:20240509T155743Z
LAST-MODIFIED:20240509T155744Z
UID:2471-1716318000-1716323400@www.faithhomewood.org
SUMMARY:Church Council - Meeting
DESCRIPTION:
URL:https://www.faithhomewood.org/event/church-council-meeting/
LOCATION:Faith Lutheran of Homewood IL\, 18645 Dixie Highway\, Homewood\, IL\, 60430\, United States
END:VEVENT
BEGIN:VEVENT
DTSTART;TZID=America/Chicago:20240521T130000
DTEND;TZID=America/Chicago:20240521T140000
DTSTAMP:20260425T112005
CREATED:20240509T161005Z
LAST-MODIFIED:20240509T161006Z
UID:2506-1716296400-1716300000@www.faithhomewood.org
SUMMARY:Altar Guild
DESCRIPTION:
URL:https://www.faithhomewood.org/event/altar-guild-9/
LOCATION:Faith Lutheran of Homewood IL\, 18645 Dixie Highway\, Homewood\, IL\, 60430\, United States
END:VEVENT
BEGIN:VEVENT
DTSTART;TZID=America/Chicago:20240519T103000
DTEND;TZID=America/Chicago:20240519T113000
DTSTAMP:20260425T112005
CREATED:20240309T014226Z
LAST-MODIFIED:20240330T123049Z
UID:2099-1716114600-1716118200@www.faithhomewood.org
SUMMARY:Worship Service
DESCRIPTION:
URL:https://www.faithhomewood.org/event/worship-service-11/
LOCATION:Faith Lutheran of Homewood IL\, 18645 Dixie Highway\, Homewood\, IL\, 60430\, United States
END:VEVENT
BEGIN:VEVENT
DTSTART;TZID=America/Chicago:20240519T093000
DTEND;TZID=America/Chicago:20240519T103000
DTSTAMP:20260425T112005
CREATED:20240507T200228Z
LAST-MODIFIED:20240510T201559Z
UID:2464-1716111000-1716114600@www.faithhomewood.org
SUMMARY:Widen the Welcome: Pastor Kathy Nolte Visit
DESCRIPTION:On May 19 at 9:30 am\, Pastor Nolte will be with us to lead a time focused on theological underpinnings of what it means to be a Reconciling in Christ congregation. In our place\, we call this process Widen the Welcome. Please plan to attend this session\, and note that Pastor Nolte will join us in worship on May 19th as well. Hope to see you there!
URL:https://www.faithhomewood.org/event/widen-the-welcome-pastor-kathy-nolte-visit/
LOCATION:Faith Lutheran of Homewood IL\, 18645 Dixie Highway\, Homewood\, IL\, 60430\, United States
END:VEVENT
BEGIN:VEVENT
DTSTART;TZID=America/Chicago:20240519T080000
DTEND;TZID=America/Chicago:20240519T170000
DTSTAMP:20260425T112005
CREATED:20240507T200432Z
LAST-MODIFIED:20240507T200433Z
UID:2466-1716105600-1716138000@www.faithhomewood.org
SUMMARY:Pentecost Sunday
DESCRIPTION:On May 19\, we celebrate the birthday of the Holy Spirit\, God’s active presence in our lives each day. We encourage you to wear red on Sunday as part of our tradition!
URL:https://www.faithhomewood.org/event/pentecost-sunday/
LOCATION:Faith Lutheran of Homewood IL\, 18645 Dixie Highway\, Homewood\, IL\, 60430\, United States
END:VEVENT
BEGIN:VEVENT
DTSTART;TZID=America/Chicago:20240518T090000
DTEND;TZID=America/Chicago:20240518T103000
DTSTAMP:20260425T112005
CREATED:20240326T152329Z
LAST-MODIFIED:20240429T135320Z
UID:2252-1716022800-1716028200@www.faithhomewood.org
SUMMARY:A BIGGER TABLE by John Pavlovitz: In-Person Discussion
DESCRIPTION:Please join us for an in-person discussion of John Pavlovitz’s excellent book A Bigger Table
URL:https://www.faithhomewood.org/event/a-bigger-table-by-john-pavlovitz-in-person-discussion-5/
LOCATION:Faith Lutheran of Homewood IL\, 18645 Dixie Highway\, Homewood\, IL\, 60430\, United States
END:VEVENT
BEGIN:VEVENT
DTSTART;TZID=America/Chicago:20240518T090000
DTEND;TZID=America/Chicago:20240518T100000
DTSTAMP:20260425T112005
CREATED:20240309T014930Z
LAST-MODIFIED:20240330T123039Z
UID:2112-1716022800-1716026400@www.faithhomewood.org
SUMMARY:Altar Setup
DESCRIPTION:
URL:https://www.faithhomewood.org/event/altar-setup-11/
LOCATION:Faith Lutheran of Homewood IL\, 18645 Dixie Highway\, Homewood\, IL\, 60430\, United States
END:VEVENT
BEGIN:VEVENT
DTSTART;TZID=America/Chicago:20240515T130000
DTEND;TZID=America/Chicago:20240515T140000
DTSTAMP:20260425T112005
CREATED:20240509T155829Z
LAST-MODIFIED:20240509T155829Z
UID:2473-1715778000-1715781600@www.faithhomewood.org
SUMMARY:Bible Study Group
DESCRIPTION:
URL:https://www.faithhomewood.org/event/bible-study-group/
LOCATION:Faith Lutheran of Homewood IL\, 18645 Dixie Highway\, Homewood\, IL\, 60430\, United States
END:VEVENT
BEGIN:VEVENT
DTSTART;TZID=America/Chicago:20240512T103000
DTEND;TZID=America/Chicago:20240512T113000
DTSTAMP:20260425T112005
CREATED:20240309T014208Z
LAST-MODIFIED:20240330T123028Z
UID:2100-1715509800-1715513400@www.faithhomewood.org
SUMMARY:Worship Service
DESCRIPTION:
URL:https://www.faithhomewood.org/event/worship-service-10/
LOCATION:Faith Lutheran of Homewood IL\, 18645 Dixie Highway\, Homewood\, IL\, 60430\, United States
END:VEVENT
BEGIN:VEVENT
DTSTART;TZID=America/Chicago:20240511T190000
DTEND;TZID=America/Chicago:20240512T185959
DTSTAMP:20260425T112005
CREATED:20240309T013010Z
LAST-MODIFIED:20240330T122824Z
UID:2094-1715454000-1715540399@www.faithhomewood.org
SUMMARY:VBS Registration Forms Due
DESCRIPTION:You can either register via the church office or online via https://www.faithhomewood.org/vacation-bible-school-registration/
URL:https://www.faithhomewood.org/event/vbs-registration-forms-due/
LOCATION:Faith Lutheran of Homewood IL\, 18645 Dixie Highway\, Homewood\, IL\, 60430\, United States
END:VEVENT
BEGIN:VEVENT
DTSTART;TZID=America/Chicago:20240511T090000
DTEND;TZID=America/Chicago:20240511T100000
DTSTAMP:20260425T112005
CREATED:20240309T014801Z
LAST-MODIFIED:20240330T123013Z
UID:2113-1715418000-1715421600@www.faithhomewood.org
SUMMARY:Altar Setup
DESCRIPTION:
URL:https://www.faithhomewood.org/event/altar-setup-10/
LOCATION:Faith Lutheran of Homewood IL\, 18645 Dixie Highway\, Homewood\, IL\, 60430\, United States
END:VEVENT
BEGIN:VEVENT
DTSTART;TZID=America/Chicago:20240507T190000
DTEND;TZID=America/Chicago:20240507T203000
DTSTAMP:20260425T112005
CREATED:20240326T153952Z
LAST-MODIFIED:20240326T153953Z
UID:2272-1715108400-1715113800@www.faithhomewood.org
SUMMARY:Parenting With Faith: Talks with Our Preteens
DESCRIPTION:Parenting with Faith – Talks with Our Preteens \n\n\n\nBased on the book Fourteen Talks by Age Fourteen by Michelle Icard\, we invite you to join Pastor Amy for three sessions on how to talk to our kids\, how to say what you want to say and listen with an eye of faith. Sessions will be held on Tuesdays from 7:00 – 8:30 pm on May 7\, June 11\, and July 9. Buy the book at any retailer\, and sign up for a spot by emailing pastorwiegert@comcast.net or calling the church office at (708) 799-1160
URL:https://www.faithhomewood.org/event/parenting-with-faith-talks-with-our-preteens/
LOCATION:Faith Lutheran of Homewood IL\, 18645 Dixie Highway\, Homewood\, IL\, 60430\, United States
END:VEVENT
BEGIN:VEVENT
DTSTART;TZID=America/Chicago:20240505T114500
DTEND;TZID=America/Chicago:20240505T140000
DTSTAMP:20260425T112005
CREATED:20240425T122324Z
LAST-MODIFIED:20240429T135709Z
UID:2430-1714909500-1714917600@www.faithhomewood.org
SUMMARY:Pot Luck After Worship
DESCRIPTION:Join Us On March 3rd for Our Next Potluck! \n\n\n\nPlease join us in the gym following worship at approximately 11:45 am. If your last name starts with A – L\, we ask that you please bring a side dish. If your last name starts with M – Z\, we ask you to please bring a dessert. \n\n\n\n \n\n\n\nHope to see you there!
URL:https://www.faithhomewood.org/event/pot-luck-after-worship-2/
LOCATION:Faith Lutheran of Homewood IL\, 18645 Dixie Highway\, Homewood\, IL\, 60430\, United States
END:VEVENT
BEGIN:VEVENT
DTSTART;TZID=America/Chicago:20240505T103000
DTEND;TZID=America/Chicago:20240505T113000
DTSTAMP:20260425T112005
CREATED:20240309T014150Z
LAST-MODIFIED:20240330T123002Z
UID:2097-1714905000-1714908600@www.faithhomewood.org
SUMMARY:Worship Service
DESCRIPTION:
URL:https://www.faithhomewood.org/event/worship-service-9/
LOCATION:Faith Lutheran of Homewood IL\, 18645 Dixie Highway\, Homewood\, IL\, 60430\, United States
END:VEVENT
BEGIN:VEVENT
DTSTART;TZID=America/Chicago:20240504T090000
DTEND;TZID=America/Chicago:20240504T100000
DTSTAMP:20260425T112005
CREATED:20240309T014738Z
LAST-MODIFIED:20240330T122951Z
UID:2110-1714813200-1714816800@www.faithhomewood.org
SUMMARY:Altar Setup
DESCRIPTION:
URL:https://www.faithhomewood.org/event/altar-setup-9/
LOCATION:Faith Lutheran of Homewood IL\, 18645 Dixie Highway\, Homewood\, IL\, 60430\, United States
END:VEVENT
BEGIN:VEVENT
DTSTART;TZID=America/Chicago:20240428T103000
DTEND;TZID=America/Chicago:20240428T113000
DTSTAMP:20260425T112005
CREATED:20240309T014119Z
LAST-MODIFIED:20240330T122938Z
UID:2101-1714300200-1714303800@www.faithhomewood.org
SUMMARY:Worship Service
DESCRIPTION:
URL:https://www.faithhomewood.org/event/worship-service-8/
LOCATION:Faith Lutheran of Homewood IL\, 18645 Dixie Highway\, Homewood\, IL\, 60430\, United States
END:VEVENT
BEGIN:VEVENT
DTSTART;TZID=America/Chicago:20240427T090000
DTEND;TZID=America/Chicago:20240427T103000
DTSTAMP:20260425T112005
CREATED:20240326T152241Z
LAST-MODIFIED:20240411T164246Z
UID:2248-1714208400-1714213800@www.faithhomewood.org
SUMMARY:A BIGGER TABLE by John Pavlovitz: In-Person Discussion
DESCRIPTION:Please join us for an in-person discussion of John Pavlovitz’s excellent book A Bigger Table
URL:https://www.faithhomewood.org/event/a-bigger-table-by-john-pavlovitz-in-person-discussion-4/
LOCATION:Faith Lutheran of Homewood IL\, 18645 Dixie Highway\, Homewood\, IL\, 60430\, United States
END:VEVENT
BEGIN:VEVENT
DTSTART;TZID=America/Chicago:20240427T090000
DTEND;TZID=America/Chicago:20240427T100000
DTSTAMP:20260425T112005
CREATED:20240309T014708Z
LAST-MODIFIED:20240330T122929Z
UID:2114-1714208400-1714212000@www.faithhomewood.org
SUMMARY:Altar Setup
DESCRIPTION:
URL:https://www.faithhomewood.org/event/altar-setup-8/
LOCATION:Faith Lutheran of Homewood IL\, 18645 Dixie Highway\, Homewood\, IL\, 60430\, United States
END:VEVENT
BEGIN:VEVENT
DTSTART;TZID=America/Chicago:20240421T103000
DTEND;TZID=America/Chicago:20240421T113000
DTSTAMP:20260425T112005
CREATED:20240309T014055Z
LAST-MODIFIED:20240327T182259Z
UID:2096-1713695400-1713699000@www.faithhomewood.org
SUMMARY:Worship Service
DESCRIPTION:
URL:https://www.faithhomewood.org/event/worship-service-7/
LOCATION:Faith Lutheran of Homewood IL\, 18645 Dixie Highway\, Homewood\, IL\, 60430\, United States
END:VEVENT
BEGIN:VEVENT
DTSTART;TZID=America/Chicago:20240420T090000
DTEND;TZID=America/Chicago:20240420T103000
DTSTAMP:20260425T112005
CREATED:20240326T152146Z
LAST-MODIFIED:20240411T164235Z
UID:2249-1713603600-1713609000@www.faithhomewood.org
SUMMARY:A BIGGER TABLE by John Pavlovitz: In-Person Discussion
DESCRIPTION:Please join us for an in-person discussion of John Pavlovitz’s excellent book A Bigger Table
URL:https://www.faithhomewood.org/event/a-bigger-table-by-john-pavlovitz-in-person-discussion-3/
LOCATION:Faith Lutheran of Homewood IL\, 18645 Dixie Highway\, Homewood\, IL\, 60430\, United States
END:VEVENT
BEGIN:VEVENT
DTSTART;TZID=America/Chicago:20240420T090000
DTEND;TZID=America/Chicago:20240420T100000
DTSTAMP:20260425T112005
CREATED:20240309T014629Z
LAST-MODIFIED:20240327T182310Z
UID:2115-1713603600-1713607200@www.faithhomewood.org
SUMMARY:Altar Setup
DESCRIPTION:
URL:https://www.faithhomewood.org/event/altar-setup-7/
LOCATION:Faith Lutheran of Homewood IL\, 18645 Dixie Highway\, Homewood\, IL\, 60430\, United States
END:VEVENT
END:VCALENDAR