BEGIN:VCALENDAR
VERSION:2.0
PRODID:-//Faith Lutheran of Homewood, IL - ECPv6.15.20//NONSGML v1.0//EN
CALSCALE:GREGORIAN
METHOD:PUBLISH
X-WR-CALNAME:Faith Lutheran of Homewood, IL
X-ORIGINAL-URL:https://www.faithhomewood.org
X-WR-CALDESC:Events for Faith Lutheran of Homewood, IL
REFRESH-INTERVAL;VALUE=DURATION:PT1H
X-Robots-Tag:noindex
X-PUBLISHED-TTL:PT1H
BEGIN:VTIMEZONE
TZID:America/Chicago
BEGIN:DAYLIGHT
TZOFFSETFROM:-0600
TZOFFSETTO:-0500
TZNAME:CDT
DTSTART:20230312T080000
END:DAYLIGHT
BEGIN:STANDARD
TZOFFSETFROM:-0500
TZOFFSETTO:-0600
TZNAME:CST
DTSTART:20231105T070000
END:STANDARD
BEGIN:DAYLIGHT
TZOFFSETFROM:-0600
TZOFFSETTO:-0500
TZNAME:CDT
DTSTART:20240310T080000
END:DAYLIGHT
BEGIN:STANDARD
TZOFFSETFROM:-0500
TZOFFSETTO:-0600
TZNAME:CST
DTSTART:20241103T070000
END:STANDARD
BEGIN:DAYLIGHT
TZOFFSETFROM:-0600
TZOFFSETTO:-0500
TZNAME:CDT
DTSTART:20250309T080000
END:DAYLIGHT
BEGIN:STANDARD
TZOFFSETFROM:-0500
TZOFFSETTO:-0600
TZNAME:CST
DTSTART:20251102T070000
END:STANDARD
END:VTIMEZONE
BEGIN:VEVENT
DTSTART;TZID=America/Chicago:20240724T130000
DTEND;TZID=America/Chicago:20240724T140000
DTSTAMP:20260425T095149
CREATED:20240509T162114Z
LAST-MODIFIED:20240509T162114Z
UID:2520-1721826000-1721829600@www.faithhomewood.org
SUMMARY:Bible Study Group
DESCRIPTION:
URL:https://www.faithhomewood.org/event/bible-study-group-11/
LOCATION:Faith Lutheran of Homewood IL\, 18645 Dixie Highway\, Homewood\, IL\, 60430\, United States
END:VEVENT
BEGIN:VEVENT
DTSTART;TZID=America/Chicago:20240720T090000
DTEND;TZID=America/Chicago:20240720T100000
DTSTAMP:20260425T095149
CREATED:20240324T230420Z
LAST-MODIFIED:20240330T123657Z
UID:2209-1721466000-1721469600@www.faithhomewood.org
SUMMARY:Altar Setup
DESCRIPTION:
URL:https://www.faithhomewood.org/event/altar-setup-20/
LOCATION:Faith Lutheran of Homewood IL\, 18645 Dixie Highway\, Homewood\, IL\, 60430\, United States
END:VEVENT
BEGIN:VEVENT
DTSTART;TZID=America/Chicago:20240717T130000
DTEND;TZID=America/Chicago:20240717T140000
DTSTAMP:20260425T095149
CREATED:20240509T162107Z
LAST-MODIFIED:20240509T162107Z
UID:2519-1721221200-1721224800@www.faithhomewood.org
SUMMARY:Bible Study Group
DESCRIPTION:
URL:https://www.faithhomewood.org/event/bible-study-group-10/
LOCATION:Faith Lutheran of Homewood IL\, 18645 Dixie Highway\, Homewood\, IL\, 60430\, United States
END:VEVENT
BEGIN:VEVENT
DTSTART;TZID=America/Chicago:20240716T190000
DTEND;TZID=America/Chicago:20240716T203000
DTSTAMP:20260425T095149
CREATED:20240509T160910Z
LAST-MODIFIED:20240509T161444Z
UID:2491-1721156400-1721161800@www.faithhomewood.org
SUMMARY:Church Council - Meeting
DESCRIPTION:
URL:https://www.faithhomewood.org/event/church-council-meeting-2/
LOCATION:Faith Lutheran of Homewood IL\, 18645 Dixie Highway\, Homewood\, IL\, 60430\, United States
END:VEVENT
BEGIN:VEVENT
DTSTART;TZID=America/Chicago:20240716T130000
DTEND;TZID=America/Chicago:20240716T140000
DTSTAMP:20260425T095149
CREATED:20240509T160513Z
LAST-MODIFIED:20240509T160514Z
UID:2485-1721134800-1721138400@www.faithhomewood.org
SUMMARY:Altar Guild
DESCRIPTION:
URL:https://www.faithhomewood.org/event/altar-guild-3/
LOCATION:Faith Lutheran of Homewood IL\, 18645 Dixie Highway\, Homewood\, IL\, 60430\, United States
END:VEVENT
BEGIN:VEVENT
DTSTART;TZID=America/Chicago:20240714T093000
DTEND;TZID=America/Chicago:20240714T103000
DTSTAMP:20260425T095149
CREATED:20240311T155417Z
LAST-MODIFIED:20240501T162649Z
UID:2154-1720949400-1720953000@www.faithhomewood.org
SUMMARY:Worship Service
DESCRIPTION:
URL:https://www.faithhomewood.org/event/worship-service-19/
LOCATION:Faith Lutheran of Homewood IL\, 18645 Dixie Highway\, Homewood\, IL\, 60430\, United States
END:VEVENT
BEGIN:VEVENT
DTSTART;TZID=America/Chicago:20240713T090000
DTEND;TZID=America/Chicago:20240713T100000
DTSTAMP:20260425T095149
CREATED:20240311T154500Z
LAST-MODIFIED:20240330T123640Z
UID:2109-1720861200-1720864800@www.faithhomewood.org
SUMMARY:Altar Setup
DESCRIPTION:
URL:https://www.faithhomewood.org/event/altar-setup-19/
LOCATION:Faith Lutheran of Homewood IL\, 18645 Dixie Highway\, Homewood\, IL\, 60430\, United States
END:VEVENT
BEGIN:VEVENT
DTSTART;TZID=America/Chicago:20240710T130000
DTEND;TZID=America/Chicago:20240710T140000
DTSTAMP:20260425T095149
CREATED:20240509T162056Z
LAST-MODIFIED:20240509T162056Z
UID:2518-1720616400-1720620000@www.faithhomewood.org
SUMMARY:Bible Study Group
DESCRIPTION:
URL:https://www.faithhomewood.org/event/bible-study-group-9/
LOCATION:Faith Lutheran of Homewood IL\, 18645 Dixie Highway\, Homewood\, IL\, 60430\, United States
END:VEVENT
BEGIN:VEVENT
DTSTART;TZID=America/Chicago:20240709T190000
DTEND;TZID=America/Chicago:20240709T203000
DTSTAMP:20260425T095149
CREATED:20240326T154115Z
LAST-MODIFIED:20240326T154116Z
UID:2275-1720551600-1720557000@www.faithhomewood.org
SUMMARY:Parenting With Faith: Talks with Our Preteens
DESCRIPTION:Parenting with Faith – Talks with Our Preteens \n\n\n\nBased on the book Fourteen Talks by Age Fourteen by Michelle Icard\, we invite you to join Pastor Amy for three sessions on how to talk to our kids\, how to say what you want to say and listen with an eye of faith. Sessions will be held on Tuesdays from 7:00 – 8:30 pm on May 7\, June 11\, and July 9. Buy the book at any retailer\, and sign up for a spot by emailing pastorwiegert@comcast.net or calling the church office at (708) 799-1160
URL:https://www.faithhomewood.org/event/parenting-with-faith-talks-with-our-preteens-3/
LOCATION:Faith Lutheran of Homewood IL\, 18645 Dixie Highway\, Homewood\, IL\, 60430\, United States
END:VEVENT
BEGIN:VEVENT
DTSTART;TZID=America/Chicago:20240707T093000
DTEND;TZID=America/Chicago:20240707T103000
DTSTAMP:20260425T095149
CREATED:20240311T154528Z
LAST-MODIFIED:20240501T162703Z
UID:2151-1720344600-1720348200@www.faithhomewood.org
SUMMARY:Worship Service
DESCRIPTION:
URL:https://www.faithhomewood.org/event/worship-service-18/
LOCATION:Faith Lutheran of Homewood IL\, 18645 Dixie Highway\, Homewood\, IL\, 60430\, United States
END:VEVENT
BEGIN:VEVENT
DTSTART;TZID=America/Chicago:20240706T090000
DTEND;TZID=America/Chicago:20240706T100000
DTSTAMP:20260425T095149
CREATED:20240311T154247Z
LAST-MODIFIED:20240330T123621Z
UID:2108-1720256400-1720260000@www.faithhomewood.org
SUMMARY:Altar Setup
DESCRIPTION:
URL:https://www.faithhomewood.org/event/altar-setup-18/
LOCATION:Faith Lutheran of Homewood IL\, 18645 Dixie Highway\, Homewood\, IL\, 60430\, United States
END:VEVENT
BEGIN:VEVENT
DTSTART;TZID=America/Chicago:20240703T130000
DTEND;TZID=America/Chicago:20240703T140000
DTSTAMP:20260425T095149
CREATED:20240509T162046Z
LAST-MODIFIED:20240509T162046Z
UID:2516-1720011600-1720015200@www.faithhomewood.org
SUMMARY:Bible Study Group
DESCRIPTION:
URL:https://www.faithhomewood.org/event/bible-study-group-8/
LOCATION:Faith Lutheran of Homewood IL\, 18645 Dixie Highway\, Homewood\, IL\, 60430\, United States
END:VEVENT
BEGIN:VEVENT
DTSTART;TZID=America/Chicago:20240630T103000
DTEND;TZID=America/Chicago:20240630T123000
DTSTAMP:20260425T095149
CREATED:20240529T161331Z
LAST-MODIFIED:20240529T161332Z
UID:2622-1719743400-1719750600@www.faithhomewood.org
SUMMARY:Movie/Discussion with Widen the Welcome Team
DESCRIPTION:Details TBA
URL:https://www.faithhomewood.org/event/movie-discussion-with-widen-the-welcome-team/
LOCATION:Faith Lutheran of Homewood IL\, 18645 Dixie Highway\, Homewood\, IL\, 60430\, United States
END:VEVENT
BEGIN:VEVENT
DTSTART;TZID=America/Chicago:20240630T093000
DTEND;TZID=America/Chicago:20240630T103000
DTSTAMP:20260425T095149
CREATED:20240311T153510Z
LAST-MODIFIED:20240501T162717Z
UID:2142-1719739800-1719743400@www.faithhomewood.org
SUMMARY:Worship Service
DESCRIPTION:
URL:https://www.faithhomewood.org/event/worship-service-17/
LOCATION:Faith Lutheran of Homewood IL\, 18645 Dixie Highway\, Homewood\, IL\, 60430\, United States
END:VEVENT
BEGIN:VEVENT
DTSTART;TZID=America/Chicago:20240629T090000
DTEND;TZID=America/Chicago:20240629T100000
DTSTAMP:20260425T095149
CREATED:20240311T152736Z
LAST-MODIFIED:20240330T123600Z
UID:2131-1719651600-1719655200@www.faithhomewood.org
SUMMARY:Altar Setup
DESCRIPTION:
URL:https://www.faithhomewood.org/event/altar-setup-17/
LOCATION:Faith Lutheran of Homewood IL\, 18645 Dixie Highway\, Homewood\, IL\, 60430\, United States
END:VEVENT
BEGIN:VEVENT
DTSTART;TZID=America/Chicago:20240626T130000
DTEND;TZID=America/Chicago:20240626T140000
DTSTAMP:20260425T095149
CREATED:20240509T162036Z
LAST-MODIFIED:20240509T162037Z
UID:2517-1719406800-1719410400@www.faithhomewood.org
SUMMARY:Bible Study Group
DESCRIPTION:
URL:https://www.faithhomewood.org/event/bible-study-group-7/
LOCATION:Faith Lutheran of Homewood IL\, 18645 Dixie Highway\, Homewood\, IL\, 60430\, United States
END:VEVENT
BEGIN:VEVENT
DTSTART;TZID=America/Chicago:20240623T093000
DTEND;TZID=America/Chicago:20240623T103000
DTSTAMP:20260425T095149
CREATED:20240529T160846Z
LAST-MODIFIED:20240529T160847Z
UID:2620-1719135000-1719138600@www.faithhomewood.org
SUMMARY:Healing Service As Part of Worship
DESCRIPTION:Details TBA
URL:https://www.faithhomewood.org/event/healing-service-as-part-of-worship/
LOCATION:Faith Lutheran of Homewood IL\, 18645 Dixie Highway\, Homewood\, IL\, 60430\, United States
END:VEVENT
BEGIN:VEVENT
DTSTART;TZID=America/Chicago:20240623T093000
DTEND;TZID=America/Chicago:20240623T103000
DTSTAMP:20260425T095149
CREATED:20240311T153454Z
LAST-MODIFIED:20240501T162732Z
UID:2141-1719135000-1719138600@www.faithhomewood.org
SUMMARY:Worship Service
DESCRIPTION:
URL:https://www.faithhomewood.org/event/worship-service-16/
LOCATION:Faith Lutheran of Homewood IL\, 18645 Dixie Highway\, Homewood\, IL\, 60430\, United States
END:VEVENT
BEGIN:VEVENT
DTSTART;TZID=America/Chicago:20240622T090000
DTEND;TZID=America/Chicago:20240622T100000
DTSTAMP:20260425T095149
CREATED:20240311T130513Z
LAST-MODIFIED:20240330T123309Z
UID:2130-1719046800-1719050400@www.faithhomewood.org
SUMMARY:Altar Setup
DESCRIPTION:
URL:https://www.faithhomewood.org/event/altar-setup-16/
LOCATION:Faith Lutheran of Homewood IL\, 18645 Dixie Highway\, Homewood\, IL\, 60430\, United States
END:VEVENT
BEGIN:VEVENT
DTSTART;TZID=America/Chicago:20240619T130000
DTEND;TZID=America/Chicago:20240619T140000
DTSTAMP:20260425T095149
CREATED:20240509T162027Z
LAST-MODIFIED:20240509T162027Z
UID:2515-1718802000-1718805600@www.faithhomewood.org
SUMMARY:Bible Study Group
DESCRIPTION:
URL:https://www.faithhomewood.org/event/bible-study-group-6/
LOCATION:Faith Lutheran of Homewood IL\, 18645 Dixie Highway\, Homewood\, IL\, 60430\, United States
END:VEVENT
BEGIN:VEVENT
DTSTART;TZID=America/Chicago:20240618T190000
DTEND;TZID=America/Chicago:20240618T203000
DTSTAMP:20260425T095149
CREATED:20240509T161111Z
LAST-MODIFIED:20240509T161112Z
UID:2493-1718737200-1718742600@www.faithhomewood.org
SUMMARY:Church Council - Meeting
DESCRIPTION:
URL:https://www.faithhomewood.org/event/church-council-meeting-3/
LOCATION:Faith Lutheran of Homewood IL\, 18645 Dixie Highway\, Homewood\, IL\, 60430\, United States
END:VEVENT
BEGIN:VEVENT
DTSTART;TZID=America/Chicago:20240618T130000
DTEND;TZID=America/Chicago:20240618T140000
DTSTAMP:20260425T095149
CREATED:20240509T160501Z
LAST-MODIFIED:20240509T160502Z
UID:2484-1718715600-1718719200@www.faithhomewood.org
SUMMARY:Altar Guild
DESCRIPTION:
URL:https://www.faithhomewood.org/event/altar-guild-2/
LOCATION:Faith Lutheran of Homewood IL\, 18645 Dixie Highway\, Homewood\, IL\, 60430\, United States
END:VEVENT
BEGIN:VEVENT
DTSTART;TZID=America/Chicago:20240616T093000
DTEND;TZID=America/Chicago:20240616T103000
DTSTAMP:20260425T095149
CREATED:20240311T153437Z
LAST-MODIFIED:20240501T162748Z
UID:2140-1718530200-1718533800@www.faithhomewood.org
SUMMARY:Worship Service
DESCRIPTION:
URL:https://www.faithhomewood.org/event/worship-service-15/
LOCATION:Faith Lutheran of Homewood IL\, 18645 Dixie Highway\, Homewood\, IL\, 60430\, United States
END:VEVENT
BEGIN:VEVENT
DTSTART;TZID=America/Chicago:20240615T090000
DTEND;TZID=America/Chicago:20240615T100000
DTSTAMP:20260425T095149
CREATED:20240311T130430Z
LAST-MODIFIED:20240330T123247Z
UID:2129-1718442000-1718445600@www.faithhomewood.org
SUMMARY:Altar Setup
DESCRIPTION:
URL:https://www.faithhomewood.org/event/altar-setup-15/
LOCATION:Faith Lutheran of Homewood IL\, 18645 Dixie Highway\, Homewood\, IL\, 60430\, United States
END:VEVENT
BEGIN:VEVENT
DTSTART;TZID=America/Chicago:20240614T090000
DTEND;TZID=America/Chicago:20240614T120000
DTSTAMP:20260425T095149
CREATED:20240309T010956Z
LAST-MODIFIED:20240330T123443Z
UID:2072-1718355600-1718366400@www.faithhomewood.org
SUMMARY:Vacation Bible School 2024
DESCRIPTION:SCUBA \n\n\n\nWhere kids dive into friendship with God \n\n\n\nOne Week – June 10-14 — 9 a.m. – 12 noon \n\n\n\nWhat’s it about?… \n\n\n\nWe’re going to be diving deep into an amazing undersea adventure where kids will experience the ever-flowing\, never-ending love of God. \n\n\n\nWe will discover that friendship with God means we have… \n\n\n\n…a friend who’s real …a friend who loves …a friend we can trust …a friend forever and \n\n\n\n…a friend for everyone \n\n\n\nKids will encounter amazing Bible adventures and learn about the Bible with Bible adventures\, music\, and Imagination Station/crafts. They will sing upbeat\, inspiring songs of praise and further explore the Bible Point of the day during the opening and closing sessions. They’ll take part in God Sightings\, encouraging them to look and see where God is amongst us in our daily lives. \n\n\n\nEveryone will have an opportunity to “Share God’s Love” as we collect school supplies to be given to local health and service agency\, Aunt Martha’s\, for distribution to children and families in need. \n\n\n\nDive In!! \n\n\n\nSign children up by completing the online Registration form by Sunday\, May 12th (or mail or drop off a paper form) at the church building no later than Sunday\, May 19th. We welcome your child/children and their friends ages 3 years old through completing 5th grade this June. (Though there is no charge for this program\, donations are appreciated). \n\n\n\nIf you have older children who will have completed 6th grade through high school & college age who want to participate in a leadership capacity\, please fill out the enclosed Crew Leader/Helper form. Also\, return these by May 12th as we will order t-shirts for leaders. \n\n\n\nAdults are welcome and needed as well! If you are interested in helping with this adventure\, please call Janet Daley\, VBS Director\, at 708-912-1940. \n\n\n\nWe look forward to seeing you and your children during this always fun and uplifting week! You may mail the forms to the address above or drop them off at the church office (north side of the building) Monday through Friday 9 a.m. – noon. Of course\, we are always open on Sunday mornings! \n\n\n\nIf you have any questions\, please call Janet Daley at (708) 912-1940 or the church office at (708) 799-1160
URL:https://www.faithhomewood.org/event/vacation-bible-school-2024-5/
LOCATION:Faith Lutheran of Homewood IL\, 18645 Dixie Highway\, Homewood\, IL\, 60430\, United States
END:VEVENT
BEGIN:VEVENT
DTSTART;TZID=America/Chicago:20240613T090000
DTEND;TZID=America/Chicago:20240613T120000
DTSTAMP:20260425T095149
CREATED:20240309T010923Z
LAST-MODIFIED:20240330T123436Z
UID:2070-1718269200-1718280000@www.faithhomewood.org
SUMMARY:Vacation Bible School 2024
DESCRIPTION:SCUBA \n\n\n\nWhere kids dive into friendship with God \n\n\n\nOne Week – June 10-14 — 9 a.m. – 12 noon \n\n\n\nWhat’s it about?… \n\n\n\nWe’re going to be diving deep into an amazing undersea adventure where kids will experience the ever-flowing\, never-ending love of God. \n\n\n\nWe will discover that friendship with God means we have… \n\n\n\n…a friend who’s real …a friend who loves …a friend we can trust …a friend forever and \n\n\n\n…a friend for everyone \n\n\n\nKids will encounter amazing Bible adventures and learn about the Bible with Bible adventures\, music\, and Imagination Station/crafts. They will sing upbeat\, inspiring songs of praise and further explore the Bible Point of the day during the opening and closing sessions. They’ll take part in God Sightings\, encouraging them to look and see where God is amongst us in our daily lives. \n\n\n\nEveryone will have an opportunity to “Share God’s Love” as we collect school supplies to be given to local health and service agency\, Aunt Martha’s\, for distribution to children and families in need. \n\n\n\nDive In!! \n\n\n\nSign children up by completing the online Registration form by Sunday\, May 12th (or mail or drop off a paper form) at the church building no later than Sunday\, May 19th. We welcome your child/children and their friends ages 3 years old through completing 5th grade this June. (Though there is no charge for this program\, donations are appreciated). \n\n\n\nIf you have older children who will have completed 6th grade through high school & college age who want to participate in a leadership capacity\, please fill out the enclosed Crew Leader/Helper form. Also\, return these by May 12th as we will order t-shirts for leaders. \n\n\n\nAdults are welcome and needed as well! If you are interested in helping with this adventure\, please call Janet Daley\, VBS Director\, at 708-912-1940. \n\n\n\nWe look forward to seeing you and your children during this always fun and uplifting week! You may mail the forms to the address above or drop them off at the church office (north side of the building) Monday through Friday 9 a.m. – noon. Of course\, we are always open on Sunday mornings! \n\n\n\nIf you have any questions\, please call Janet Daley at (708) 912-1940 or the church office at (708) 799-1160
URL:https://www.faithhomewood.org/event/vacation-bible-school-2024-4/
LOCATION:Faith Lutheran of Homewood IL\, 18645 Dixie Highway\, Homewood\, IL\, 60430\, United States
END:VEVENT
BEGIN:VEVENT
DTSTART;TZID=America/Chicago:20240612T130000
DTEND;TZID=America/Chicago:20240612T140000
DTSTAMP:20260425T095149
CREATED:20240509T161951Z
LAST-MODIFIED:20240509T162021Z
UID:2512-1718197200-1718200800@www.faithhomewood.org
SUMMARY:Bible Study Group
DESCRIPTION:
URL:https://www.faithhomewood.org/event/bible-study-group-5/
LOCATION:Faith Lutheran of Homewood IL\, 18645 Dixie Highway\, Homewood\, IL\, 60430\, United States
END:VEVENT
BEGIN:VEVENT
DTSTART;TZID=America/Chicago:20240612T090000
DTEND;TZID=America/Chicago:20240612T120000
DTSTAMP:20260425T095149
CREATED:20240309T010734Z
LAST-MODIFIED:20240330T123431Z
UID:2064-1718182800-1718193600@www.faithhomewood.org
SUMMARY:Vacation Bible School 2024
DESCRIPTION:SCUBA \n\n\n\nWhere kids dive into friendship with God \n\n\n\nOne Week – June 10-14 — 9 a.m. – 12 noon \n\n\n\nWhat’s it about?… \n\n\n\nWe’re going to be diving deep into an amazing undersea adventure where kids will experience the ever-flowing\, never-ending love of God. \n\n\n\nWe will discover that friendship with God means we have… \n\n\n\n…a friend who’s real …a friend who loves …a friend we can trust …a friend forever and \n\n\n\n…a friend for everyone \n\n\n\nKids will encounter amazing Bible adventures and learn about the Bible with Bible adventures\, music\, and Imagination Station/crafts. They will sing upbeat\, inspiring songs of praise and further explore the Bible Point of the day during the opening and closing sessions. They’ll take part in God Sightings\, encouraging them to look and see where God is amongst us in our daily lives. \n\n\n\nEveryone will have an opportunity to “Share God’s Love” as we collect school supplies to be given to local health and service agency\, Aunt Martha’s\, for distribution to children and families in need. \n\n\n\nDive In!! \n\n\n\nSign children up by completing the online Registration form by Sunday\, May 12th (or mail or drop off a paper form) at the church building no later than Sunday\, May 19th. We welcome your child/children and their friends ages 3 years old through completing 5th grade this June. (Though there is no charge for this program\, donations are appreciated). \n\n\n\nIf you have older children who will have completed 6th grade through high school & college age who want to participate in a leadership capacity\, please fill out the enclosed Crew Leader/Helper form. Also\, return these by May 12th as we will order t-shirts for leaders. \n\n\n\nAdults are welcome and needed as well! If you are interested in helping with this adventure\, please call Janet Daley\, VBS Director\, at 708-912-1940. \n\n\n\nWe look forward to seeing you and your children during this always fun and uplifting week! You may mail the forms to the address above or drop them off at the church office (north side of the building) Monday through Friday 9 a.m. – noon. Of course\, we are always open on Sunday mornings! \n\n\n\nIf you have any questions\, please call Janet Daley at (708) 912-1940 or the church office at (708) 799-1160
URL:https://www.faithhomewood.org/event/vacation-bible-school-2024-2/
LOCATION:Faith Lutheran of Homewood IL\, 18645 Dixie Highway\, Homewood\, IL\, 60430\, United States
END:VEVENT
BEGIN:VEVENT
DTSTART;TZID=America/Chicago:20240611T190000
DTEND;TZID=America/Chicago:20240611T203000
DTSTAMP:20260425T095149
CREATED:20240326T154046Z
LAST-MODIFIED:20240326T154046Z
UID:2274-1718132400-1718137800@www.faithhomewood.org
SUMMARY:Parenting With Faith: Talks with Our Preteens
DESCRIPTION:Parenting with Faith – Talks with Our Preteens \n\n\n\nBased on the book Fourteen Talks by Age Fourteen by Michelle Icard\, we invite you to join Pastor Amy for three sessions on how to talk to our kids\, how to say what you want to say and listen with an eye of faith. Sessions will be held on Tuesdays from 7:00 – 8:30 pm on May 7\, June 11\, and July 9. Buy the book at any retailer\, and sign up for a spot by emailing pastorwiegert@comcast.net or calling the church office at (708) 799-1160
URL:https://www.faithhomewood.org/event/parenting-with-faith-talks-with-our-preteens-2/
LOCATION:Faith Lutheran of Homewood IL\, 18645 Dixie Highway\, Homewood\, IL\, 60430\, United States
END:VEVENT
BEGIN:VEVENT
DTSTART;TZID=America/Chicago:20240611T090000
DTEND;TZID=America/Chicago:20240611T120000
DTSTAMP:20260425T095149
CREATED:20240309T010900Z
LAST-MODIFIED:20240330T123457Z
UID:2068-1718096400-1718107200@www.faithhomewood.org
SUMMARY:Vacation Bible School 2024
DESCRIPTION:SCUBA \n\n\n\nWhere kids dive into friendship with God \n\n\n\nOne Week – June 10-14 — 9 a.m. – 12 noon \n\n\n\nWhat’s it about?… \n\n\n\nWe’re going to be diving deep into an amazing undersea adventure where kids will experience the ever-flowing\, never-ending love of God. \n\n\n\nWe will discover that friendship with God means we have… \n\n\n\n…a friend who’s real …a friend who loves …a friend we can trust …a friend forever and \n\n\n\n…a friend for everyone \n\n\n\nKids will encounter amazing Bible adventures and learn about the Bible with Bible adventures\, music\, and Imagination Station/crafts. They will sing upbeat\, inspiring songs of praise and further explore the Bible Point of the day during the opening and closing sessions. They’ll take part in God Sightings\, encouraging them to look and see where God is amongst us in our daily lives. \n\n\n\nEveryone will have an opportunity to “Share God’s Love” as we collect school supplies to be given to local health and service agency\, Aunt Martha’s\, for distribution to children and families in need. \n\n\n\nDive In!! \n\n\n\nSign children up by completing the online Registration form by Sunday\, May 12th (or mail or drop off a paper form) at the church building no later than Sunday\, May 19th. We welcome your child/children and their friends ages 3 years old through completing 5th grade this June. (Though there is no charge for this program\, donations are appreciated). \n\n\n\nIf you have older children who will have completed 6th grade through high school & college age who want to participate in a leadership capacity\, please fill out the enclosed Crew Leader/Helper form. Also\, return these by May 12th as we will order t-shirts for leaders. \n\n\n\nAdults are welcome and needed as well! If you are interested in helping with this adventure\, please call Janet Daley\, VBS Director\, at 708-912-1940. \n\n\n\nWe look forward to seeing you and your children during this always fun and uplifting week! You may mail the forms to the address above or drop them off at the church office (north side of the building) Monday through Friday 9 a.m. – noon. Of course\, we are always open on Sunday mornings! \n\n\n\nIf you have any questions\, please call Janet Daley at (708) 912-1940 or the church office at (708) 799-1160
URL:https://www.faithhomewood.org/event/vacation-bible-school-2024-3/
LOCATION:Faith Lutheran of Homewood IL\, 18645 Dixie Highway\, Homewood\, IL\, 60430\, United States
END:VEVENT
END:VCALENDAR