BEGIN:VCALENDAR
VERSION:2.0
PRODID:-//Faith Lutheran of Homewood, IL - ECPv6.15.20//NONSGML v1.0//EN
CALSCALE:GREGORIAN
METHOD:PUBLISH
X-WR-CALNAME:Faith Lutheran of Homewood, IL
X-ORIGINAL-URL:https://www.faithhomewood.org
X-WR-CALDESC:Events for Faith Lutheran of Homewood, IL
REFRESH-INTERVAL;VALUE=DURATION:PT1H
X-Robots-Tag:noindex
X-PUBLISHED-TTL:PT1H
BEGIN:VTIMEZONE
TZID:America/Chicago
BEGIN:DAYLIGHT
TZOFFSETFROM:-0600
TZOFFSETTO:-0500
TZNAME:CDT
DTSTART:20230312T080000
END:DAYLIGHT
BEGIN:STANDARD
TZOFFSETFROM:-0500
TZOFFSETTO:-0600
TZNAME:CST
DTSTART:20231105T070000
END:STANDARD
BEGIN:DAYLIGHT
TZOFFSETFROM:-0600
TZOFFSETTO:-0500
TZNAME:CDT
DTSTART:20240310T080000
END:DAYLIGHT
BEGIN:STANDARD
TZOFFSETFROM:-0500
TZOFFSETTO:-0600
TZNAME:CST
DTSTART:20241103T070000
END:STANDARD
BEGIN:DAYLIGHT
TZOFFSETFROM:-0600
TZOFFSETTO:-0500
TZNAME:CDT
DTSTART:20250309T080000
END:DAYLIGHT
BEGIN:STANDARD
TZOFFSETFROM:-0500
TZOFFSETTO:-0600
TZNAME:CST
DTSTART:20251102T070000
END:STANDARD
END:VTIMEZONE
BEGIN:VEVENT
DTSTART;TZID=America/Chicago:20240915T103000
DTEND;TZID=America/Chicago:20240915T113000
DTSTAMP:20260425T062131
CREATED:20240324T231027Z
LAST-MODIFIED:20240330T123938Z
UID:2218-1726396200-1726399800@www.faithhomewood.org
SUMMARY:Worship Service
DESCRIPTION:
URL:https://www.faithhomewood.org/event/worship-service-27/
LOCATION:Faith Lutheran of Homewood IL\, 18645 Dixie Highway\, Homewood\, IL\, 60430\, United States
END:VEVENT
BEGIN:VEVENT
DTSTART;TZID=America/Chicago:20240914T090000
DTEND;TZID=America/Chicago:20240914T100000
DTSTAMP:20260425T062131
CREATED:20240324T231348Z
LAST-MODIFIED:20240330T123923Z
UID:2241-1726304400-1726308000@www.faithhomewood.org
SUMMARY:Altar Setup
DESCRIPTION:
URL:https://www.faithhomewood.org/event/altar-setup-30/
LOCATION:Faith Lutheran of Homewood IL\, 18645 Dixie Highway\, Homewood\, IL\, 60430\, United States
END:VEVENT
BEGIN:VEVENT
DTSTART;TZID=America/Chicago:20240911T130000
DTEND;TZID=America/Chicago:20240911T140000
DTSTAMP:20260425T062131
CREATED:20240510T201831Z
LAST-MODIFIED:20240510T201832Z
UID:2547-1726059600-1726063200@www.faithhomewood.org
SUMMARY:Bible Study Group
DESCRIPTION:
URL:https://www.faithhomewood.org/event/bible-study-group-18/
LOCATION:Faith Lutheran of Homewood IL\, 18645 Dixie Highway\, Homewood\, IL\, 60430\, United States
END:VEVENT
BEGIN:VEVENT
DTSTART;TZID=America/Chicago:20240908T103000
DTEND;TZID=America/Chicago:20240908T113000
DTSTAMP:20260425T062131
CREATED:20240324T231008Z
LAST-MODIFIED:20240330T123915Z
UID:2219-1725791400-1725795000@www.faithhomewood.org
SUMMARY:Worship Service
DESCRIPTION:
URL:https://www.faithhomewood.org/event/worship-service-26/
LOCATION:Faith Lutheran of Homewood IL\, 18645 Dixie Highway\, Homewood\, IL\, 60430\, United States
END:VEVENT
BEGIN:VEVENT
DTSTART;TZID=America/Chicago:20240907T090000
DTEND;TZID=America/Chicago:20240907T100000
DTSTAMP:20260425T062131
CREATED:20240324T230631Z
LAST-MODIFIED:20240330T123908Z
UID:2202-1725699600-1725703200@www.faithhomewood.org
SUMMARY:Altar Setup
DESCRIPTION:
URL:https://www.faithhomewood.org/event/altar-setup-27/
LOCATION:Faith Lutheran of Homewood IL\, 18645 Dixie Highway\, Homewood\, IL\, 60430\, United States
END:VEVENT
BEGIN:VEVENT
DTSTART;TZID=America/Chicago:20240904T130000
DTEND;TZID=America/Chicago:20240904T140000
DTSTAMP:20260425T062131
CREATED:20240510T201818Z
LAST-MODIFIED:20240510T201819Z
UID:2548-1725454800-1725458400@www.faithhomewood.org
SUMMARY:Bible Study Group
DESCRIPTION:
URL:https://www.faithhomewood.org/event/bible-study-group-17/
LOCATION:Faith Lutheran of Homewood IL\, 18645 Dixie Highway\, Homewood\, IL\, 60430\, United States
END:VEVENT
BEGIN:VEVENT
DTSTART;TZID=America/Chicago:20240901T093000
DTEND;TZID=America/Chicago:20240901T103000
DTSTAMP:20260425T062131
CREATED:20240324T230950Z
LAST-MODIFIED:20240501T162427Z
UID:2220-1725183000-1725186600@www.faithhomewood.org
SUMMARY:Worship Service
DESCRIPTION:
URL:https://www.faithhomewood.org/event/worship-service-25/
LOCATION:Faith Lutheran of Homewood IL\, 18645 Dixie Highway\, Homewood\, IL\, 60430\, United States
END:VEVENT
BEGIN:VEVENT
DTSTART;TZID=America/Chicago:20240831T090000
DTEND;TZID=America/Chicago:20240831T100000
DTSTAMP:20260425T062131
CREATED:20240324T230605Z
LAST-MODIFIED:20240330T123828Z
UID:2203-1725094800-1725098400@www.faithhomewood.org
SUMMARY:Altar Setup
DESCRIPTION:
URL:https://www.faithhomewood.org/event/altar-setup-26/
LOCATION:Faith Lutheran of Homewood IL\, 18645 Dixie Highway\, Homewood\, IL\, 60430\, United States
END:VEVENT
BEGIN:VEVENT
DTSTART;TZID=America/Chicago:20240828T130000
DTEND;TZID=America/Chicago:20240828T140000
DTSTAMP:20260425T062131
CREATED:20240509T162235Z
LAST-MODIFIED:20240509T162235Z
UID:2524-1724850000-1724853600@www.faithhomewood.org
SUMMARY:Bible Study Group
DESCRIPTION:
URL:https://www.faithhomewood.org/event/bible-study-group-15/
LOCATION:Faith Lutheran of Homewood IL\, 18645 Dixie Highway\, Homewood\, IL\, 60430\, United States
END:VEVENT
BEGIN:VEVENT
DTSTART;TZID=America/Chicago:20240825T093000
DTEND;TZID=America/Chicago:20240825T103000
DTSTAMP:20260425T062131
CREATED:20240324T230931Z
LAST-MODIFIED:20240501T162528Z
UID:2221-1724578200-1724581800@www.faithhomewood.org
SUMMARY:Worship Service
DESCRIPTION:
URL:https://www.faithhomewood.org/event/worship-service-24/
LOCATION:Faith Lutheran of Homewood IL\, 18645 Dixie Highway\, Homewood\, IL\, 60430\, United States
END:VEVENT
BEGIN:VEVENT
DTSTART;TZID=America/Chicago:20240824T090000
DTEND;TZID=America/Chicago:20240824T100000
DTSTAMP:20260425T062131
CREATED:20240324T230549Z
LAST-MODIFIED:20240330T123809Z
UID:2204-1724490000-1724493600@www.faithhomewood.org
SUMMARY:Altar Setup
DESCRIPTION:
URL:https://www.faithhomewood.org/event/altar-setup-25/
LOCATION:Faith Lutheran of Homewood IL\, 18645 Dixie Highway\, Homewood\, IL\, 60430\, United States
END:VEVENT
BEGIN:VEVENT
DTSTART;TZID=America/Chicago:20240821T130000
DTEND;TZID=America/Chicago:20240821T140000
DTSTAMP:20260425T062131
CREATED:20240510T201734Z
LAST-MODIFIED:20240510T201735Z
UID:2549-1724245200-1724248800@www.faithhomewood.org
SUMMARY:Bible Study Group
DESCRIPTION:
URL:https://www.faithhomewood.org/event/bible-study-group-16/
LOCATION:Faith Lutheran of Homewood IL\, 18645 Dixie Highway\, Homewood\, IL\, 60430\, United States
END:VEVENT
BEGIN:VEVENT
DTSTART;TZID=America/Chicago:20240820T190000
DTEND;TZID=America/Chicago:20240820T203000
DTSTAMP:20260425T062131
CREATED:20240509T161125Z
LAST-MODIFIED:20240509T161126Z
UID:2494-1724180400-1724185800@www.faithhomewood.org
SUMMARY:Church Council - Meeting
DESCRIPTION:
URL:https://www.faithhomewood.org/event/church-council-meeting-4/
LOCATION:Faith Lutheran of Homewood IL\, 18645 Dixie Highway\, Homewood\, IL\, 60430\, United States
END:VEVENT
BEGIN:VEVENT
DTSTART;TZID=America/Chicago:20240820T130000
DTEND;TZID=America/Chicago:20240820T140000
DTSTAMP:20260425T062131
CREATED:20240509T160523Z
LAST-MODIFIED:20240509T160523Z
UID:2486-1724158800-1724162400@www.faithhomewood.org
SUMMARY:Altar Guild
DESCRIPTION:
URL:https://www.faithhomewood.org/event/altar-guild-4/
LOCATION:Faith Lutheran of Homewood IL\, 18645 Dixie Highway\, Homewood\, IL\, 60430\, United States
END:VEVENT
BEGIN:VEVENT
DTSTART;TZID=America/Chicago:20240818T093000
DTEND;TZID=America/Chicago:20240818T103000
DTSTAMP:20260425T062131
CREATED:20240324T230915Z
LAST-MODIFIED:20240501T162548Z
UID:2222-1723973400-1723977000@www.faithhomewood.org
SUMMARY:Worship Service
DESCRIPTION:
URL:https://www.faithhomewood.org/event/worship-service-23/
LOCATION:Faith Lutheran of Homewood IL\, 18645 Dixie Highway\, Homewood\, IL\, 60430\, United States
END:VEVENT
BEGIN:VEVENT
DTSTART;TZID=America/Chicago:20240817T090000
DTEND;TZID=America/Chicago:20240817T100000
DTSTAMP:20260425T062131
CREATED:20240324T230529Z
LAST-MODIFIED:20240330T123752Z
UID:2205-1723885200-1723888800@www.faithhomewood.org
SUMMARY:Altar Setup
DESCRIPTION:
URL:https://www.faithhomewood.org/event/altar-setup-24/
LOCATION:Faith Lutheran of Homewood IL\, 18645 Dixie Highway\, Homewood\, IL\, 60430\, United States
END:VEVENT
BEGIN:VEVENT
DTSTART;TZID=America/Chicago:20240815T180000
DTEND;TZID=America/Chicago:20240815T193000
DTSTAMP:20260425T062131
CREATED:20240807T160847Z
LAST-MODIFIED:20240807T160848Z
UID:2672-1723744800-1723750200@www.faithhomewood.org
SUMMARY:Taco Truck - Faith Lawn
DESCRIPTION:Join us to meet your neighbors and build community! We will have a taco truck on the Faith Lutheran lawn from 6:00 pm to 7:30 pm on Thursday\, August 15th! Join us for food\, fun\, and games! (Weather permitting)
URL:https://www.faithhomewood.org/event/taco-truck-faith-lawn/
LOCATION:Faith Lutheran of Homewood IL\, 18645 Dixie Highway\, Homewood\, IL\, 60430\, United States
END:VEVENT
BEGIN:VEVENT
DTSTART;TZID=America/Chicago:20240814T130000
DTEND;TZID=America/Chicago:20240814T140000
DTSTAMP:20260425T062131
CREATED:20240509T162141Z
LAST-MODIFIED:20240509T162141Z
UID:2523-1723640400-1723644000@www.faithhomewood.org
SUMMARY:Bible Study Group
DESCRIPTION:
URL:https://www.faithhomewood.org/event/bible-study-group-14/
LOCATION:Faith Lutheran of Homewood IL\, 18645 Dixie Highway\, Homewood\, IL\, 60430\, United States
END:VEVENT
BEGIN:VEVENT
DTSTART;TZID=America/Chicago:20240811T093000
DTEND;TZID=America/Chicago:20240811T103000
DTSTAMP:20260425T062131
CREATED:20240324T230857Z
LAST-MODIFIED:20240501T162603Z
UID:2223-1723368600-1723372200@www.faithhomewood.org
SUMMARY:Worship Service
DESCRIPTION:
URL:https://www.faithhomewood.org/event/worship-service-22/
LOCATION:Faith Lutheran of Homewood IL\, 18645 Dixie Highway\, Homewood\, IL\, 60430\, United States
END:VEVENT
BEGIN:VEVENT
DTSTART;TZID=America/Chicago:20240810T103000
DTEND;TZID=America/Chicago:20240810T113000
DTSTAMP:20260425T062131
CREATED:20240724T155343Z
LAST-MODIFIED:20240724T155345Z
UID:2662-1723285800-1723289400@www.faithhomewood.org
SUMMARY:Memorial Service - Henry Grzesiak
DESCRIPTION:Light lunch to follow.
URL:https://www.faithhomewood.org/event/memorial-service-henry-grzesiak/
LOCATION:Faith Lutheran of Homewood IL\, 18645 Dixie Highway\, Homewood\, IL\, 60430\, United States
END:VEVENT
BEGIN:VEVENT
DTSTART;TZID=America/Chicago:20240810T093000
DTEND;TZID=America/Chicago:20240810T101500
DTSTAMP:20260425T062131
CREATED:20240724T155228Z
LAST-MODIFIED:20240724T155230Z
UID:2660-1723282200-1723284900@www.faithhomewood.org
SUMMARY:Visitation - Henry Grzesiak
DESCRIPTION:
URL:https://www.faithhomewood.org/event/visitation-henry-grzesiak/
LOCATION:Faith Lutheran of Homewood IL\, 18645 Dixie Highway\, Homewood\, IL\, 60430\, United States
END:VEVENT
BEGIN:VEVENT
DTSTART;TZID=America/Chicago:20240810T090000
DTEND;TZID=America/Chicago:20240810T100000
DTSTAMP:20260425T062131
CREATED:20240324T230512Z
LAST-MODIFIED:20240330T123737Z
UID:2206-1723280400-1723284000@www.faithhomewood.org
SUMMARY:Altar Setup
DESCRIPTION:
URL:https://www.faithhomewood.org/event/altar-setup-23/
LOCATION:Faith Lutheran of Homewood IL\, 18645 Dixie Highway\, Homewood\, IL\, 60430\, United States
END:VEVENT
BEGIN:VEVENT
DTSTART;TZID=America/Chicago:20240807T130000
DTEND;TZID=America/Chicago:20240807T140000
DTSTAMP:20260425T062131
CREATED:20240509T162132Z
LAST-MODIFIED:20240509T162133Z
UID:2522-1723035600-1723039200@www.faithhomewood.org
SUMMARY:Bible Study Group
DESCRIPTION:
URL:https://www.faithhomewood.org/event/bible-study-group-13/
LOCATION:Faith Lutheran of Homewood IL\, 18645 Dixie Highway\, Homewood\, IL\, 60430\, United States
END:VEVENT
BEGIN:VEVENT
DTSTART;TZID=America/Chicago:20240804T093000
DTEND;TZID=America/Chicago:20240804T103000
DTSTAMP:20260425T062131
CREATED:20240324T230841Z
LAST-MODIFIED:20240501T162617Z
UID:2224-1722763800-1722767400@www.faithhomewood.org
SUMMARY:Worship Service
DESCRIPTION:
URL:https://www.faithhomewood.org/event/worship-service-21/
LOCATION:Faith Lutheran of Homewood IL\, 18645 Dixie Highway\, Homewood\, IL\, 60430\, United States
END:VEVENT
BEGIN:VEVENT
DTSTART;TZID=America/Chicago:20240803T090000
DTEND;TZID=America/Chicago:20240803T100000
DTSTAMP:20260425T062131
CREATED:20240324T230453Z
LAST-MODIFIED:20240330T123718Z
UID:2207-1722675600-1722679200@www.faithhomewood.org
SUMMARY:Altar Setup
DESCRIPTION:
URL:https://www.faithhomewood.org/event/altar-setup-22/
LOCATION:Faith Lutheran of Homewood IL\, 18645 Dixie Highway\, Homewood\, IL\, 60430\, United States
END:VEVENT
BEGIN:VEVENT
DTSTART;TZID=America/Chicago:20240731T130000
DTEND;TZID=America/Chicago:20240731T140000
DTSTAMP:20260425T062131
CREATED:20240509T162121Z
LAST-MODIFIED:20240509T162122Z
UID:2521-1722430800-1722434400@www.faithhomewood.org
SUMMARY:Bible Study Group
DESCRIPTION:
URL:https://www.faithhomewood.org/event/bible-study-group-12/
LOCATION:Faith Lutheran of Homewood IL\, 18645 Dixie Highway\, Homewood\, IL\, 60430\, United States
END:VEVENT
BEGIN:VEVENT
DTSTART;TZID=America/Chicago:20240728T093000
DTEND;TZID=America/Chicago:20240728T103000
DTSTAMP:20260425T062131
CREATED:20240324T230827Z
LAST-MODIFIED:20240501T162633Z
UID:2225-1722159000-1722162600@www.faithhomewood.org
SUMMARY:Worship Service
DESCRIPTION:
URL:https://www.faithhomewood.org/event/worship-service-20/
LOCATION:Faith Lutheran of Homewood IL\, 18645 Dixie Highway\, Homewood\, IL\, 60430\, United States
END:VEVENT
BEGIN:VEVENT
DTSTART;TZID=America/Chicago:20240727T090000
DTEND;TZID=America/Chicago:20240727T100000
DTSTAMP:20260425T062131
CREATED:20240324T230438Z
LAST-MODIFIED:20240330T123704Z
UID:2208-1722070800-1722074400@www.faithhomewood.org
SUMMARY:Altar Setup
DESCRIPTION:
URL:https://www.faithhomewood.org/event/altar-setup-21/
LOCATION:Faith Lutheran of Homewood IL\, 18645 Dixie Highway\, Homewood\, IL\, 60430\, United States
END:VEVENT
BEGIN:VEVENT
DTSTART;TZID=America/Chicago:20240724T130000
DTEND;TZID=America/Chicago:20240724T140000
DTSTAMP:20260425T062131
CREATED:20240509T162114Z
LAST-MODIFIED:20240509T162114Z
UID:2520-1721826000-1721829600@www.faithhomewood.org
SUMMARY:Bible Study Group
DESCRIPTION:
URL:https://www.faithhomewood.org/event/bible-study-group-11/
LOCATION:Faith Lutheran of Homewood IL\, 18645 Dixie Highway\, Homewood\, IL\, 60430\, United States
END:VEVENT
BEGIN:VEVENT
DTSTART;TZID=America/Chicago:20240720T090000
DTEND;TZID=America/Chicago:20240720T100000
DTSTAMP:20260425T062131
CREATED:20240324T230420Z
LAST-MODIFIED:20240330T123657Z
UID:2209-1721466000-1721469600@www.faithhomewood.org
SUMMARY:Altar Setup
DESCRIPTION:
URL:https://www.faithhomewood.org/event/altar-setup-20/
LOCATION:Faith Lutheran of Homewood IL\, 18645 Dixie Highway\, Homewood\, IL\, 60430\, United States
END:VEVENT
END:VCALENDAR