BEGIN:VCALENDAR
VERSION:2.0
PRODID:-//Faith Lutheran of Homewood, IL - ECPv6.15.20//NONSGML v1.0//EN
CALSCALE:GREGORIAN
METHOD:PUBLISH
X-ORIGINAL-URL:https://www.faithhomewood.org
X-WR-CALDESC:Events for Faith Lutheran of Homewood, IL
REFRESH-INTERVAL;VALUE=DURATION:PT1H
X-Robots-Tag:noindex
X-PUBLISHED-TTL:PT1H
BEGIN:VTIMEZONE
TZID:America/Chicago
BEGIN:DAYLIGHT
TZOFFSETFROM:-0600
TZOFFSETTO:-0500
TZNAME:CDT
DTSTART:20250309T080000
END:DAYLIGHT
BEGIN:STANDARD
TZOFFSETFROM:-0500
TZOFFSETTO:-0600
TZNAME:CST
DTSTART:20251102T070000
END:STANDARD
BEGIN:DAYLIGHT
TZOFFSETFROM:-0600
TZOFFSETTO:-0500
TZNAME:CDT
DTSTART:20260308T080000
END:DAYLIGHT
BEGIN:STANDARD
TZOFFSETFROM:-0500
TZOFFSETTO:-0600
TZNAME:CST
DTSTART:20261101T070000
END:STANDARD
BEGIN:DAYLIGHT
TZOFFSETFROM:-0600
TZOFFSETTO:-0500
TZNAME:CDT
DTSTART:20270314T080000
END:DAYLIGHT
BEGIN:STANDARD
TZOFFSETFROM:-0500
TZOFFSETTO:-0600
TZNAME:CST
DTSTART:20271107T070000
END:STANDARD
END:VTIMEZONE
BEGIN:VEVENT
DTSTART;TZID=America/Chicago:20260408T130000
DTEND;TZID=America/Chicago:20260408T140000
DTSTAMP:20260423T182519
CREATED:20260323T131602Z
LAST-MODIFIED:20260323T131602Z
UID:4281-1775653200-1775656800@www.faithhomewood.org
SUMMARY:Bible Scripture Sharing
DESCRIPTION:
URL:https://www.faithhomewood.org/event/bible-scripture-sharing-15/
LOCATION:Faith Lutheran of Homewood IL\, 18645 Dixie Highway\, Homewood\, IL\, 60430\, United States
END:VEVENT
BEGIN:VEVENT
DTSTART;TZID=America/Chicago:20260411T090000
DTEND;TZID=America/Chicago:20260411T100000
DTSTAMP:20260423T182519
CREATED:20260113T145803Z
LAST-MODIFIED:20260113T145803Z
UID:4128-1775898000-1775901600@www.faithhomewood.org
SUMMARY:Altar Setup
DESCRIPTION:We encourage potential volunteers to assist in altar setup for our Sunday worship services for fellowship\, camaraderie\, and inspiration.
URL:https://www.faithhomewood.org/event/altar-setup-112/
LOCATION:Faith Lutheran of Homewood IL\, 18645 Dixie Highway\, Homewood\, IL\, 60430\, United States
END:VEVENT
BEGIN:VEVENT
DTSTART;TZID=America/Chicago:20260412T093000
DTEND;TZID=America/Chicago:20260412T103000
DTSTAMP:20260423T182519
CREATED:20260305T144751Z
LAST-MODIFIED:20260305T144751Z
UID:4237-1775986200-1775989800@www.faithhomewood.org
SUMMARY:Funeral/Memorial Planning
DESCRIPTION:
URL:https://www.faithhomewood.org/event/funeral-memorial-planning/
LOCATION:Faith Lutheran of Homewood IL\, 18645 Dixie Highway\, Homewood\, IL\, 60430\, United States
END:VEVENT
BEGIN:VEVENT
DTSTART;TZID=America/Chicago:20260412T103000
DTEND;TZID=America/Chicago:20260412T113000
DTSTAMP:20260423T182519
CREATED:20260113T145952Z
LAST-MODIFIED:20260113T145952Z
UID:4169-1775989800-1775993400@www.faithhomewood.org
SUMMARY:Worship Service
DESCRIPTION:Please join us for our weekly Sunday worship. Past services can be viewed via our YouTube channel.
URL:https://www.faithhomewood.org/event/worship-service-108/
LOCATION:Faith Lutheran of Homewood IL\, 18645 Dixie Highway\, Homewood\, IL\, 60430\, United States
END:VEVENT
BEGIN:VEVENT
DTSTART;TZID=America/Chicago:20260412T113000
DTEND;TZID=America/Chicago:20260412T123000
DTSTAMP:20260423T182519
CREATED:20260402T121904Z
LAST-MODIFIED:20260402T121905Z
UID:4329-1775993400-1775997000@www.faithhomewood.org
SUMMARY:Tech Booth Training
DESCRIPTION:Learn how to work sound and video in our tech booth for worship and other events. Join us on Sunday\, April 12th\, following worship for a lively session with Rob Travis.
URL:https://www.faithhomewood.org/event/tech-booth-training/
LOCATION:Faith Lutheran of Homewood IL\, 18645 Dixie Highway\, Homewood\, IL\, 60430\, United States
END:VEVENT
BEGIN:VEVENT
DTSTART;TZID=America/Chicago:20260415T130000
DTEND;TZID=America/Chicago:20260415T140000
DTSTAMP:20260423T182519
CREATED:20260323T131627Z
LAST-MODIFIED:20260323T131627Z
UID:4280-1776258000-1776261600@www.faithhomewood.org
SUMMARY:Bible Scripture Sharing
DESCRIPTION:
URL:https://www.faithhomewood.org/event/bible-scripture-sharing-16/
LOCATION:Faith Lutheran of Homewood IL\, 18645 Dixie Highway\, Homewood\, IL\, 60430\, United States
END:VEVENT
BEGIN:VEVENT
DTSTART;TZID=America/Chicago:20260418T090000
DTEND;TZID=America/Chicago:20260418T100000
DTSTAMP:20260423T182519
CREATED:20260113T145847Z
LAST-MODIFIED:20260113T145848Z
UID:4127-1776502800-1776506400@www.faithhomewood.org
SUMMARY:Altar Setup
DESCRIPTION:We encourage potential volunteers to assist in altar setup for our Sunday worship services for fellowship\, camaraderie\, and inspiration.
URL:https://www.faithhomewood.org/event/altar-setup-113/
LOCATION:Faith Lutheran of Homewood IL\, 18645 Dixie Highway\, Homewood\, IL\, 60430\, United States
END:VEVENT
BEGIN:VEVENT
DTSTART;TZID=America/Chicago:20260418T114500
DTEND;TZID=America/Chicago:20260418T130000
DTSTAMP:20260423T182519
CREATED:20260305T144834Z
LAST-MODIFIED:20260305T144834Z
UID:4255-1776512700-1776517200@www.faithhomewood.org
SUMMARY:Spring Cleaning Day
DESCRIPTION:
URL:https://www.faithhomewood.org/event/spring-cleaning-day/
LOCATION:Faith Lutheran of Homewood IL\, 18645 Dixie Highway\, Homewood\, IL\, 60430\, United States
END:VEVENT
BEGIN:VEVENT
DTSTART;TZID=America/Chicago:20260419T093000
DTEND;TZID=America/Chicago:20260419T103000
DTSTAMP:20260423T182519
CREATED:20260305T145222Z
LAST-MODIFIED:20260305T145222Z
UID:4267-1776591000-1776594600@www.faithhomewood.org
SUMMARY:Pastor Carla Thompson Powell: Fresh Expressions of Outreach & Ministry Forum/Preaching
DESCRIPTION:Please join us for our weekly Sunday worship. Past services can be viewed via our YouTube channel.
URL:https://www.faithhomewood.org/event/pastor-carla-thompson-powell-fresh-expressions-of-outreach-ministry-forum-preaching/
LOCATION:Faith Lutheran of Homewood IL\, 18645 Dixie Highway\, Homewood\, IL\, 60430\, United States
END:VEVENT
BEGIN:VEVENT
DTSTART;TZID=America/Chicago:20260419T103000
DTEND;TZID=America/Chicago:20260419T113000
DTSTAMP:20260423T182519
CREATED:20260305T143348Z
LAST-MODIFIED:20260305T143348Z
UID:4241-1776594600-1776598200@www.faithhomewood.org
SUMMARY:Worship Service
DESCRIPTION:Please join us for our weekly Sunday worship. Past services can be viewed via our YouTube channel.
URL:https://www.faithhomewood.org/event/worship-service-109/
LOCATION:Faith Lutheran of Homewood IL\, 18645 Dixie Highway\, Homewood\, IL\, 60430\, United States
END:VEVENT
BEGIN:VEVENT
DTSTART;TZID=America/Chicago:20260419T113000
DTEND;TZID=America/Chicago:20260419T123000
DTSTAMP:20260423T182519
CREATED:20260402T122016Z
LAST-MODIFIED:20260402T122016Z
UID:4331-1776598200-1776601800@www.faithhomewood.org
SUMMARY:Socioeconomic Table Meeting
DESCRIPTION:
URL:https://www.faithhomewood.org/event/socioeconomic-table-meeting/
LOCATION:Faith Lutheran of Homewood IL\, 18645 Dixie Highway\, Homewood\, IL\, 60430\, United States
END:VEVENT
BEGIN:VEVENT
DTSTART;TZID=America/Chicago:20260422T130000
DTEND;TZID=America/Chicago:20260422T140000
DTSTAMP:20260423T182519
CREATED:20260323T131651Z
LAST-MODIFIED:20260323T131651Z
UID:4279-1776862800-1776866400@www.faithhomewood.org
SUMMARY:Bible Scripture Sharing
DESCRIPTION:
URL:https://www.faithhomewood.org/event/bible-scripture-sharing-17/
LOCATION:Faith Lutheran of Homewood IL\, 18645 Dixie Highway\, Homewood\, IL\, 60430\, United States
END:VEVENT
BEGIN:VEVENT
DTSTART;TZID=America/Chicago:20260424T190000
DTEND;TZID=America/Chicago:20260424T210000
DTSTAMP:20260423T182519
CREATED:20260305T144330Z
LAST-MODIFIED:20260305T144330Z
UID:4259-1777057200-1777064400@www.faithhomewood.org
SUMMARY:Environmental Group Screening - "Buy Now"
DESCRIPTION:
URL:https://www.faithhomewood.org/event/environmental-group-screening-buy-now/
LOCATION:Faith Lutheran of Homewood IL\, 18645 Dixie Highway\, Homewood\, IL\, 60430\, United States
END:VEVENT
BEGIN:VEVENT
DTSTART;TZID=America/Chicago:20260425T090000
DTEND;TZID=America/Chicago:20260425T100000
DTSTAMP:20260423T182519
CREATED:20260305T143453Z
LAST-MODIFIED:20260305T143454Z
UID:4244-1777107600-1777111200@www.faithhomewood.org
SUMMARY:Altar Setup
DESCRIPTION:We encourage potential volunteers to assist in altar setup for our Sunday worship services for fellowship\, camaraderie\, and inspiration.
URL:https://www.faithhomewood.org/event/altar-setup-114/
LOCATION:Faith Lutheran of Homewood IL\, 18645 Dixie Highway\, Homewood\, IL\, 60430\, United States
END:VEVENT
BEGIN:VEVENT
DTSTART;TZID=America/Chicago:20260426T103000
DTEND;TZID=America/Chicago:20260426T113000
DTSTAMP:20260423T182519
CREATED:20260305T143416Z
LAST-MODIFIED:20260305T143416Z
UID:4240-1777199400-1777203000@www.faithhomewood.org
SUMMARY:Worship Service - Celebrating Graduating Seniors
DESCRIPTION:Please join us for our weekly Sunday worship. Past services can be viewed via our YouTube channel.
URL:https://www.faithhomewood.org/event/worship-service-celebrating-graduating-seniors/
LOCATION:Faith Lutheran of Homewood IL\, 18645 Dixie Highway\, Homewood\, IL\, 60430\, United States
END:VEVENT
BEGIN:VEVENT
DTSTART;TZID=America/Chicago:20260502T090000
DTEND;TZID=America/Chicago:20260502T100000
DTSTAMP:20260423T182519
CREATED:20260305T143513Z
LAST-MODIFIED:20260305T143514Z
UID:4245-1777712400-1777716000@www.faithhomewood.org
SUMMARY:Altar Setup
DESCRIPTION:We encourage potential volunteers to assist in altar setup for our Sunday worship services for fellowship\, camaraderie\, and inspiration.
URL:https://www.faithhomewood.org/event/altar-setup-115/
LOCATION:Faith Lutheran of Homewood IL\, 18645 Dixie Highway\, Homewood\, IL\, 60430\, United States
END:VEVENT
BEGIN:VEVENT
DTSTART;TZID=America/Chicago:20260503T103000
DTEND;TZID=America/Chicago:20260503T113000
DTSTAMP:20260423T182519
CREATED:20260402T122542Z
LAST-MODIFIED:20260402T122542Z
UID:4351-1777804200-1777807800@www.faithhomewood.org
SUMMARY:Worship Service
DESCRIPTION:Please join us for our weekly Sunday worship. Past services can be viewed via our YouTube channel.
URL:https://www.faithhomewood.org/event/worship-service-110/
LOCATION:Faith Lutheran of Homewood IL\, 18645 Dixie Highway\, Homewood\, IL\, 60430\, United States
END:VEVENT
BEGIN:VEVENT
DTSTART;TZID=America/Chicago:20260509T090000
DTEND;TZID=America/Chicago:20260509T100000
DTSTAMP:20260423T182519
CREATED:20260402T122252Z
LAST-MODIFIED:20260402T122253Z
UID:4341-1778317200-1778320800@www.faithhomewood.org
SUMMARY:Altar Setup
DESCRIPTION:We encourage potential volunteers to assist in altar setup for our Sunday worship services for fellowship\, camaraderie\, and inspiration.
URL:https://www.faithhomewood.org/event/altar-setup-116/
LOCATION:Faith Lutheran of Homewood IL\, 18645 Dixie Highway\, Homewood\, IL\, 60430\, United States
END:VEVENT
BEGIN:VEVENT
DTSTART;TZID=America/Chicago:20260510T103000
DTEND;TZID=America/Chicago:20260510T113000
DTSTAMP:20260423T182519
CREATED:20260402T122604Z
LAST-MODIFIED:20260402T122604Z
UID:4350-1778409000-1778412600@www.faithhomewood.org
SUMMARY:Worship Service
DESCRIPTION:Please join us for our weekly Sunday worship. Past services can be viewed via our YouTube channel.
URL:https://www.faithhomewood.org/event/worship-service-111/
LOCATION:Faith Lutheran of Homewood IL\, 18645 Dixie Highway\, Homewood\, IL\, 60430\, United States
END:VEVENT
BEGIN:VEVENT
DTSTART;TZID=America/Chicago:20260516T090000
DTEND;TZID=America/Chicago:20260516T100000
DTSTAMP:20260423T182519
CREATED:20260402T122308Z
LAST-MODIFIED:20260402T122308Z
UID:4340-1778922000-1778925600@www.faithhomewood.org
SUMMARY:Altar Setup
DESCRIPTION:We encourage potential volunteers to assist in altar setup for our Sunday worship services for fellowship\, camaraderie\, and inspiration.
URL:https://www.faithhomewood.org/event/altar-setup-117/
LOCATION:Faith Lutheran of Homewood IL\, 18645 Dixie Highway\, Homewood\, IL\, 60430\, United States
END:VEVENT
BEGIN:VEVENT
DTSTART;TZID=America/Chicago:20260517T103000
DTEND;TZID=America/Chicago:20260517T113000
DTSTAMP:20260423T182519
CREATED:20260402T122624Z
LAST-MODIFIED:20260402T122625Z
UID:4349-1779013800-1779017400@www.faithhomewood.org
SUMMARY:Worship Service
DESCRIPTION:Please join us for our weekly Sunday worship. Past services can be viewed via our YouTube channel.
URL:https://www.faithhomewood.org/event/worship-service-112/
LOCATION:Faith Lutheran of Homewood IL\, 18645 Dixie Highway\, Homewood\, IL\, 60430\, United States
END:VEVENT
BEGIN:VEVENT
DTSTART;TZID=America/Chicago:20260523T090000
DTEND;TZID=America/Chicago:20260523T100000
DTSTAMP:20260423T182519
CREATED:20260402T122338Z
LAST-MODIFIED:20260402T122339Z
UID:4354-1779526800-1779530400@www.faithhomewood.org
SUMMARY:Altar Setup
DESCRIPTION:We encourage potential volunteers to assist in altar setup for our Sunday worship services for fellowship\, camaraderie\, and inspiration.
URL:https://www.faithhomewood.org/event/altar-setup-118/
LOCATION:Faith Lutheran of Homewood IL\, 18645 Dixie Highway\, Homewood\, IL\, 60430\, United States
END:VEVENT
BEGIN:VEVENT
DTSTART;TZID=America/Chicago:20260524T093000
DTEND;TZID=America/Chicago:20260524T103000
DTSTAMP:20260423T182519
CREATED:20260402T122701Z
LAST-MODIFIED:20260402T122702Z
UID:4348-1779615000-1779618600@www.faithhomewood.org
SUMMARY:Worship Service
DESCRIPTION:Please join us for our weekly Sunday worship. Past services can be viewed via our YouTube channel.
URL:https://www.faithhomewood.org/event/worship-service-113/
LOCATION:Faith Lutheran of Homewood IL\, 18645 Dixie Highway\, Homewood\, IL\, 60430\, United States
END:VEVENT
BEGIN:VEVENT
DTSTART;TZID=America/Chicago:20260530T090000
DTEND;TZID=America/Chicago:20260530T100000
DTSTAMP:20260423T182519
CREATED:20260402T122357Z
LAST-MODIFIED:20260402T122357Z
UID:4337-1780131600-1780135200@www.faithhomewood.org
SUMMARY:Altar Setup
DESCRIPTION:We encourage potential volunteers to assist in altar setup for our Sunday worship services for fellowship\, camaraderie\, and inspiration.
URL:https://www.faithhomewood.org/event/altar-setup-119/
LOCATION:Faith Lutheran of Homewood IL\, 18645 Dixie Highway\, Homewood\, IL\, 60430\, United States
END:VEVENT
BEGIN:VEVENT
DTSTART;TZID=America/Chicago:20260531T093000
DTEND;TZID=America/Chicago:20260531T103000
DTSTAMP:20260423T182519
CREATED:20260402T122742Z
LAST-MODIFIED:20260402T122742Z
UID:4347-1780219800-1780223400@www.faithhomewood.org
SUMMARY:Worship Service
DESCRIPTION:Please join us for our weekly Sunday worship. Past services can be viewed via our YouTube channel.
URL:https://www.faithhomewood.org/event/worship-service-114/
LOCATION:Faith Lutheran of Homewood IL\, 18645 Dixie Highway\, Homewood\, IL\, 60430\, United States
END:VEVENT
BEGIN:VEVENT
DTSTART;TZID=America/Chicago:20260606T090000
DTEND;TZID=America/Chicago:20260606T100000
DTSTAMP:20260423T182519
CREATED:20260402T122416Z
LAST-MODIFIED:20260402T122417Z
UID:4336-1780736400-1780740000@www.faithhomewood.org
SUMMARY:Altar Setup
DESCRIPTION:We encourage potential volunteers to assist in altar setup for our Sunday worship services for fellowship\, camaraderie\, and inspiration.
URL:https://www.faithhomewood.org/event/altar-setup-120/
LOCATION:Faith Lutheran of Homewood IL\, 18645 Dixie Highway\, Homewood\, IL\, 60430\, United States
END:VEVENT
BEGIN:VEVENT
DTSTART;TZID=America/Chicago:20260607T093000
DTEND;TZID=America/Chicago:20260607T103000
DTSTAMP:20260423T182519
CREATED:20260402T122827Z
LAST-MODIFIED:20260402T122827Z
UID:4346-1780824600-1780828200@www.faithhomewood.org
SUMMARY:Worship Service
DESCRIPTION:Please join us for our weekly Sunday worship. Past services can be viewed via our YouTube channel.
URL:https://www.faithhomewood.org/event/worship-service-115/
LOCATION:Faith Lutheran of Homewood IL\, 18645 Dixie Highway\, Homewood\, IL\, 60430\, United States
END:VEVENT
BEGIN:VEVENT
DTSTART;TZID=America/Chicago:20260608T090000
DTEND;TZID=America/Chicago:20260608T120000
DTSTAMP:20260423T182519
CREATED:20260325T153148Z
LAST-MODIFIED:20260325T153600Z
UID:4285-1780909200-1780920000@www.faithhomewood.org
SUMMARY:Vacation Bible School 2026
DESCRIPTION:Step through the mist into Rainforest Falls\, overflowing with wild waterfalls\, towering trees and colorful creatures. Beneath a canopy of chattering birds and howling monkeys\, kids plunge into a life-long adventure\, discovering the nature of God\, and exploring what it means to be rooted in relationship with their creator\, a safe place in life’s storms. \n\n\n\nRegister via https://vbspro.events/p/events/48d35d
URL:https://www.faithhomewood.org/event/vacation-bible-school-2026/
LOCATION:Faith Lutheran of Homewood IL\, 18645 Dixie Highway\, Homewood\, IL\, 60430\, United States
END:VEVENT
BEGIN:VEVENT
DTSTART;TZID=America/Chicago:20260609T090000
DTEND;TZID=America/Chicago:20260609T120000
DTSTAMP:20260423T182519
CREATED:20260325T153641Z
LAST-MODIFIED:20260325T153641Z
UID:4288-1780995600-1781006400@www.faithhomewood.org
SUMMARY:Vacation Bible School 2026
DESCRIPTION:Step through the mist into Rainforest Falls\, overflowing with wild waterfalls\, towering trees and colorful creatures. Beneath a canopy of chattering birds and howling monkeys\, kids plunge into a life-long adventure\, discovering the nature of God\, and exploring what it means to be rooted in relationship with their creator\, a safe place in life’s storms. \n\n\n\nRegister via https://vbspro.events/p/events/48d35d
URL:https://www.faithhomewood.org/event/vacation-bible-school-2026-2/
LOCATION:Faith Lutheran of Homewood IL\, 18645 Dixie Highway\, Homewood\, IL\, 60430\, United States
END:VEVENT
BEGIN:VEVENT
DTSTART;TZID=America/Chicago:20260610T090000
DTEND;TZID=America/Chicago:20260610T120000
DTSTAMP:20260423T182519
CREATED:20260325T153659Z
LAST-MODIFIED:20260325T153659Z
UID:4291-1781082000-1781092800@www.faithhomewood.org
SUMMARY:Vacation Bible School 2026
DESCRIPTION:Step through the mist into Rainforest Falls\, overflowing with wild waterfalls\, towering trees and colorful creatures. Beneath a canopy of chattering birds and howling monkeys\, kids plunge into a life-long adventure\, discovering the nature of God\, and exploring what it means to be rooted in relationship with their creator\, a safe place in life’s storms. \n\n\n\nRegister via https://vbspro.events/p/events/48d35d
URL:https://www.faithhomewood.org/event/vacation-bible-school-2026-3/
LOCATION:Faith Lutheran of Homewood IL\, 18645 Dixie Highway\, Homewood\, IL\, 60430\, United States
END:VEVENT
END:VCALENDAR