BEGIN:VCALENDAR
VERSION:2.0
PRODID:-//Faith Lutheran of Homewood, IL - ECPv6.15.20//NONSGML v1.0//EN
CALSCALE:GREGORIAN
METHOD:PUBLISH
X-WR-CALNAME:Faith Lutheran of Homewood, IL
X-ORIGINAL-URL:https://www.faithhomewood.org
X-WR-CALDESC:Events for Faith Lutheran of Homewood, IL
REFRESH-INTERVAL;VALUE=DURATION:PT1H
X-Robots-Tag:noindex
X-PUBLISHED-TTL:PT1H
BEGIN:VTIMEZONE
TZID:America/Chicago
BEGIN:DAYLIGHT
TZOFFSETFROM:-0600
TZOFFSETTO:-0500
TZNAME:CDT
DTSTART:20230312T080000
END:DAYLIGHT
BEGIN:STANDARD
TZOFFSETFROM:-0500
TZOFFSETTO:-0600
TZNAME:CST
DTSTART:20231105T070000
END:STANDARD
BEGIN:DAYLIGHT
TZOFFSETFROM:-0600
TZOFFSETTO:-0500
TZNAME:CDT
DTSTART:20240310T080000
END:DAYLIGHT
BEGIN:STANDARD
TZOFFSETFROM:-0500
TZOFFSETTO:-0600
TZNAME:CST
DTSTART:20241103T070000
END:STANDARD
BEGIN:DAYLIGHT
TZOFFSETFROM:-0600
TZOFFSETTO:-0500
TZNAME:CDT
DTSTART:20250309T080000
END:DAYLIGHT
BEGIN:STANDARD
TZOFFSETFROM:-0500
TZOFFSETTO:-0600
TZNAME:CST
DTSTART:20251102T070000
END:STANDARD
END:VTIMEZONE
BEGIN:VEVENT
DTSTART;TZID=America/Chicago:20241215T183000
DTEND;TZID=America/Chicago:20241215T203000
DTSTAMP:20260425T060640
CREATED:20241120T183409Z
LAST-MODIFIED:20241120T183410Z
UID:2778-1734287400-1734294600@www.faithhomewood.org
SUMMARY:Worthy: A Christmas Cantata
DESCRIPTION:The Cantata will be held at Triedstone Church at 1415 West 104th St in Chicago. Admission is free\, and all donations benefit Habitat for Humanity of Chicago.  (Stephen Styles is the organizer\, who brought the Oakwood University Aeolian Choir to Faith in 2022\, which was a musical treat!)  This concert is\, in part\, intentionally bringing folks together across racial differences\, faith traditions\, and other identities. \n\n\n\nWant to get free tickets?  worthycantatachicago.eventbrite.com  \n\n\n\nWant to sing in the chorus? Sign Up Via This Google Form Link
URL:https://www.faithhomewood.org/event/worthy-a-christmas-cantata/
LOCATION:Triedstone Church\, 1415 W 104th Street\, Chicago\, Illinois\, United States
END:VEVENT
BEGIN:VEVENT
DTSTART;TZID=America/Chicago:20241215T103000
DTEND;TZID=America/Chicago:20241215T113000
DTSTAMP:20260425T060640
CREATED:20240515T182026Z
LAST-MODIFIED:20240515T182027Z
UID:2583-1734258600-1734262200@www.faithhomewood.org
SUMMARY:Worship Service
DESCRIPTION:Please join us for our weekly Sunday worship. Past services can be viewed via our YouTube channel.
URL:https://www.faithhomewood.org/event/worship-service-39/
LOCATION:Faith Lutheran of Homewood IL\, 18645 Dixie Highway\, Homewood\, IL\, 60430\, United States
END:VEVENT
BEGIN:VEVENT
DTSTART;TZID=America/Chicago:20241214T090000
DTEND;TZID=America/Chicago:20241214T100000
DTSTAMP:20260425T060640
CREATED:20240515T181621Z
LAST-MODIFIED:20240515T181622Z
UID:2560-1734166800-1734170400@www.faithhomewood.org
SUMMARY:Altar Setup
DESCRIPTION:We encourage potential volunteers to assist in altar setup for our Sunday worship services for fellowship\, camaraderie\, and inspiration.
URL:https://www.faithhomewood.org/event/altar-setup-42/
LOCATION:Faith Lutheran of Homewood IL\, 18645 Dixie Highway\, Homewood\, IL\, 60430\, United States
END:VEVENT
BEGIN:VEVENT
DTSTART;TZID=America/Chicago:20241211T130000
DTEND;TZID=America/Chicago:20241211T140000
DTSTAMP:20260425T060640
CREATED:20241201T205239Z
LAST-MODIFIED:20241201T205240Z
UID:2891-1733922000-1733925600@www.faithhomewood.org
SUMMARY:Bible Scripture Sharing
DESCRIPTION:
URL:https://www.faithhomewood.org/event/bible-scripture-sharing-3/
LOCATION:Faith Lutheran of Homewood IL\, 18645 Dixie Highway\, Homewood\, IL\, 60430\, United States
END:VEVENT
BEGIN:VEVENT
DTSTART;TZID=America/Chicago:20241208T160000
DTEND;TZID=America/Chicago:20241208T180000
DTSTAMP:20260425T060640
CREATED:20241120T182944Z
LAST-MODIFIED:20241120T182945Z
UID:2776-1733673600-1733680800@www.faithhomewood.org
SUMMARY:Joy and Fanfare Master Chorale Concert
DESCRIPTION:
URL:https://www.faithhomewood.org/event/joy-and-fanfare-master-chorale-concert-2/
END:VEVENT
BEGIN:VEVENT
DTSTART;TZID=America/Chicago:20241208T103000
DTEND;TZID=America/Chicago:20241208T113000
DTSTAMP:20260425T060640
CREATED:20240515T182014Z
LAST-MODIFIED:20240515T182015Z
UID:2584-1733653800-1733657400@www.faithhomewood.org
SUMMARY:Worship Service
DESCRIPTION:Please join us for our weekly Sunday worship. Past services can be viewed via our YouTube channel.
URL:https://www.faithhomewood.org/event/worship-service-38/
LOCATION:Faith Lutheran of Homewood IL\, 18645 Dixie Highway\, Homewood\, IL\, 60430\, United States
END:VEVENT
BEGIN:VEVENT
DTSTART;TZID=America/Chicago:20241208T080000
DTEND;TZID=America/Chicago:20241208T170000
DTSTAMP:20260425T060640
CREATED:20241204T202937Z
LAST-MODIFIED:20241204T202938Z
UID:2909-1733644800-1733677200@www.faithhomewood.org
SUMMARY:Confirmation Class After Worship
DESCRIPTION:Confirmands will spend class time in the conference room\, and then we will hold cookie decorating and caroling. We ask that you please bring a sack lunch and a drink for the class.
URL:https://www.faithhomewood.org/event/confirmation-class-after-worship-2/
LOCATION:Faith Lutheran of Homewood IL\, 18645 Dixie Highway\, Homewood\, IL\, 60430\, United States
END:VEVENT
BEGIN:VEVENT
DTSTART;TZID=America/Chicago:20241207T100000
DTEND;TZID=America/Chicago:20241207T113000
DTSTAMP:20260425T060640
CREATED:20241204T202608Z
LAST-MODIFIED:20241204T202610Z
UID:2907-1733565600-1733571000@www.faithhomewood.org
SUMMARY:Memorial for George Woolsley
DESCRIPTION:We will hold a memorial service for George Woolsley on Saturday\, December 7th at 10:00 am. Please keep the Woolsley family in your prayers.
URL:https://www.faithhomewood.org/event/memorial-for-george-woolsley/
LOCATION:Faith Lutheran of Homewood IL\, 18645 Dixie Highway\, Homewood\, IL\, 60430\, United States
END:VEVENT
BEGIN:VEVENT
DTSTART;TZID=America/Chicago:20241207T090000
DTEND;TZID=America/Chicago:20241207T100000
DTSTAMP:20260425T060640
CREATED:20240515T181610Z
LAST-MODIFIED:20240515T181612Z
UID:2561-1733562000-1733565600@www.faithhomewood.org
SUMMARY:Altar Setup
DESCRIPTION:We encourage potential volunteers to assist in altar setup for our Sunday worship services for fellowship\, camaraderie\, and inspiration.
URL:https://www.faithhomewood.org/event/altar-setup-41/
LOCATION:Faith Lutheran of Homewood IL\, 18645 Dixie Highway\, Homewood\, IL\, 60430\, United States
END:VEVENT
BEGIN:VEVENT
DTSTART;TZID=America/Chicago:20241207T090000
DTEND;TZID=America/Chicago:20241207T100000
DTSTAMP:20260425T060640
CREATED:20240515T181557Z
LAST-MODIFIED:20240515T181559Z
UID:2562-1733562000-1733565600@www.faithhomewood.org
SUMMARY:Altar Setup
DESCRIPTION:We encourage potential volunteers to assist in altar setup for our Sunday worship services for fellowship\, camaraderie\, and inspiration.
URL:https://www.faithhomewood.org/event/altar-setup-40/
LOCATION:Faith Lutheran of Homewood IL\, 18645 Dixie Highway\, Homewood\, IL\, 60430\, United States
END:VEVENT
BEGIN:VEVENT
DTSTART;TZID=America/Chicago:20241204T130000
DTEND;TZID=America/Chicago:20241204T140000
DTSTAMP:20260425T060640
CREATED:20241201T204822Z
LAST-MODIFIED:20241201T204824Z
UID:2876-1733317200-1733320800@www.faithhomewood.org
SUMMARY:Bible Scripture Sharing
DESCRIPTION:
URL:https://www.faithhomewood.org/event/bible-scripture-sharing/
LOCATION:Faith Lutheran of Homewood IL\, 18645 Dixie Highway\, Homewood\, IL\, 60430\, United States
END:VEVENT
BEGIN:VEVENT
DTSTART;TZID=America/Chicago:20241201T160000
DTEND;TZID=America/Chicago:20241201T180000
DTSTAMP:20260425T060640
CREATED:20241120T182748Z
LAST-MODIFIED:20241120T182750Z
UID:2774-1733068800-1733076000@www.faithhomewood.org
SUMMARY:Joy and Fanfare Master Chorale Concert
DESCRIPTION:
URL:https://www.faithhomewood.org/event/joy-and-fanfare-master-chorale-concert/
END:VEVENT
BEGIN:VEVENT
DTSTART;TZID=America/Chicago:20241201T103000
DTEND;TZID=America/Chicago:20241201T113000
DTSTAMP:20260425T060640
CREATED:20240515T182004Z
LAST-MODIFIED:20240515T182005Z
UID:2585-1733049000-1733052600@www.faithhomewood.org
SUMMARY:Worship Service
DESCRIPTION:Please join us for our weekly Sunday worship. Past services can be viewed via our YouTube channel.
URL:https://www.faithhomewood.org/event/worship-service-37/
LOCATION:Faith Lutheran of Homewood IL\, 18645 Dixie Highway\, Homewood\, IL\, 60430\, United States
END:VEVENT
BEGIN:VEVENT
DTSTART;TZID=America/Chicago:20241130T090000
DTEND;TZID=America/Chicago:20241130T100000
DTSTAMP:20260425T060640
CREATED:20240515T181547Z
LAST-MODIFIED:20240515T181548Z
UID:2563-1732957200-1732960800@www.faithhomewood.org
SUMMARY:Altar Setup
DESCRIPTION:We encourage potential volunteers to assist in altar setup for our Sunday worship services for fellowship\, camaraderie\, and inspiration.
URL:https://www.faithhomewood.org/event/altar-setup-39/
LOCATION:Faith Lutheran of Homewood IL\, 18645 Dixie Highway\, Homewood\, IL\, 60430\, United States
END:VEVENT
BEGIN:VEVENT
DTSTART;TZID=America/Chicago:20241124T190000
DTEND;TZID=America/Chicago:20241124T210000
DTSTAMP:20260425T060640
CREATED:20241120T182409Z
LAST-MODIFIED:20250918T014328Z
UID:2770-1732474800-1732482000@www.faithhomewood.org
SUMMARY:Community Thanksgiving Gathering
DESCRIPTION:
URL:https://www.faithhomewood.org/event/community-thanksgiving-gathering/
END:VEVENT
BEGIN:VEVENT
DTSTART;TZID=America/Chicago:20241124T103000
DTEND;TZID=America/Chicago:20241124T113000
DTSTAMP:20260425T060640
CREATED:20240515T181952Z
LAST-MODIFIED:20240515T181953Z
UID:2586-1732444200-1732447800@www.faithhomewood.org
SUMMARY:Worship Service
DESCRIPTION:Please join us for our weekly Sunday worship. Past services can be viewed via our YouTube channel.
URL:https://www.faithhomewood.org/event/worship-service-36/
LOCATION:Faith Lutheran of Homewood IL\, 18645 Dixie Highway\, Homewood\, IL\, 60430\, United States
END:VEVENT
BEGIN:VEVENT
DTSTART;TZID=America/Chicago:20241123T090000
DTEND;TZID=America/Chicago:20241123T100000
DTSTAMP:20260425T060640
CREATED:20240515T181539Z
LAST-MODIFIED:20240515T181540Z
UID:2564-1732352400-1732356000@www.faithhomewood.org
SUMMARY:Altar Setup
DESCRIPTION:We encourage potential volunteers to assist in altar setup for our Sunday worship services for fellowship\, camaraderie\, and inspiration.
URL:https://www.faithhomewood.org/event/altar-setup-38/
LOCATION:Faith Lutheran of Homewood IL\, 18645 Dixie Highway\, Homewood\, IL\, 60430\, United States
END:VEVENT
BEGIN:VEVENT
DTSTART;TZID=America/Chicago:20241119T190000
DTEND;TZID=America/Chicago:20241119T203000
DTSTAMP:20260425T060640
CREATED:20240509T161527Z
LAST-MODIFIED:20240509T161528Z
UID:2490-1732042800-1732048200@www.faithhomewood.org
SUMMARY:Church Council - Meeting
DESCRIPTION:
URL:https://www.faithhomewood.org/event/church-council-meeting-7/
LOCATION:Faith Lutheran of Homewood IL\, 18645 Dixie Highway\, Homewood\, IL\, 60430\, United States
END:VEVENT
BEGIN:VEVENT
DTSTART;TZID=America/Chicago:20241119T130000
DTEND;TZID=America/Chicago:20241119T140000
DTSTAMP:20260425T060640
CREATED:20240509T160557Z
LAST-MODIFIED:20240509T160558Z
UID:2489-1732021200-1732024800@www.faithhomewood.org
SUMMARY:Altar Guild
DESCRIPTION:
URL:https://www.faithhomewood.org/event/altar-guild-7/
LOCATION:Faith Lutheran of Homewood IL\, 18645 Dixie Highway\, Homewood\, IL\, 60430\, United States
END:VEVENT
BEGIN:VEVENT
DTSTART;TZID=America/Chicago:20241117T113000
DTEND;TZID=America/Chicago:20241117T130000
DTSTAMP:20260425T060640
CREATED:20241106T194037Z
LAST-MODIFIED:20241106T194039Z
UID:2759-1731843000-1731848400@www.faithhomewood.org
SUMMARY:Consecration Sunday & Potluck
DESCRIPTION:We plan to place 2025 pledge cards on the offering plate as an act of worship to God\, the creator of all things.   \n\n\n\nPlease bring a pledge card with you (if you forget\, there are some at the church building).  \n\n\n\nAlso\, stay for potluck\, fellowship\, and time together!  Last name beginning in A-L bring a side dish\, M-Z\, bring a dessert. 
URL:https://www.faithhomewood.org/event/consecration-sunday-potluck/
LOCATION:Faith Lutheran of Homewood IL\, 18645 Dixie Highway\, Homewood\, IL\, 60430\, United States
END:VEVENT
BEGIN:VEVENT
DTSTART;TZID=America/Chicago:20241117T103000
DTEND;TZID=America/Chicago:20241117T113000
DTSTAMP:20260425T060640
CREATED:20240515T181943Z
LAST-MODIFIED:20240515T181944Z
UID:2587-1731839400-1731843000@www.faithhomewood.org
SUMMARY:Worship Service
DESCRIPTION:Please join us for our weekly Sunday worship. Past services can be viewed via our YouTube channel.
URL:https://www.faithhomewood.org/event/worship-service-35/
LOCATION:Faith Lutheran of Homewood IL\, 18645 Dixie Highway\, Homewood\, IL\, 60430\, United States
END:VEVENT
BEGIN:VEVENT
DTSTART;TZID=America/Chicago:20241116T140000
DTEND;TZID=America/Chicago:20241116T160000
DTSTAMP:20260425T060640
CREATED:20240821T171056Z
LAST-MODIFIED:20240821T171232Z
UID:2687-1731765600-1731772800@www.faithhomewood.org
SUMMARY:Field Trip - Feed My Starving Children (Aurora\, IL)
DESCRIPTION:On Saturday\, November 16\, from 2:00 to 4:00 pm\, we will serve at Feed My Starving Children in Aurora.  This is especially good for kids and families age 5 and up. FMSC packs shelf-stable meals and sends them to places of crisis or famine. Hope to see you there!
URL:https://www.faithhomewood.org/event/field-trip-feed-my-starving-children-aurora-il/
LOCATION:Feed My Starving Children\, 555 Exchange Court\, Aurora\, Illinois\, 60504\, United States
END:VEVENT
BEGIN:VEVENT
DTSTART;TZID=America/Chicago:20241116T090000
DTEND;TZID=America/Chicago:20241116T100000
DTSTAMP:20260425T060640
CREATED:20240515T181527Z
LAST-MODIFIED:20240515T181528Z
UID:2565-1731747600-1731751200@www.faithhomewood.org
SUMMARY:Altar Setup
DESCRIPTION:We encourage potential volunteers to assist in altar setup for our Sunday worship services for fellowship\, camaraderie\, and inspiration.
URL:https://www.faithhomewood.org/event/altar-setup-37/
LOCATION:Faith Lutheran of Homewood IL\, 18645 Dixie Highway\, Homewood\, IL\, 60430\, United States
END:VEVENT
BEGIN:VEVENT
DTSTART;TZID=America/Chicago:20241111T153000
DTEND;TZID=America/Chicago:20241111T170000
DTSTAMP:20260425T060640
CREATED:20241106T192757Z
LAST-MODIFIED:20241106T192758Z
UID:2757-1731339000-1731344400@www.faithhomewood.org
SUMMARY:Cooking for PADS
DESCRIPTION:Once a month we cook for homeless guests of PADS. This month please consider contributing needed ingredients to help in our efforts. please check the list on the church office window or call the office at 708-799-1160 for specific information. We’re thankful for Lee Brauer who heads this ministry\, and she can be reached at 708-769-3432
URL:https://www.faithhomewood.org/event/cooking-for-pads/
LOCATION:Faith Lutheran of Homewood IL\, 18645 Dixie Highway\, Homewood\, IL\, 60430\, United States
END:VEVENT
BEGIN:VEVENT
DTSTART;TZID=America/Chicago:20241110T113000
DTEND;TZID=America/Chicago:20241110T123000
DTSTAMP:20260425T060640
CREATED:20241017T002844Z
LAST-MODIFIED:20241017T002848Z
UID:2743-1731238200-1731241800@www.faithhomewood.org
SUMMARY:Widen the Welcome Presentation: Doctor Marvin Wickware
DESCRIPTION:From the Widen the Welcome teamTo follow up on your good questions and comments\, we look forward to hosting Dr. Marvin Wickware on Sunday\, November 10\, for worship and follow-up conversation. Dr. Wickware teaches Christian ethics\, race\, and Christianity at the Lutheran School of Theology in Chicago.
URL:https://www.faithhomewood.org/event/widen-the-welcome-presentation-doctor-marvin-wickware/
LOCATION:Faith Lutheran of Homewood IL\, 18645 Dixie Highway\, Homewood\, IL\, 60430\, United States
END:VEVENT
BEGIN:VEVENT
DTSTART;TZID=America/Chicago:20241110T103000
DTEND;TZID=America/Chicago:20241110T113000
DTSTAMP:20260425T060640
CREATED:20240515T181934Z
LAST-MODIFIED:20240515T181935Z
UID:2588-1731234600-1731238200@www.faithhomewood.org
SUMMARY:Worship Service
DESCRIPTION:Please join us for our weekly Sunday worship. Past services can be viewed via our YouTube channel.
URL:https://www.faithhomewood.org/event/worship-service-34/
LOCATION:Faith Lutheran of Homewood IL\, 18645 Dixie Highway\, Homewood\, IL\, 60430\, United States
END:VEVENT
BEGIN:VEVENT
DTSTART;TZID=America/Chicago:20241109T090000
DTEND;TZID=America/Chicago:20241109T100000
DTSTAMP:20260425T060640
CREATED:20240515T181516Z
LAST-MODIFIED:20240515T181517Z
UID:2566-1731142800-1731146400@www.faithhomewood.org
SUMMARY:Altar Setup
DESCRIPTION:We encourage potential volunteers to assist in altar setup for our Sunday worship services for fellowship\, camaraderie\, and inspiration.
URL:https://www.faithhomewood.org/event/altar-setup-36/
LOCATION:Faith Lutheran of Homewood IL\, 18645 Dixie Highway\, Homewood\, IL\, 60430\, United States
END:VEVENT
BEGIN:VEVENT
DTSTART;TZID=America/Chicago:20241103T103000
DTEND;TZID=America/Chicago:20241103T113000
DTSTAMP:20260425T060640
CREATED:20240515T181925Z
LAST-MODIFIED:20240515T181926Z
UID:2589-1730629800-1730633400@www.faithhomewood.org
SUMMARY:Worship Service
DESCRIPTION:Please join us for our weekly Sunday worship. Past services can be viewed via our YouTube channel.
URL:https://www.faithhomewood.org/event/worship-service-33/
LOCATION:Faith Lutheran of Homewood IL\, 18645 Dixie Highway\, Homewood\, IL\, 60430\, United States
END:VEVENT
BEGIN:VEVENT
DTSTART;TZID=America/Chicago:20241102T090000
DTEND;TZID=America/Chicago:20241102T100000
DTSTAMP:20260425T060640
CREATED:20240515T181504Z
LAST-MODIFIED:20240515T181506Z
UID:2567-1730538000-1730541600@www.faithhomewood.org
SUMMARY:Altar Setup
DESCRIPTION:We encourage potential volunteers to assist in altar setup for our Sunday worship services for fellowship\, camaraderie\, and inspiration.
URL:https://www.faithhomewood.org/event/altar-setup-35/
LOCATION:Faith Lutheran of Homewood IL\, 18645 Dixie Highway\, Homewood\, IL\, 60430\, United States
END:VEVENT
BEGIN:VEVENT
DTSTART;TZID=America/Chicago:20241102T080000
DTEND;TZID=America/Chicago:20241102T210000
DTSTAMP:20260425T060640
CREATED:20241023T200524Z
LAST-MODIFIED:20241023T200526Z
UID:2751-1730534400-1730581200@www.faithhomewood.org
SUMMARY:Daylight Savings Time End - Turn Your Clocks Back 1 Hour
DESCRIPTION:
URL:https://www.faithhomewood.org/event/daylight-savings-time-end-turn-your-clocks-back-1-hour/
END:VEVENT
END:VCALENDAR