BEGIN:VCALENDAR
VERSION:2.0
PRODID:-//Faith Lutheran of Homewood, IL - ECPv6.15.20//NONSGML v1.0//EN
CALSCALE:GREGORIAN
METHOD:PUBLISH
X-WR-CALNAME:Faith Lutheran of Homewood, IL
X-ORIGINAL-URL:https://www.faithhomewood.org
X-WR-CALDESC:Events for Faith Lutheran of Homewood, IL
REFRESH-INTERVAL;VALUE=DURATION:PT1H
X-Robots-Tag:noindex
X-PUBLISHED-TTL:PT1H
BEGIN:VTIMEZONE
TZID:America/Chicago
BEGIN:DAYLIGHT
TZOFFSETFROM:-0600
TZOFFSETTO:-0500
TZNAME:CDT
DTSTART:20230312T080000
END:DAYLIGHT
BEGIN:STANDARD
TZOFFSETFROM:-0500
TZOFFSETTO:-0600
TZNAME:CST
DTSTART:20231105T070000
END:STANDARD
BEGIN:DAYLIGHT
TZOFFSETFROM:-0600
TZOFFSETTO:-0500
TZNAME:CDT
DTSTART:20240310T080000
END:DAYLIGHT
BEGIN:STANDARD
TZOFFSETFROM:-0500
TZOFFSETTO:-0600
TZNAME:CST
DTSTART:20241103T070000
END:STANDARD
BEGIN:DAYLIGHT
TZOFFSETFROM:-0600
TZOFFSETTO:-0500
TZNAME:CDT
DTSTART:20250309T080000
END:DAYLIGHT
BEGIN:STANDARD
TZOFFSETFROM:-0500
TZOFFSETTO:-0600
TZNAME:CST
DTSTART:20251102T070000
END:STANDARD
END:VTIMEZONE
BEGIN:VEVENT
DTSTART;TZID=America/Chicago:20241020T103000
DTEND;TZID=America/Chicago:20241020T113000
DTSTAMP:20260425T092153
CREATED:20240515T181905Z
LAST-MODIFIED:20240515T181907Z
UID:2591-1729420200-1729423800@www.faithhomewood.org
SUMMARY:Worship Service
DESCRIPTION:Please join us for our weekly Sunday worship. Past services can be viewed via our YouTube channel.
URL:https://www.faithhomewood.org/event/worship-service-31/
LOCATION:Faith Lutheran of Homewood IL\, 18645 Dixie Highway\, Homewood\, IL\, 60430\, United States
END:VEVENT
BEGIN:VEVENT
DTSTART;TZID=America/Chicago:20241019T090000
DTEND;TZID=America/Chicago:20241019T120000
DTSTAMP:20260425T092153
CREATED:20241009T173536Z
LAST-MODIFIED:20241009T173539Z
UID:2732-1729328400-1729339200@www.faithhomewood.org
SUMMARY:Fall Clean Up Day
DESCRIPTION:Please join us at the Church building from 9:00 am to 12:00 pm for inside and outside fall clean-up. Jobs that need your help include some trimming\, getting flower beds ready for winter\, and washing windows
URL:https://www.faithhomewood.org/event/fall-clean-up-day/
LOCATION:Faith Lutheran of Homewood IL\, 18645 Dixie Highway\, Homewood\, IL\, 60430\, United States
END:VEVENT
BEGIN:VEVENT
DTSTART;TZID=America/Chicago:20241019T090000
DTEND;TZID=America/Chicago:20241019T100000
DTSTAMP:20260425T092153
CREATED:20240515T181413Z
LAST-MODIFIED:20240515T181414Z
UID:2569-1729328400-1729332000@www.faithhomewood.org
SUMMARY:Altar Setup
DESCRIPTION:We encourage potential volunteers to assist in altar setup for our Sunday worship services for fellowship\, camaraderie\, and inspiration.
URL:https://www.faithhomewood.org/event/altar-setup-33/
LOCATION:Faith Lutheran of Homewood IL\, 18645 Dixie Highway\, Homewood\, IL\, 60430\, United States
END:VEVENT
BEGIN:VEVENT
DTSTART;TZID=America/Chicago:20241016T130000
DTEND;TZID=America/Chicago:20241016T140000
DTSTAMP:20260425T092153
CREATED:20240510T201946Z
LAST-MODIFIED:20240510T201946Z
UID:2542-1729083600-1729087200@www.faithhomewood.org
SUMMARY:Bible Study Group
DESCRIPTION:
URL:https://www.faithhomewood.org/event/bible-study-group-23/
LOCATION:Faith Lutheran of Homewood IL\, 18645 Dixie Highway\, Homewood\, IL\, 60430\, United States
END:VEVENT
BEGIN:VEVENT
DTSTART;TZID=America/Chicago:20241015T190000
DTEND;TZID=America/Chicago:20241015T203000
DTSTAMP:20260425T092153
CREATED:20240509T161152Z
LAST-MODIFIED:20240509T161153Z
UID:2496-1729018800-1729024200@www.faithhomewood.org
SUMMARY:Church Council - Meeting
DESCRIPTION:
URL:https://www.faithhomewood.org/event/church-council-meeting-6/
LOCATION:Faith Lutheran of Homewood IL\, 18645 Dixie Highway\, Homewood\, IL\, 60430\, United States
END:VEVENT
BEGIN:VEVENT
DTSTART;TZID=America/Chicago:20241015T130000
DTEND;TZID=America/Chicago:20241015T140000
DTSTAMP:20260425T092153
CREATED:20240509T160543Z
LAST-MODIFIED:20240509T160543Z
UID:2488-1728997200-1729000800@www.faithhomewood.org
SUMMARY:Altar Guild
DESCRIPTION:
URL:https://www.faithhomewood.org/event/altar-guild-6/
LOCATION:Faith Lutheran of Homewood IL\, 18645 Dixie Highway\, Homewood\, IL\, 60430\, United States
END:VEVENT
BEGIN:VEVENT
DTSTART;TZID=America/Chicago:20241014T140000
DTEND;TZID=America/Chicago:20241014T160000
DTSTAMP:20260425T092153
CREATED:20240925T185430Z
LAST-MODIFIED:20240925T185433Z
UID:2723-1728914400-1728921600@www.faithhomewood.org
SUMMARY:Cooking for PADS Meal
DESCRIPTION:We will be cooking the 2nd Monday of the month to provide meals for 25 clients of PADS.  You may contribute items as follows: Butter\, Corn\, Dessert Cakes\, Eggs\, Fruit\, Green Peppers\, Onions\, Rice\, Iced Tea\, Ketchup\, Bread crumbs. Church Provides the Meat. \n\n\n\nCheck the list on the church window for quantities and sign up to contribute. Or call the church office at 708-799-1160 to get specific information. Lee Brauer heads this ministry 708-769-3432. Please drop off before Noon Monday:
URL:https://www.faithhomewood.org/event/cooking-for-pads-meal/
LOCATION:Faith Lutheran of Homewood IL\, 18645 Dixie Highway\, Homewood\, IL\, 60430\, United States
END:VEVENT
BEGIN:VEVENT
DTSTART;TZID=America/Chicago:20241013T103000
DTEND;TZID=America/Chicago:20241013T113000
DTSTAMP:20260425T092153
CREATED:20240416T154027Z
LAST-MODIFIED:20240416T154028Z
UID:2408-1728815400-1728819000@www.faithhomewood.org
SUMMARY:Worship Service
DESCRIPTION:Please join us for our weekly Sunday worship. Past services can be viewed via our YouTube channel.
URL:https://www.faithhomewood.org/event/worship-service-30/
LOCATION:Faith Lutheran of Homewood IL\, 18645 Dixie Highway\, Homewood\, IL\, 60430\, United States
END:VEVENT
BEGIN:VEVENT
DTSTART;TZID=America/Chicago:20241012T090000
DTEND;TZID=America/Chicago:20241012T100000
DTSTAMP:20260425T092153
CREATED:20240326T153107Z
LAST-MODIFIED:20240416T153920Z
UID:2240-1728723600-1728727200@www.faithhomewood.org
SUMMARY:Altar Setup
DESCRIPTION:We encourage potential volunteers to assist in altar setup for our Sunday worship services for fellowship\, camaraderie\, and inspiration.
URL:https://www.faithhomewood.org/event/altar-setup-32/
LOCATION:Faith Lutheran of Homewood IL\, 18645 Dixie Highway\, Homewood\, IL\, 60430\, United States
END:VEVENT
BEGIN:VEVENT
DTSTART;TZID=America/Chicago:20241009T130000
DTEND;TZID=America/Chicago:20241009T140000
DTSTAMP:20260425T092153
CREATED:20240510T201919Z
LAST-MODIFIED:20240510T201920Z
UID:2543-1728478800-1728482400@www.faithhomewood.org
SUMMARY:Bible Study Group
DESCRIPTION:
URL:https://www.faithhomewood.org/event/bible-study-group-22/
LOCATION:Faith Lutheran of Homewood IL\, 18645 Dixie Highway\, Homewood\, IL\, 60430\, United States
END:VEVENT
BEGIN:VEVENT
DTSTART;TZID=America/Chicago:20241006T103000
DTEND;TZID=America/Chicago:20241006T113000
DTSTAMP:20260425T092153
CREATED:20240416T153511Z
LAST-MODIFIED:20240416T153737Z
UID:2404-1728210600-1728214200@www.faithhomewood.org
SUMMARY:Worship Service
DESCRIPTION:Please join us for our weekly Sunday worship. Past services can be viewed via our YouTube channel.
URL:https://www.faithhomewood.org/event/worship-service-29/
LOCATION:Faith Lutheran of Homewood IL\, 18645 Dixie Highway\, Homewood\, IL\, 60430\, United States
END:VEVENT
BEGIN:VEVENT
DTSTART;TZID=America/Chicago:20241005T090000
DTEND;TZID=America/Chicago:20241005T100000
DTSTAMP:20260425T092153
CREATED:20240324T231409Z
LAST-MODIFIED:20240330T124012Z
UID:2243-1728118800-1728122400@www.faithhomewood.org
SUMMARY:Altar Setup
DESCRIPTION:
URL:https://www.faithhomewood.org/event/altar-setup-31/
LOCATION:Faith Lutheran of Homewood IL\, 18645 Dixie Highway\, Homewood\, IL\, 60430\, United States
END:VEVENT
BEGIN:VEVENT
DTSTART;TZID=America/Chicago:20241002T130000
DTEND;TZID=America/Chicago:20241002T140000
DTSTAMP:20260425T092153
CREATED:20240510T201902Z
LAST-MODIFIED:20240510T201903Z
UID:2544-1727874000-1727877600@www.faithhomewood.org
SUMMARY:Bible Study Group
DESCRIPTION:
URL:https://www.faithhomewood.org/event/bible-study-group-21/
LOCATION:Faith Lutheran of Homewood IL\, 18645 Dixie Highway\, Homewood\, IL\, 60430\, United States
END:VEVENT
BEGIN:VEVENT
DTSTART;TZID=America/Chicago:20240929T113000
DTEND;TZID=America/Chicago:20240929T123000
DTSTAMP:20260425T092153
CREATED:20240918T213838Z
LAST-MODIFIED:20240918T213839Z
UID:2718-1727609400-1727613000@www.faithhomewood.org
SUMMARY:Outreach and Hospitality Planning
DESCRIPTION:Want to be part of a group that invites\, includes\, and inspires at Faith? Let’s continue to invite and encourage our neighbors and friends to events and worship.Join us for a one-time planning session to calendar October 2024 – May 2025.Questions? brauerlee@aol.com or pastorwiegert@comcast.net
URL:https://www.faithhomewood.org/event/outreach-and-hospitality-planning/
LOCATION:Faith Lutheran of Homewood IL\, 18645 Dixie Highway\, Homewood\, IL\, 60430\, United States
END:VEVENT
BEGIN:VEVENT
DTSTART;TZID=America/Chicago:20240929T103000
DTEND;TZID=America/Chicago:20240929T113000
DTSTAMP:20260425T092153
CREATED:20240324T231316Z
LAST-MODIFIED:20240330T124004Z
UID:2238-1727605800-1727609400@www.faithhomewood.org
SUMMARY:Worship Service
DESCRIPTION:
URL:https://www.faithhomewood.org/event/worship-service-28/
LOCATION:Faith Lutheran of Homewood IL\, 18645 Dixie Highway\, Homewood\, IL\, 60430\, United States
END:VEVENT
BEGIN:VEVENT
DTSTART;TZID=America/Chicago:20240928T090000
DTEND;TZID=America/Chicago:20240928T100000
DTSTAMP:20260425T092153
CREATED:20240324T231118Z
LAST-MODIFIED:20240330T123955Z
UID:2235-1727514000-1727517600@www.faithhomewood.org
SUMMARY:Altar Setup
DESCRIPTION:
URL:https://www.faithhomewood.org/event/altar-setup-28/
LOCATION:Faith Lutheran of Homewood IL\, 18645 Dixie Highway\, Homewood\, IL\, 60430\, United States
END:VEVENT
BEGIN:VEVENT
DTSTART;TZID=America/Chicago:20240925T130000
DTEND;TZID=America/Chicago:20240925T140000
DTSTAMP:20260425T092153
CREATED:20240510T201853Z
LAST-MODIFIED:20240510T201853Z
UID:2545-1727269200-1727272800@www.faithhomewood.org
SUMMARY:Bible Study Group
DESCRIPTION:
URL:https://www.faithhomewood.org/event/bible-study-group-20/
LOCATION:Faith Lutheran of Homewood IL\, 18645 Dixie Highway\, Homewood\, IL\, 60430\, United States
END:VEVENT
BEGIN:VEVENT
DTSTART;TZID=America/Chicago:20240921T150000
DTEND;TZID=America/Chicago:20240921T163000
DTSTAMP:20260425T092153
CREATED:20240821T170050Z
LAST-MODIFIED:20240821T170051Z
UID:2685-1726930800-1726936200@www.faithhomewood.org
SUMMARY:Messy Church - All Ages Welcome!
DESCRIPTION:What is Messy Church? The tagline for the global church movement is: “Church\, but not as you know it”. If you have attended church for a long time\, Messy Church may not look like a church to you. At Messy Church\, all ages meet together to learn about Christ through games\, crafts and activities\, music\, and storytelling from the Bible\, usually a snack or a meal. If you want to help make it happen\, please reach out to Pastor Amy at pastorwiegert@comcast.net Be sure to come try it!
URL:https://www.faithhomewood.org/event/messy-church-all-ages-welcome/
LOCATION:Faith Lutheran of Homewood IL\, 18645 Dixie Highway\, Homewood\, IL\, 60430\, United States
END:VEVENT
BEGIN:VEVENT
DTSTART;TZID=America/Chicago:20240921T090000
DTEND;TZID=America/Chicago:20240921T100000
DTSTAMP:20260425T092153
CREATED:20240324T231217Z
LAST-MODIFIED:20240330T123947Z
UID:2234-1726909200-1726912800@www.faithhomewood.org
SUMMARY:Altar Setup
DESCRIPTION:
URL:https://www.faithhomewood.org/event/altar-setup-29/
LOCATION:Faith Lutheran of Homewood IL\, 18645 Dixie Highway\, Homewood\, IL\, 60430\, United States
END:VEVENT
BEGIN:VEVENT
DTSTART;TZID=America/Chicago:20240918T130000
DTEND;TZID=America/Chicago:20240918T140000
DTSTAMP:20260425T092153
CREATED:20240510T201842Z
LAST-MODIFIED:20240510T201843Z
UID:2546-1726664400-1726668000@www.faithhomewood.org
SUMMARY:Bible Study Group
DESCRIPTION:
URL:https://www.faithhomewood.org/event/bible-study-group-19/
LOCATION:Faith Lutheran of Homewood IL\, 18645 Dixie Highway\, Homewood\, IL\, 60430\, United States
END:VEVENT
BEGIN:VEVENT
DTSTART;TZID=America/Chicago:20240917T190000
DTEND;TZID=America/Chicago:20240917T203000
DTSTAMP:20260425T092153
CREATED:20240509T161142Z
LAST-MODIFIED:20240509T161143Z
UID:2495-1726599600-1726605000@www.faithhomewood.org
SUMMARY:Church Council - Meeting
DESCRIPTION:
URL:https://www.faithhomewood.org/event/church-council-meeting-5/
LOCATION:Faith Lutheran of Homewood IL\, 18645 Dixie Highway\, Homewood\, IL\, 60430\, United States
END:VEVENT
BEGIN:VEVENT
DTSTART;TZID=America/Chicago:20240917T130000
DTEND;TZID=America/Chicago:20240917T140000
DTSTAMP:20260425T092153
CREATED:20240509T160532Z
LAST-MODIFIED:20240509T160532Z
UID:2487-1726578000-1726581600@www.faithhomewood.org
SUMMARY:Altar Guild
DESCRIPTION:
URL:https://www.faithhomewood.org/event/altar-guild-5/
LOCATION:Faith Lutheran of Homewood IL\, 18645 Dixie Highway\, Homewood\, IL\, 60430\, United States
END:VEVENT
BEGIN:VEVENT
DTSTART;TZID=America/Chicago:20240917T080000
DTEND;TZID=America/Chicago:20240917T170000
DTSTAMP:20260425T092153
CREATED:20240828T165034Z
LAST-MODIFIED:20240828T165037Z
UID:2696-1726560000-1726592400@www.faithhomewood.org
SUMMARY:Messy Church - Registration
DESCRIPTION:What is Messy Church? The tagline for the global church movement is: “Church\, but not as you know it”. If you have attended church for a long time\, Messy Church may not look like a church to you. At Messy Church\, all ages meet together to learn about Christ through games\, crafts and activities\, music\, and storytelling from the Bible\, usually a snack or a meal. If you want to help\, please reach out to Pastor Amy pastorwiegert@comcast.net  \n\n\n\nSign up here – https://forms.gle/kci39R1XKmS1WpBv9
URL:https://www.faithhomewood.org/event/messy-church-registration/
LOCATION:Faith Lutheran of Homewood IL\, 18645 Dixie Highway\, Homewood\, IL\, 60430\, United States
END:VEVENT
BEGIN:VEVENT
DTSTART;TZID=America/Chicago:20240915T103000
DTEND;TZID=America/Chicago:20240915T113000
DTSTAMP:20260425T092153
CREATED:20240324T231027Z
LAST-MODIFIED:20240330T123938Z
UID:2218-1726396200-1726399800@www.faithhomewood.org
SUMMARY:Worship Service
DESCRIPTION:
URL:https://www.faithhomewood.org/event/worship-service-27/
LOCATION:Faith Lutheran of Homewood IL\, 18645 Dixie Highway\, Homewood\, IL\, 60430\, United States
END:VEVENT
BEGIN:VEVENT
DTSTART;TZID=America/Chicago:20240914T090000
DTEND;TZID=America/Chicago:20240914T100000
DTSTAMP:20260425T092153
CREATED:20240324T231348Z
LAST-MODIFIED:20240330T123923Z
UID:2241-1726304400-1726308000@www.faithhomewood.org
SUMMARY:Altar Setup
DESCRIPTION:
URL:https://www.faithhomewood.org/event/altar-setup-30/
LOCATION:Faith Lutheran of Homewood IL\, 18645 Dixie Highway\, Homewood\, IL\, 60430\, United States
END:VEVENT
BEGIN:VEVENT
DTSTART;TZID=America/Chicago:20240911T130000
DTEND;TZID=America/Chicago:20240911T140000
DTSTAMP:20260425T092153
CREATED:20240510T201831Z
LAST-MODIFIED:20240510T201832Z
UID:2547-1726059600-1726063200@www.faithhomewood.org
SUMMARY:Bible Study Group
DESCRIPTION:
URL:https://www.faithhomewood.org/event/bible-study-group-18/
LOCATION:Faith Lutheran of Homewood IL\, 18645 Dixie Highway\, Homewood\, IL\, 60430\, United States
END:VEVENT
BEGIN:VEVENT
DTSTART;TZID=America/Chicago:20240908T103000
DTEND;TZID=America/Chicago:20240908T113000
DTSTAMP:20260425T092153
CREATED:20240324T231008Z
LAST-MODIFIED:20240330T123915Z
UID:2219-1725791400-1725795000@www.faithhomewood.org
SUMMARY:Worship Service
DESCRIPTION:
URL:https://www.faithhomewood.org/event/worship-service-26/
LOCATION:Faith Lutheran of Homewood IL\, 18645 Dixie Highway\, Homewood\, IL\, 60430\, United States
END:VEVENT
BEGIN:VEVENT
DTSTART;TZID=America/Chicago:20240907T090000
DTEND;TZID=America/Chicago:20240907T100000
DTSTAMP:20260425T092153
CREATED:20240324T230631Z
LAST-MODIFIED:20240330T123908Z
UID:2202-1725699600-1725703200@www.faithhomewood.org
SUMMARY:Altar Setup
DESCRIPTION:
URL:https://www.faithhomewood.org/event/altar-setup-27/
LOCATION:Faith Lutheran of Homewood IL\, 18645 Dixie Highway\, Homewood\, IL\, 60430\, United States
END:VEVENT
BEGIN:VEVENT
DTSTART;TZID=America/Chicago:20240904T130000
DTEND;TZID=America/Chicago:20240904T140000
DTSTAMP:20260425T092153
CREATED:20240510T201818Z
LAST-MODIFIED:20240510T201819Z
UID:2548-1725454800-1725458400@www.faithhomewood.org
SUMMARY:Bible Study Group
DESCRIPTION:
URL:https://www.faithhomewood.org/event/bible-study-group-17/
LOCATION:Faith Lutheran of Homewood IL\, 18645 Dixie Highway\, Homewood\, IL\, 60430\, United States
END:VEVENT
BEGIN:VEVENT
DTSTART;TZID=America/Chicago:20240901T093000
DTEND;TZID=America/Chicago:20240901T103000
DTSTAMP:20260425T092153
CREATED:20240324T230950Z
LAST-MODIFIED:20240501T162427Z
UID:2220-1725183000-1725186600@www.faithhomewood.org
SUMMARY:Worship Service
DESCRIPTION:
URL:https://www.faithhomewood.org/event/worship-service-25/
LOCATION:Faith Lutheran of Homewood IL\, 18645 Dixie Highway\, Homewood\, IL\, 60430\, United States
END:VEVENT
END:VCALENDAR