BEGIN:VCALENDAR
VERSION:2.0
PRODID:-//Faith Lutheran of Homewood, IL - ECPv6.15.20//NONSGML v1.0//EN
CALSCALE:GREGORIAN
METHOD:PUBLISH
X-WR-CALNAME:Faith Lutheran of Homewood, IL
X-ORIGINAL-URL:https://www.faithhomewood.org
X-WR-CALDESC:Events for Faith Lutheran of Homewood, IL
REFRESH-INTERVAL;VALUE=DURATION:PT1H
X-Robots-Tag:noindex
X-PUBLISHED-TTL:PT1H
BEGIN:VTIMEZONE
TZID:America/Chicago
BEGIN:DAYLIGHT
TZOFFSETFROM:-0600
TZOFFSETTO:-0500
TZNAME:CDT
DTSTART:20230312T080000
END:DAYLIGHT
BEGIN:STANDARD
TZOFFSETFROM:-0500
TZOFFSETTO:-0600
TZNAME:CST
DTSTART:20231105T070000
END:STANDARD
BEGIN:DAYLIGHT
TZOFFSETFROM:-0600
TZOFFSETTO:-0500
TZNAME:CDT
DTSTART:20240310T080000
END:DAYLIGHT
BEGIN:STANDARD
TZOFFSETFROM:-0500
TZOFFSETTO:-0600
TZNAME:CST
DTSTART:20241103T070000
END:STANDARD
BEGIN:DAYLIGHT
TZOFFSETFROM:-0600
TZOFFSETTO:-0500
TZNAME:CDT
DTSTART:20250309T080000
END:DAYLIGHT
BEGIN:STANDARD
TZOFFSETFROM:-0500
TZOFFSETTO:-0600
TZNAME:CST
DTSTART:20251102T070000
END:STANDARD
BEGIN:DAYLIGHT
TZOFFSETFROM:-0600
TZOFFSETTO:-0500
TZNAME:CDT
DTSTART:20260308T080000
END:DAYLIGHT
BEGIN:STANDARD
TZOFFSETFROM:-0500
TZOFFSETTO:-0600
TZNAME:CST
DTSTART:20261101T070000
END:STANDARD
END:VTIMEZONE
BEGIN:VEVENT
DTSTART;TZID=America/Chicago:20250125T090000
DTEND;TZID=America/Chicago:20250125T100000
DTSTAMP:20260424T144820
CREATED:20241127T001509Z
LAST-MODIFIED:20241127T001510Z
UID:2813-1737795600-1737799200@www.faithhomewood.org
SUMMARY:Altar Setup
DESCRIPTION:We encourage potential volunteers to assist in altar setup for our Sunday worship services for fellowship\, camaraderie\, and inspiration.
URL:https://www.faithhomewood.org/event/altar-setup-49/
LOCATION:Faith Lutheran of Homewood IL\, 18645 Dixie Highway\, Homewood\, IL\, 60430\, United States
END:VEVENT
BEGIN:VEVENT
DTSTART;TZID=America/Chicago:20250122T130000
DTEND;TZID=America/Chicago:20250122T140000
DTSTAMP:20260424T144820
CREATED:20241201T205437Z
LAST-MODIFIED:20241201T205438Z
UID:2886-1737550800-1737554400@www.faithhomewood.org
SUMMARY:Bible Scripture Sharing
DESCRIPTION:
URL:https://www.faithhomewood.org/event/bible-scripture-sharing-8/
LOCATION:Faith Lutheran of Homewood IL\, 18645 Dixie Highway\, Homewood\, IL\, 60430\, United States
END:VEVENT
BEGIN:VEVENT
DTSTART;TZID=America/Chicago:20250119T113000
DTEND;TZID=America/Chicago:20250119T123000
DTSTAMP:20260424T144820
CREATED:20250108T193418Z
LAST-MODIFIED:20250108T193419Z
UID:2926-1737286200-1737289800@www.faithhomewood.org
SUMMARY:January Potluck
DESCRIPTION:If your last name starts with A-L\, please bring a side dish; if your last name starts with M-Z\, please bring a dessert.
URL:https://www.faithhomewood.org/event/january-potluck/
LOCATION:Faith Lutheran of Homewood IL\, 18645 Dixie Highway\, Homewood\, IL\, 60430\, United States
END:VEVENT
BEGIN:VEVENT
DTSTART;TZID=America/Chicago:20250119T103000
DTEND;TZID=America/Chicago:20250119T113000
DTSTAMP:20260424T144820
CREATED:20241127T001023Z
LAST-MODIFIED:20241127T001025Z
UID:2787-1737282600-1737286200@www.faithhomewood.org
SUMMARY:Worship Service
DESCRIPTION:Please join us for our weekly Sunday worship. Past services can be viewed via our YouTube channel.
URL:https://www.faithhomewood.org/event/worship-service-44/
LOCATION:Faith Lutheran of Homewood IL\, 18645 Dixie Highway\, Homewood\, IL\, 60430\, United States
END:VEVENT
BEGIN:VEVENT
DTSTART;TZID=America/Chicago:20250118T090000
DTEND;TZID=America/Chicago:20250118T100000
DTSTAMP:20260424T144820
CREATED:20241127T001451Z
LAST-MODIFIED:20241127T001452Z
UID:2811-1737190800-1737194400@www.faithhomewood.org
SUMMARY:Altar Setup
DESCRIPTION:We encourage potential volunteers to assist in altar setup for our Sunday worship services for fellowship\, camaraderie\, and inspiration.
URL:https://www.faithhomewood.org/event/altar-setup-48/
LOCATION:Faith Lutheran of Homewood IL\, 18645 Dixie Highway\, Homewood\, IL\, 60430\, United States
END:VEVENT
BEGIN:VEVENT
DTSTART;TZID=America/Chicago:20250115T130000
DTEND;TZID=America/Chicago:20250115T140000
DTSTAMP:20260424T144820
CREATED:20241201T205415Z
LAST-MODIFIED:20241201T205416Z
UID:2887-1736946000-1736949600@www.faithhomewood.org
SUMMARY:Bible Scripture Sharing
DESCRIPTION:
URL:https://www.faithhomewood.org/event/bible-scripture-sharing-7/
LOCATION:Faith Lutheran of Homewood IL\, 18645 Dixie Highway\, Homewood\, IL\, 60430\, United States
END:VEVENT
BEGIN:VEVENT
DTSTART;TZID=America/Chicago:20250112T113000
DTEND;TZID=America/Chicago:20250112T130000
DTSTAMP:20260424T144820
CREATED:20250108T193150Z
LAST-MODIFIED:20250108T193152Z
UID:2924-1736681400-1736686800@www.faithhomewood.org
SUMMARY:Widen the Welcome - Conversation
DESCRIPTION:The Widen the Welcome team is sharing a draft of a welcome statement as well as a public commitment  to being a Reconciling in Christ congregation. Please download and review for discussion after our January 12th worship.  \n\n\n\nWelcome Statement (PDF) \n\n\n\nReconciling in Christ (PDF)
URL:https://www.faithhomewood.org/event/widen-the-welcome-conversation/
LOCATION:Faith Lutheran of Homewood IL\, 18645 Dixie Highway\, Homewood\, IL\, 60430\, United States
END:VEVENT
BEGIN:VEVENT
DTSTART;TZID=America/Chicago:20250112T103000
DTEND;TZID=America/Chicago:20250112T113000
DTSTAMP:20260424T144820
CREATED:20241127T000956Z
LAST-MODIFIED:20241127T000957Z
UID:2798-1736677800-1736681400@www.faithhomewood.org
SUMMARY:Worship Service
DESCRIPTION:Please join us for our weekly Sunday worship. Past services can be viewed via our YouTube channel.
URL:https://www.faithhomewood.org/event/worship-service-43/
LOCATION:Faith Lutheran of Homewood IL\, 18645 Dixie Highway\, Homewood\, IL\, 60430\, United States
END:VEVENT
BEGIN:VEVENT
DTSTART;TZID=America/Chicago:20250111T090000
DTEND;TZID=America/Chicago:20250111T100000
DTSTAMP:20260424T144820
CREATED:20241127T001435Z
LAST-MODIFIED:20241127T001436Z
UID:2812-1736586000-1736589600@www.faithhomewood.org
SUMMARY:Altar Setup
DESCRIPTION:We encourage potential volunteers to assist in altar setup for our Sunday worship services for fellowship\, camaraderie\, and inspiration.
URL:https://www.faithhomewood.org/event/altar-setup-47/
LOCATION:Faith Lutheran of Homewood IL\, 18645 Dixie Highway\, Homewood\, IL\, 60430\, United States
END:VEVENT
BEGIN:VEVENT
DTSTART;TZID=America/Chicago:20250108T130000
DTEND;TZID=America/Chicago:20250108T140000
DTSTAMP:20260424T144820
CREATED:20241201T205342Z
LAST-MODIFIED:20241201T205343Z
UID:2888-1736341200-1736344800@www.faithhomewood.org
SUMMARY:Bible Scripture Sharing
DESCRIPTION:
URL:https://www.faithhomewood.org/event/bible-scripture-sharing-6/
LOCATION:Faith Lutheran of Homewood IL\, 18645 Dixie Highway\, Homewood\, IL\, 60430\, United States
END:VEVENT
BEGIN:VEVENT
DTSTART;TZID=America/Chicago:20250105T103000
DTEND;TZID=America/Chicago:20250105T113000
DTSTAMP:20260424T144820
CREATED:20240515T182135Z
LAST-MODIFIED:20240515T182136Z
UID:2580-1736073000-1736076600@www.faithhomewood.org
SUMMARY:Worship Service
DESCRIPTION:Please join us for our weekly Sunday worship. Past services can be viewed via our YouTube channel.
URL:https://www.faithhomewood.org/event/worship-service-42/
LOCATION:Faith Lutheran of Homewood IL\, 18645 Dixie Highway\, Homewood\, IL\, 60430\, United States
END:VEVENT
BEGIN:VEVENT
DTSTART;TZID=America/Chicago:20250104T090000
DTEND;TZID=America/Chicago:20250104T100000
DTSTAMP:20260424T144820
CREATED:20240708T160110Z
LAST-MODIFIED:20240708T160111Z
UID:2643-1735981200-1735984800@www.faithhomewood.org
SUMMARY:Altar Setup
DESCRIPTION:We encourage potential volunteers to assist in altar setup for our Sunday worship services for fellowship\, camaraderie\, and inspiration.
URL:https://www.faithhomewood.org/event/altar-setup-46/
LOCATION:Faith Lutheran of Homewood IL\, 18645 Dixie Highway\, Homewood\, IL\, 60430\, United States
END:VEVENT
BEGIN:VEVENT
DTSTART;TZID=America/Chicago:20250101T130000
DTEND;TZID=America/Chicago:20250101T140000
DTSTAMP:20260424T144820
CREATED:20241201T205320Z
LAST-MODIFIED:20241201T205321Z
UID:2889-1735736400-1735740000@www.faithhomewood.org
SUMMARY:Bible Scripture Sharing
DESCRIPTION:
URL:https://www.faithhomewood.org/event/bible-scripture-sharing-5/
LOCATION:Faith Lutheran of Homewood IL\, 18645 Dixie Highway\, Homewood\, IL\, 60430\, United States
END:VEVENT
BEGIN:VEVENT
DTSTART;TZID=America/Chicago:20241229T103000
DTEND;TZID=America/Chicago:20241229T113000
DTSTAMP:20260424T144820
CREATED:20240515T182122Z
LAST-MODIFIED:20240515T182124Z
UID:2581-1735468200-1735471800@www.faithhomewood.org
SUMMARY:Worship Service
DESCRIPTION:Please join us for our weekly Sunday worship. Past services can be viewed via our YouTube channel.
URL:https://www.faithhomewood.org/event/worship-service-41/
LOCATION:Faith Lutheran of Homewood IL\, 18645 Dixie Highway\, Homewood\, IL\, 60430\, United States
END:VEVENT
BEGIN:VEVENT
DTSTART;TZID=America/Chicago:20241228T090000
DTEND;TZID=America/Chicago:20241228T100000
DTSTAMP:20260424T144820
CREATED:20240708T160046Z
LAST-MODIFIED:20240708T160047Z
UID:2650-1735376400-1735380000@www.faithhomewood.org
SUMMARY:Altar Setup
DESCRIPTION:We encourage potential volunteers to assist in altar setup for our Sunday worship services for fellowship\, camaraderie\, and inspiration.
URL:https://www.faithhomewood.org/event/altar-setup-45/
LOCATION:Faith Lutheran of Homewood IL\, 18645 Dixie Highway\, Homewood\, IL\, 60430\, United States
END:VEVENT
BEGIN:VEVENT
DTSTART;TZID=America/Chicago:20241224T170000
DTEND;TZID=America/Chicago:20241224T180000
DTSTAMP:20260424T144820
CREATED:20241126T234710Z
LAST-MODIFIED:20241126T234711Z
UID:2785-1735059600-1735063200@www.faithhomewood.org
SUMMARY:Christmas Eve Worship
DESCRIPTION:
URL:https://www.faithhomewood.org/event/christmas-eve-worship/
LOCATION:Faith Lutheran of Homewood IL\, 18645 Dixie Highway\, Homewood\, IL\, 60430\, United States
END:VEVENT
BEGIN:VEVENT
DTSTART;TZID=America/Chicago:20241222T103000
DTEND;TZID=America/Chicago:20241222T113000
DTSTAMP:20260424T144820
CREATED:20240515T182041Z
LAST-MODIFIED:20240515T182042Z
UID:2582-1734863400-1734867000@www.faithhomewood.org
SUMMARY:Worship Service
DESCRIPTION:Please join us for our weekly Sunday worship. Past services can be viewed via our YouTube channel.
URL:https://www.faithhomewood.org/event/worship-service-40/
LOCATION:Faith Lutheran of Homewood IL\, 18645 Dixie Highway\, Homewood\, IL\, 60430\, United States
END:VEVENT
BEGIN:VEVENT
DTSTART;TZID=America/Chicago:20241221T090000
DTEND;TZID=America/Chicago:20241221T100000
DTSTAMP:20260424T144820
CREATED:20240708T160018Z
LAST-MODIFIED:20240708T160019Z
UID:2644-1734771600-1734775200@www.faithhomewood.org
SUMMARY:Altar Setup
DESCRIPTION:We encourage potential volunteers to assist in altar setup for our Sunday worship services for fellowship\, camaraderie\, and inspiration.
URL:https://www.faithhomewood.org/event/altar-setup-44/
LOCATION:Faith Lutheran of Homewood IL\, 18645 Dixie Highway\, Homewood\, IL\, 60430\, United States
END:VEVENT
BEGIN:VEVENT
DTSTART;TZID=America/Chicago:20241221T090000
DTEND;TZID=America/Chicago:20241221T100000
DTSTAMP:20260424T144820
CREATED:20240708T155952Z
LAST-MODIFIED:20240708T155953Z
UID:2645-1734771600-1734775200@www.faithhomewood.org
SUMMARY:Altar Setup
DESCRIPTION:We encourage potential volunteers to assist in altar setup for our Sunday worship services for fellowship\, camaraderie\, and inspiration.
URL:https://www.faithhomewood.org/event/altar-setup-43/
LOCATION:Faith Lutheran of Homewood IL\, 18645 Dixie Highway\, Homewood\, IL\, 60430\, United States
END:VEVENT
BEGIN:VEVENT
DTSTART;TZID=America/Chicago:20241218T130000
DTEND;TZID=America/Chicago:20241218T140000
DTSTAMP:20260424T144820
CREATED:20241201T205300Z
LAST-MODIFIED:20241201T205302Z
UID:2890-1734526800-1734530400@www.faithhomewood.org
SUMMARY:Bible Scripture Sharing
DESCRIPTION:
URL:https://www.faithhomewood.org/event/bible-scripture-sharing-4/
LOCATION:Faith Lutheran of Homewood IL\, 18645 Dixie Highway\, Homewood\, IL\, 60430\, United States
END:VEVENT
BEGIN:VEVENT
DTSTART;TZID=America/Chicago:20241217T190000
DTEND;TZID=America/Chicago:20241217T203000
DTSTAMP:20260424T144820
CREATED:20240509T161547Z
LAST-MODIFIED:20240509T161548Z
UID:2492-1734462000-1734467400@www.faithhomewood.org
SUMMARY:Church Council - Meeting
DESCRIPTION:
URL:https://www.faithhomewood.org/event/church-council-meeting-8/
LOCATION:Faith Lutheran of Homewood IL\, 18645 Dixie Highway\, Homewood\, IL\, 60430\, United States
END:VEVENT
BEGIN:VEVENT
DTSTART;TZID=America/Chicago:20241217T130000
DTEND;TZID=America/Chicago:20241217T140000
DTSTAMP:20260424T144820
CREATED:20240509T160706Z
LAST-MODIFIED:20240509T160706Z
UID:2503-1734440400-1734444000@www.faithhomewood.org
SUMMARY:Altar Guild
DESCRIPTION:
URL:https://www.faithhomewood.org/event/altar-guild-8/
LOCATION:Faith Lutheran of Homewood IL\, 18645 Dixie Highway\, Homewood\, IL\, 60430\, United States
END:VEVENT
BEGIN:VEVENT
DTSTART;TZID=America/Chicago:20241215T183000
DTEND;TZID=America/Chicago:20241215T203000
DTSTAMP:20260424T144820
CREATED:20241120T183409Z
LAST-MODIFIED:20241120T183410Z
UID:2778-1734287400-1734294600@www.faithhomewood.org
SUMMARY:Worthy: A Christmas Cantata
DESCRIPTION:The Cantata will be held at Triedstone Church at 1415 West 104th St in Chicago. Admission is free\, and all donations benefit Habitat for Humanity of Chicago.  (Stephen Styles is the organizer\, who brought the Oakwood University Aeolian Choir to Faith in 2022\, which was a musical treat!)  This concert is\, in part\, intentionally bringing folks together across racial differences\, faith traditions\, and other identities. \n\n\n\nWant to get free tickets?  worthycantatachicago.eventbrite.com  \n\n\n\nWant to sing in the chorus? Sign Up Via This Google Form Link
URL:https://www.faithhomewood.org/event/worthy-a-christmas-cantata/
LOCATION:Triedstone Church\, 1415 W 104th Street\, Chicago\, Illinois\, United States
END:VEVENT
BEGIN:VEVENT
DTSTART;TZID=America/Chicago:20241215T103000
DTEND;TZID=America/Chicago:20241215T113000
DTSTAMP:20260424T144820
CREATED:20240515T182026Z
LAST-MODIFIED:20240515T182027Z
UID:2583-1734258600-1734262200@www.faithhomewood.org
SUMMARY:Worship Service
DESCRIPTION:Please join us for our weekly Sunday worship. Past services can be viewed via our YouTube channel.
URL:https://www.faithhomewood.org/event/worship-service-39/
LOCATION:Faith Lutheran of Homewood IL\, 18645 Dixie Highway\, Homewood\, IL\, 60430\, United States
END:VEVENT
BEGIN:VEVENT
DTSTART;TZID=America/Chicago:20241214T090000
DTEND;TZID=America/Chicago:20241214T100000
DTSTAMP:20260424T144820
CREATED:20240515T181621Z
LAST-MODIFIED:20240515T181622Z
UID:2560-1734166800-1734170400@www.faithhomewood.org
SUMMARY:Altar Setup
DESCRIPTION:We encourage potential volunteers to assist in altar setup for our Sunday worship services for fellowship\, camaraderie\, and inspiration.
URL:https://www.faithhomewood.org/event/altar-setup-42/
LOCATION:Faith Lutheran of Homewood IL\, 18645 Dixie Highway\, Homewood\, IL\, 60430\, United States
END:VEVENT
BEGIN:VEVENT
DTSTART;TZID=America/Chicago:20241211T130000
DTEND;TZID=America/Chicago:20241211T140000
DTSTAMP:20260424T144820
CREATED:20241201T205239Z
LAST-MODIFIED:20241201T205240Z
UID:2891-1733922000-1733925600@www.faithhomewood.org
SUMMARY:Bible Scripture Sharing
DESCRIPTION:
URL:https://www.faithhomewood.org/event/bible-scripture-sharing-3/
LOCATION:Faith Lutheran of Homewood IL\, 18645 Dixie Highway\, Homewood\, IL\, 60430\, United States
END:VEVENT
BEGIN:VEVENT
DTSTART;TZID=America/Chicago:20241208T160000
DTEND;TZID=America/Chicago:20241208T180000
DTSTAMP:20260424T144820
CREATED:20241120T182944Z
LAST-MODIFIED:20241120T182945Z
UID:2776-1733673600-1733680800@www.faithhomewood.org
SUMMARY:Joy and Fanfare Master Chorale Concert
DESCRIPTION:
URL:https://www.faithhomewood.org/event/joy-and-fanfare-master-chorale-concert-2/
LOCATION:IL
END:VEVENT
BEGIN:VEVENT
DTSTART;TZID=America/Chicago:20241208T103000
DTEND;TZID=America/Chicago:20241208T113000
DTSTAMP:20260424T144820
CREATED:20240515T182014Z
LAST-MODIFIED:20240515T182015Z
UID:2584-1733653800-1733657400@www.faithhomewood.org
SUMMARY:Worship Service
DESCRIPTION:Please join us for our weekly Sunday worship. Past services can be viewed via our YouTube channel.
URL:https://www.faithhomewood.org/event/worship-service-38/
LOCATION:Faith Lutheran of Homewood IL\, 18645 Dixie Highway\, Homewood\, IL\, 60430\, United States
END:VEVENT
BEGIN:VEVENT
DTSTART;TZID=America/Chicago:20241208T080000
DTEND;TZID=America/Chicago:20241208T170000
DTSTAMP:20260424T144820
CREATED:20241204T202937Z
LAST-MODIFIED:20241204T202938Z
UID:2909-1733644800-1733677200@www.faithhomewood.org
SUMMARY:Confirmation Class After Worship
DESCRIPTION:Confirmands will spend class time in the conference room\, and then we will hold cookie decorating and caroling. We ask that you please bring a sack lunch and a drink for the class.
URL:https://www.faithhomewood.org/event/confirmation-class-after-worship-2/
LOCATION:Faith Lutheran of Homewood IL\, 18645 Dixie Highway\, Homewood\, IL\, 60430\, United States
END:VEVENT
BEGIN:VEVENT
DTSTART;TZID=America/Chicago:20241207T100000
DTEND;TZID=America/Chicago:20241207T113000
DTSTAMP:20260424T144820
CREATED:20241204T202608Z
LAST-MODIFIED:20241204T202610Z
UID:2907-1733565600-1733571000@www.faithhomewood.org
SUMMARY:Memorial for George Woolsley
DESCRIPTION:We will hold a memorial service for George Woolsley on Saturday\, December 7th at 10:00 am. Please keep the Woolsley family in your prayers.
URL:https://www.faithhomewood.org/event/memorial-for-george-woolsley/
LOCATION:Faith Lutheran of Homewood IL\, 18645 Dixie Highway\, Homewood\, IL\, 60430\, United States
END:VEVENT
END:VCALENDAR