BEGIN:VCALENDAR
VERSION:2.0
PRODID:-//Faith Lutheran of Homewood, IL - ECPv6.15.20//NONSGML v1.0//EN
CALSCALE:GREGORIAN
METHOD:PUBLISH
X-ORIGINAL-URL:https://www.faithhomewood.org
X-WR-CALDESC:Events for Faith Lutheran of Homewood, IL
REFRESH-INTERVAL;VALUE=DURATION:PT1H
X-Robots-Tag:noindex
X-PUBLISHED-TTL:PT1H
BEGIN:VTIMEZONE
TZID:America/Chicago
BEGIN:DAYLIGHT
TZOFFSETFROM:-0600
TZOFFSETTO:-0500
TZNAME:CDT
DTSTART:20240310T080000
END:DAYLIGHT
BEGIN:STANDARD
TZOFFSETFROM:-0500
TZOFFSETTO:-0600
TZNAME:CST
DTSTART:20241103T070000
END:STANDARD
BEGIN:DAYLIGHT
TZOFFSETFROM:-0600
TZOFFSETTO:-0500
TZNAME:CDT
DTSTART:20250309T080000
END:DAYLIGHT
BEGIN:STANDARD
TZOFFSETFROM:-0500
TZOFFSETTO:-0600
TZNAME:CST
DTSTART:20251102T070000
END:STANDARD
BEGIN:DAYLIGHT
TZOFFSETFROM:-0600
TZOFFSETTO:-0500
TZNAME:CDT
DTSTART:20260308T080000
END:DAYLIGHT
BEGIN:STANDARD
TZOFFSETFROM:-0500
TZOFFSETTO:-0600
TZNAME:CST
DTSTART:20261101T070000
END:STANDARD
END:VTIMEZONE
BEGIN:VEVENT
DTSTART;TZID=America/Chicago:20250101T130000
DTEND;TZID=America/Chicago:20250101T140000
DTSTAMP:20260424T101410
CREATED:20241201T205320Z
LAST-MODIFIED:20241201T205321Z
UID:2889-1735736400-1735740000@www.faithhomewood.org
SUMMARY:Bible Scripture Sharing
DESCRIPTION:
URL:https://www.faithhomewood.org/event/bible-scripture-sharing-5/
LOCATION:Faith Lutheran of Homewood IL\, 18645 Dixie Highway\, Homewood\, IL\, 60430\, United States
END:VEVENT
BEGIN:VEVENT
DTSTART;TZID=America/Chicago:20250104T090000
DTEND;TZID=America/Chicago:20250104T100000
DTSTAMP:20260424T101410
CREATED:20240708T160110Z
LAST-MODIFIED:20240708T160111Z
UID:2643-1735981200-1735984800@www.faithhomewood.org
SUMMARY:Altar Setup
DESCRIPTION:We encourage potential volunteers to assist in altar setup for our Sunday worship services for fellowship\, camaraderie\, and inspiration.
URL:https://www.faithhomewood.org/event/altar-setup-46/
LOCATION:Faith Lutheran of Homewood IL\, 18645 Dixie Highway\, Homewood\, IL\, 60430\, United States
END:VEVENT
BEGIN:VEVENT
DTSTART;TZID=America/Chicago:20250105T103000
DTEND;TZID=America/Chicago:20250105T113000
DTSTAMP:20260424T101410
CREATED:20240515T182135Z
LAST-MODIFIED:20240515T182136Z
UID:2580-1736073000-1736076600@www.faithhomewood.org
SUMMARY:Worship Service
DESCRIPTION:Please join us for our weekly Sunday worship. Past services can be viewed via our YouTube channel.
URL:https://www.faithhomewood.org/event/worship-service-42/
LOCATION:Faith Lutheran of Homewood IL\, 18645 Dixie Highway\, Homewood\, IL\, 60430\, United States
END:VEVENT
BEGIN:VEVENT
DTSTART;TZID=America/Chicago:20250108T130000
DTEND;TZID=America/Chicago:20250108T140000
DTSTAMP:20260424T101410
CREATED:20241201T205342Z
LAST-MODIFIED:20241201T205343Z
UID:2888-1736341200-1736344800@www.faithhomewood.org
SUMMARY:Bible Scripture Sharing
DESCRIPTION:
URL:https://www.faithhomewood.org/event/bible-scripture-sharing-6/
LOCATION:Faith Lutheran of Homewood IL\, 18645 Dixie Highway\, Homewood\, IL\, 60430\, United States
END:VEVENT
BEGIN:VEVENT
DTSTART;TZID=America/Chicago:20250111T090000
DTEND;TZID=America/Chicago:20250111T100000
DTSTAMP:20260424T101410
CREATED:20241127T001435Z
LAST-MODIFIED:20241127T001436Z
UID:2812-1736586000-1736589600@www.faithhomewood.org
SUMMARY:Altar Setup
DESCRIPTION:We encourage potential volunteers to assist in altar setup for our Sunday worship services for fellowship\, camaraderie\, and inspiration.
URL:https://www.faithhomewood.org/event/altar-setup-47/
LOCATION:Faith Lutheran of Homewood IL\, 18645 Dixie Highway\, Homewood\, IL\, 60430\, United States
END:VEVENT
BEGIN:VEVENT
DTSTART;TZID=America/Chicago:20250112T103000
DTEND;TZID=America/Chicago:20250112T113000
DTSTAMP:20260424T101410
CREATED:20241127T000956Z
LAST-MODIFIED:20241127T000957Z
UID:2798-1736677800-1736681400@www.faithhomewood.org
SUMMARY:Worship Service
DESCRIPTION:Please join us for our weekly Sunday worship. Past services can be viewed via our YouTube channel.
URL:https://www.faithhomewood.org/event/worship-service-43/
LOCATION:Faith Lutheran of Homewood IL\, 18645 Dixie Highway\, Homewood\, IL\, 60430\, United States
END:VEVENT
BEGIN:VEVENT
DTSTART;TZID=America/Chicago:20250112T113000
DTEND;TZID=America/Chicago:20250112T130000
DTSTAMP:20260424T101410
CREATED:20250108T193150Z
LAST-MODIFIED:20250108T193152Z
UID:2924-1736681400-1736686800@www.faithhomewood.org
SUMMARY:Widen the Welcome - Conversation
DESCRIPTION:The Widen the Welcome team is sharing a draft of a welcome statement as well as a public commitment  to being a Reconciling in Christ congregation. Please download and review for discussion after our January 12th worship.  \n\n\n\nWelcome Statement (PDF) \n\n\n\nReconciling in Christ (PDF)
URL:https://www.faithhomewood.org/event/widen-the-welcome-conversation/
LOCATION:Faith Lutheran of Homewood IL\, 18645 Dixie Highway\, Homewood\, IL\, 60430\, United States
END:VEVENT
BEGIN:VEVENT
DTSTART;TZID=America/Chicago:20250115T130000
DTEND;TZID=America/Chicago:20250115T140000
DTSTAMP:20260424T101410
CREATED:20241201T205415Z
LAST-MODIFIED:20241201T205416Z
UID:2887-1736946000-1736949600@www.faithhomewood.org
SUMMARY:Bible Scripture Sharing
DESCRIPTION:
URL:https://www.faithhomewood.org/event/bible-scripture-sharing-7/
LOCATION:Faith Lutheran of Homewood IL\, 18645 Dixie Highway\, Homewood\, IL\, 60430\, United States
END:VEVENT
BEGIN:VEVENT
DTSTART;TZID=America/Chicago:20250118T090000
DTEND;TZID=America/Chicago:20250118T100000
DTSTAMP:20260424T101410
CREATED:20241127T001451Z
LAST-MODIFIED:20241127T001452Z
UID:2811-1737190800-1737194400@www.faithhomewood.org
SUMMARY:Altar Setup
DESCRIPTION:We encourage potential volunteers to assist in altar setup for our Sunday worship services for fellowship\, camaraderie\, and inspiration.
URL:https://www.faithhomewood.org/event/altar-setup-48/
LOCATION:Faith Lutheran of Homewood IL\, 18645 Dixie Highway\, Homewood\, IL\, 60430\, United States
END:VEVENT
BEGIN:VEVENT
DTSTART;TZID=America/Chicago:20250119T103000
DTEND;TZID=America/Chicago:20250119T113000
DTSTAMP:20260424T101410
CREATED:20241127T001023Z
LAST-MODIFIED:20241127T001025Z
UID:2787-1737282600-1737286200@www.faithhomewood.org
SUMMARY:Worship Service
DESCRIPTION:Please join us for our weekly Sunday worship. Past services can be viewed via our YouTube channel.
URL:https://www.faithhomewood.org/event/worship-service-44/
LOCATION:Faith Lutheran of Homewood IL\, 18645 Dixie Highway\, Homewood\, IL\, 60430\, United States
END:VEVENT
BEGIN:VEVENT
DTSTART;TZID=America/Chicago:20250119T113000
DTEND;TZID=America/Chicago:20250119T123000
DTSTAMP:20260424T101410
CREATED:20250108T193418Z
LAST-MODIFIED:20250108T193419Z
UID:2926-1737286200-1737289800@www.faithhomewood.org
SUMMARY:January Potluck
DESCRIPTION:If your last name starts with A-L\, please bring a side dish; if your last name starts with M-Z\, please bring a dessert.
URL:https://www.faithhomewood.org/event/january-potluck/
LOCATION:Faith Lutheran of Homewood IL\, 18645 Dixie Highway\, Homewood\, IL\, 60430\, United States
END:VEVENT
BEGIN:VEVENT
DTSTART;TZID=America/Chicago:20250122T130000
DTEND;TZID=America/Chicago:20250122T140000
DTSTAMP:20260424T101410
CREATED:20241201T205437Z
LAST-MODIFIED:20241201T205438Z
UID:2886-1737550800-1737554400@www.faithhomewood.org
SUMMARY:Bible Scripture Sharing
DESCRIPTION:
URL:https://www.faithhomewood.org/event/bible-scripture-sharing-8/
LOCATION:Faith Lutheran of Homewood IL\, 18645 Dixie Highway\, Homewood\, IL\, 60430\, United States
END:VEVENT
BEGIN:VEVENT
DTSTART;TZID=America/Chicago:20250125T090000
DTEND;TZID=America/Chicago:20250125T100000
DTSTAMP:20260424T101410
CREATED:20241127T001509Z
LAST-MODIFIED:20241127T001510Z
UID:2813-1737795600-1737799200@www.faithhomewood.org
SUMMARY:Altar Setup
DESCRIPTION:We encourage potential volunteers to assist in altar setup for our Sunday worship services for fellowship\, camaraderie\, and inspiration.
URL:https://www.faithhomewood.org/event/altar-setup-49/
LOCATION:Faith Lutheran of Homewood IL\, 18645 Dixie Highway\, Homewood\, IL\, 60430\, United States
END:VEVENT
BEGIN:VEVENT
DTSTART;TZID=America/Chicago:20250126T103000
DTEND;TZID=America/Chicago:20250126T113000
DTSTAMP:20260424T101410
CREATED:20241127T001043Z
LAST-MODIFIED:20241127T001044Z
UID:2797-1737887400-1737891000@www.faithhomewood.org
SUMMARY:Worship Service
DESCRIPTION:Please join us for our weekly Sunday worship. Past services can be viewed via our YouTube channel.
URL:https://www.faithhomewood.org/event/worship-service-45/
LOCATION:Faith Lutheran of Homewood IL\, 18645 Dixie Highway\, Homewood\, IL\, 60430\, United States
END:VEVENT
BEGIN:VEVENT
DTSTART;TZID=America/Chicago:20250126T113000
DTEND;TZID=America/Chicago:20250126T123000
DTSTAMP:20260424T101410
CREATED:20250124T201408Z
LAST-MODIFIED:20250124T201410Z
UID:2943-1737891000-1737894600@www.faithhomewood.org
SUMMARY:Widen the Welcome Q & A
DESCRIPTION:
URL:https://www.faithhomewood.org/event/widen-the-welcome-q-a-3/
LOCATION:Faith Lutheran of Homewood IL\, 18645 Dixie Highway\, Homewood\, IL\, 60430\, United States
END:VEVENT
BEGIN:VEVENT
DTSTART;TZID=America/Chicago:20250129T130000
DTEND;TZID=America/Chicago:20250129T140000
DTSTAMP:20260424T101410
CREATED:20241201T205533Z
LAST-MODIFIED:20241201T205534Z
UID:2885-1738155600-1738159200@www.faithhomewood.org
SUMMARY:Bible Scripture Sharing
DESCRIPTION:
URL:https://www.faithhomewood.org/event/bible-scripture-sharing-9/
LOCATION:Faith Lutheran of Homewood IL\, 18645 Dixie Highway\, Homewood\, IL\, 60430\, United States
END:VEVENT
BEGIN:VEVENT
DTSTART;TZID=America/Chicago:20250131T183000
DTEND;TZID=America/Chicago:20250131T203000
DTSTAMP:20260424T101410
CREATED:20250108T193529Z
LAST-MODIFIED:20250108T193530Z
UID:2928-1738348200-1738355400@www.faithhomewood.org
SUMMARY:Family Trivia Night
DESCRIPTION:Cereal is the theme for family trivia night on January 31 from 6:30pm – 8:30pm at Faith Lutheran ChurchDinner is Chipotle build-your-own bowls and requested donation is full-sized boxes of cereal to go to local non profits \n\n\n\nSign up at church office or email Kathy Humecki at kathryn@khacpa.com.
URL:https://www.faithhomewood.org/event/family-trivia-night/
LOCATION:Faith Lutheran of Homewood IL\, 18645 Dixie Highway\, Homewood\, IL\, 60430\, United States
END:VEVENT
END:VCALENDAR