BEGIN:VCALENDAR
VERSION:2.0
PRODID:-//Faith Lutheran of Homewood, IL - ECPv6.15.20//NONSGML v1.0//EN
CALSCALE:GREGORIAN
METHOD:PUBLISH
X-WR-CALNAME:Faith Lutheran of Homewood, IL
X-ORIGINAL-URL:https://www.faithhomewood.org
X-WR-CALDESC:Events for Faith Lutheran of Homewood, IL
REFRESH-INTERVAL;VALUE=DURATION:PT1H
X-Robots-Tag:noindex
X-PUBLISHED-TTL:PT1H
BEGIN:VTIMEZONE
TZID:America/Chicago
BEGIN:DAYLIGHT
TZOFFSETFROM:-0600
TZOFFSETTO:-0500
TZNAME:CDT
DTSTART:20240310T080000
END:DAYLIGHT
BEGIN:STANDARD
TZOFFSETFROM:-0500
TZOFFSETTO:-0600
TZNAME:CST
DTSTART:20241103T070000
END:STANDARD
BEGIN:DAYLIGHT
TZOFFSETFROM:-0600
TZOFFSETTO:-0500
TZNAME:CDT
DTSTART:20250309T080000
END:DAYLIGHT
BEGIN:STANDARD
TZOFFSETFROM:-0500
TZOFFSETTO:-0600
TZNAME:CST
DTSTART:20251102T070000
END:STANDARD
BEGIN:DAYLIGHT
TZOFFSETFROM:-0600
TZOFFSETTO:-0500
TZNAME:CDT
DTSTART:20260308T080000
END:DAYLIGHT
BEGIN:STANDARD
TZOFFSETFROM:-0500
TZOFFSETTO:-0600
TZNAME:CST
DTSTART:20261101T070000
END:STANDARD
END:VTIMEZONE
BEGIN:VEVENT
DTSTART;TZID=America/Chicago:20250404T183000
DTEND;TZID=America/Chicago:20250404T203000
DTSTAMP:20260424T053442
CREATED:20250226T191204Z
LAST-MODIFIED:20250226T191205Z
UID:3036-1743791400-1743798600@www.faithhomewood.org
SUMMARY:Widen the Welcome Screening: Will and Harper
DESCRIPTION:This film chronicles the journey of Will Ferrell & his close friend Harper Steele as they embark on a cross-country road trip. Harper had recently come out as a transgender woman. The documentary explores their long friendship and provides viewers with insight into one person’s transgender experience. Movie screening and discussion on Friday\, April 4\, starting at 6:30 pm. \n\n\n\n If you are interested in joining us\, let us know via the church office sign-up sheet or by emailing Kathy Humecki at kathryn@khacpa.com.
URL:https://www.faithhomewood.org/event/widen-the-welcome-screening-will-and-harper/
LOCATION:Faith Lutheran of Homewood IL\, 18645 Dixie Highway\, Homewood\, IL\, 60430\, United States
END:VEVENT
BEGIN:VEVENT
DTSTART;TZID=America/Chicago:20250405T090000
DTEND;TZID=America/Chicago:20250405T100000
DTSTAMP:20260424T053442
CREATED:20241127T003259Z
LAST-MODIFIED:20241127T003300Z
UID:2835-1743843600-1743847200@www.faithhomewood.org
SUMMARY:Altar Setup
DESCRIPTION:We encourage potential volunteers to assist in altar setup for our Sunday worship services for fellowship\, camaraderie\, and inspiration.
URL:https://www.faithhomewood.org/event/altar-setup-59/
LOCATION:Faith Lutheran of Homewood IL\, 18645 Dixie Highway\, Homewood\, IL\, 60430\, United States
END:VEVENT
BEGIN:VEVENT
DTSTART;TZID=America/Chicago:20250406T093000
DTEND;TZID=America/Chicago:20250406T103000
DTSTAMP:20260424T053442
CREATED:20250319T195957Z
LAST-MODIFIED:20250319T200000Z
UID:3116-1743931800-1743935400@www.faithhomewood.org
SUMMARY:Adult Forum With Pastor Carla Thompson Powerll
DESCRIPTION:
URL:https://www.faithhomewood.org/event/adult-forum-with-pastor-carla-thompson-powerll/
LOCATION:IL
END:VEVENT
BEGIN:VEVENT
DTSTART;TZID=America/Chicago:20250406T103000
DTEND;TZID=America/Chicago:20250406T113000
DTSTAMP:20260424T053442
CREATED:20241127T003620Z
LAST-MODIFIED:20241127T003621Z
UID:2844-1743935400-1743939000@www.faithhomewood.org
SUMMARY:Worship Service
DESCRIPTION:Please join us for our weekly Sunday worship. Past services can be viewed via our YouTube channel.
URL:https://www.faithhomewood.org/event/worship-service-55/
LOCATION:Faith Lutheran of Homewood IL\, 18645 Dixie Highway\, Homewood\, IL\, 60430\, United States
END:VEVENT
BEGIN:VEVENT
DTSTART;TZID=America/Chicago:20250412T090000
DTEND;TZID=America/Chicago:20250412T100000
DTSTAMP:20260424T053442
CREATED:20241127T003315Z
LAST-MODIFIED:20241127T003316Z
UID:2843-1744448400-1744452000@www.faithhomewood.org
SUMMARY:Altar Setup
DESCRIPTION:We encourage potential volunteers to assist in altar setup for our Sunday worship services for fellowship\, camaraderie\, and inspiration.
URL:https://www.faithhomewood.org/event/altar-setup-60/
LOCATION:Faith Lutheran of Homewood IL\, 18645 Dixie Highway\, Homewood\, IL\, 60430\, United States
END:VEVENT
BEGIN:VEVENT
DTSTART;TZID=America/Chicago:20250413T043000
DTEND;TZID=America/Chicago:20250413T053000
DTSTAMP:20260424T053442
CREATED:20250319T195650Z
LAST-MODIFIED:20250319T195651Z
UID:3109-1744518600-1744522200@www.faithhomewood.org
SUMMARY:Family Sunday School
DESCRIPTION:
URL:https://www.faithhomewood.org/event/family-sunday-school/
LOCATION:Faith Lutheran of Homewood IL\, 18645 Dixie Highway\, Homewood\, IL\, 60430\, United States
END:VEVENT
BEGIN:VEVENT
DTSTART;TZID=America/Chicago:20250413T103000
DTEND;TZID=America/Chicago:20250413T113000
DTSTAMP:20260424T053442
CREATED:20241127T003637Z
LAST-MODIFIED:20241127T003638Z
UID:2852-1744540200-1744543800@www.faithhomewood.org
SUMMARY:Worship Service
DESCRIPTION:Please join us for our weekly Sunday worship. Past services can be viewed via our YouTube channel.
URL:https://www.faithhomewood.org/event/worship-service-56/
LOCATION:Faith Lutheran of Homewood IL\, 18645 Dixie Highway\, Homewood\, IL\, 60430\, United States
END:VEVENT
BEGIN:VEVENT
DTSTART;TZID=America/Chicago:20250413T103000
DTEND;TZID=America/Chicago:20250413T113000
DTSTAMP:20260424T053442
CREATED:20250319T194901Z
LAST-MODIFIED:20250319T194903Z
UID:3102-1744540200-1744543800@www.faithhomewood.org
SUMMARY:Palm Sunday - Worship and Palm Parade
DESCRIPTION:
URL:https://www.faithhomewood.org/event/palm-sunday-worship-and-palm-parade/
LOCATION:Faith Lutheran of Homewood IL\, 18645 Dixie Highway\, Homewood\, IL\, 60430\, United States
END:VEVENT
BEGIN:VEVENT
DTSTART;TZID=America/Chicago:20250417T190000
DTEND;TZID=America/Chicago:20250417T200000
DTSTAMP:20260424T053442
CREATED:20250319T195031Z
LAST-MODIFIED:20250319T195032Z
UID:3104-1744916400-1744920000@www.faithhomewood.org
SUMMARY:Maundy Thursday Worship
DESCRIPTION:
URL:https://www.faithhomewood.org/event/maundy-thursday-worship/
LOCATION:Faith Lutheran of Homewood IL\, 18645 Dixie Highway\, Homewood\, IL\, 60430\, United States
END:VEVENT
BEGIN:VEVENT
DTSTART;TZID=America/Chicago:20250419T090000
DTEND;TZID=America/Chicago:20250419T100000
DTSTAMP:20260424T053442
CREATED:20241127T003342Z
LAST-MODIFIED:20241127T003343Z
UID:2842-1745053200-1745056800@www.faithhomewood.org
SUMMARY:Altar Setup
DESCRIPTION:We encourage potential volunteers to assist in altar setup for our Sunday worship services for fellowship\, camaraderie\, and inspiration.
URL:https://www.faithhomewood.org/event/altar-setup-61/
LOCATION:Faith Lutheran of Homewood IL\, 18645 Dixie Highway\, Homewood\, IL\, 60430\, United States
END:VEVENT
BEGIN:VEVENT
DTSTART;TZID=America/Chicago:20250420T103000
DTEND;TZID=America/Chicago:20250420T113000
DTSTAMP:20260424T053442
CREATED:20240305T220357Z
LAST-MODIFIED:20250319T195503Z
UID:2035-1745145000-1745148600@www.faithhomewood.org
SUMMARY:Easter Sunday Worship
DESCRIPTION:
URL:https://www.faithhomewood.org/event/worship-service-4/
LOCATION:Faith Lutheran of Homewood IL\, 18645 Dixie Highway\, Homewood\, IL\, 60430\, United States
END:VEVENT
BEGIN:VEVENT
DTSTART;TZID=America/Chicago:20250420T103000
DTEND;TZID=America/Chicago:20250420T113000
DTSTAMP:20260424T053442
CREATED:20241127T003656Z
LAST-MODIFIED:20241127T003657Z
UID:2851-1745145000-1745148600@www.faithhomewood.org
SUMMARY:Worship Service
DESCRIPTION:Please join us for our weekly Sunday worship. Past services can be viewed via our YouTube channel.
URL:https://www.faithhomewood.org/event/worship-service-57/
LOCATION:Faith Lutheran of Homewood IL\, 18645 Dixie Highway\, Homewood\, IL\, 60430\, United States
END:VEVENT
BEGIN:VEVENT
DTSTART;TZID=America/Chicago:20250426T090000
DTEND;TZID=America/Chicago:20250426T100000
DTSTAMP:20260424T053442
CREATED:20241127T003358Z
LAST-MODIFIED:20241127T003359Z
UID:2841-1745658000-1745661600@www.faithhomewood.org
SUMMARY:Altar Setup
DESCRIPTION:We encourage potential volunteers to assist in altar setup for our Sunday worship services for fellowship\, camaraderie\, and inspiration.
URL:https://www.faithhomewood.org/event/altar-setup-62/
LOCATION:Faith Lutheran of Homewood IL\, 18645 Dixie Highway\, Homewood\, IL\, 60430\, United States
END:VEVENT
BEGIN:VEVENT
DTSTART;TZID=America/Chicago:20250427T103000
DTEND;TZID=America/Chicago:20250427T113000
DTSTAMP:20260424T053442
CREATED:20241127T003718Z
LAST-MODIFIED:20241127T003719Z
UID:2850-1745749800-1745753400@www.faithhomewood.org
SUMMARY:Worship Service
DESCRIPTION:Please join us for our weekly Sunday worship. Past services can be viewed via our YouTube channel.
URL:https://www.faithhomewood.org/event/worship-service-58/
LOCATION:Faith Lutheran of Homewood IL\, 18645 Dixie Highway\, Homewood\, IL\, 60430\, United States
END:VEVENT
BEGIN:VEVENT
DTSTART;TZID=America/Chicago:20250427T113000
DTEND;TZID=America/Chicago:20250427T123000
DTSTAMP:20260424T053442
CREATED:20250409T175428Z
LAST-MODIFIED:20250424T134525Z
UID:3126-1745753400-1745757000@www.faithhomewood.org
SUMMARY:Pot Luck After Worship
DESCRIPTION:Join Us On April 27th for Our Next Potluck! \n\n\n\nPlease join us in the gym following worship at approximately 11:45 am. If your last name starts with A – L\, we ask that you please bring a side dish. If your last name starts with M – Z\, we ask you to please bring a dessert.
URL:https://www.faithhomewood.org/event/pot-luck-after-worship-3/
LOCATION:Faith Lutheran of Homewood IL\, 18645 Dixie Highway\, Homewood\, IL\, 60430\, United States
END:VEVENT
BEGIN:VEVENT
DTSTART;TZID=America/Chicago:20250427T123000
DTEND;TZID=America/Chicago:20250427T133000
DTSTAMP:20260424T053442
CREATED:20250424T134719Z
LAST-MODIFIED:20250424T134720Z
UID:3154-1745757000-1745760600@www.faithhomewood.org
SUMMARY:Confirmation Class
DESCRIPTION:Please meet Pastor Amy in the conference room!
URL:https://www.faithhomewood.org/event/confirmation-class-2/
LOCATION:Faith Lutheran of Homewood IL\, 18645 Dixie Highway\, Homewood\, IL\, 60430\, United States
END:VEVENT
END:VCALENDAR