BEGIN:VCALENDAR
VERSION:2.0
PRODID:-//Faith Lutheran of Homewood, IL - ECPv6.15.20//NONSGML v1.0//EN
CALSCALE:GREGORIAN
METHOD:PUBLISH
X-ORIGINAL-URL:https://www.faithhomewood.org
X-WR-CALDESC:Events for Faith Lutheran of Homewood, IL
REFRESH-INTERVAL;VALUE=DURATION:PT1H
X-Robots-Tag:noindex
X-PUBLISHED-TTL:PT1H
BEGIN:VTIMEZONE
TZID:America/Chicago
BEGIN:DAYLIGHT
TZOFFSETFROM:-0600
TZOFFSETTO:-0500
TZNAME:CDT
DTSTART:20240310T080000
END:DAYLIGHT
BEGIN:STANDARD
TZOFFSETFROM:-0500
TZOFFSETTO:-0600
TZNAME:CST
DTSTART:20241103T070000
END:STANDARD
BEGIN:DAYLIGHT
TZOFFSETFROM:-0600
TZOFFSETTO:-0500
TZNAME:CDT
DTSTART:20250309T080000
END:DAYLIGHT
BEGIN:STANDARD
TZOFFSETFROM:-0500
TZOFFSETTO:-0600
TZNAME:CST
DTSTART:20251102T070000
END:STANDARD
BEGIN:DAYLIGHT
TZOFFSETFROM:-0600
TZOFFSETTO:-0500
TZNAME:CDT
DTSTART:20260308T080000
END:DAYLIGHT
BEGIN:STANDARD
TZOFFSETFROM:-0500
TZOFFSETTO:-0600
TZNAME:CST
DTSTART:20261101T070000
END:STANDARD
END:VTIMEZONE
BEGIN:VEVENT
DTSTART;TZID=America/Chicago:20250705T090000
DTEND;TZID=America/Chicago:20250705T100000
DTSTAMP:20260424T005022
CREATED:20250212T201845Z
LAST-MODIFIED:20250212T201846Z
UID:3013-1751706000-1751709600@www.faithhomewood.org
SUMMARY:Altar Setup
DESCRIPTION:We encourage potential volunteers to assist in altar setup for our Sunday worship services for fellowship\, camaraderie\, and inspiration.
URL:https://www.faithhomewood.org/event/altar-setup-73/
LOCATION:Faith Lutheran of Homewood IL\, 18645 Dixie Highway\, Homewood\, IL\, 60430\, United States
END:VEVENT
BEGIN:VEVENT
DTSTART;TZID=America/Chicago:20250706T093000
DTEND;TZID=America/Chicago:20250706T103000
DTSTAMP:20260424T005022
CREATED:20250212T201049Z
LAST-MODIFIED:20250212T201050Z
UID:2972-1751794200-1751797800@www.faithhomewood.org
SUMMARY:Worship Service
DESCRIPTION:Please join us for our weekly Sunday worship. Past services can be viewed via our YouTube channel.
URL:https://www.faithhomewood.org/event/worship-service-67/
LOCATION:Faith Lutheran of Homewood IL\, 18645 Dixie Highway\, Homewood\, IL\, 60430\, United States
END:VEVENT
BEGIN:VEVENT
DTSTART;TZID=America/Chicago:20250712T090000
DTEND;TZID=America/Chicago:20250712T100000
DTSTAMP:20260424T005022
CREATED:20250212T201902Z
LAST-MODIFIED:20250212T201903Z
UID:3012-1752310800-1752314400@www.faithhomewood.org
SUMMARY:Altar Setup
DESCRIPTION:We encourage potential volunteers to assist in altar setup for our Sunday worship services for fellowship\, camaraderie\, and inspiration.
URL:https://www.faithhomewood.org/event/altar-setup-74/
LOCATION:Faith Lutheran of Homewood IL\, 18645 Dixie Highway\, Homewood\, IL\, 60430\, United States
END:VEVENT
BEGIN:VEVENT
DTSTART;TZID=America/Chicago:20250712T090000
DTEND;TZID=America/Chicago:20250712T120000
DTSTAMP:20260424T005022
CREATED:20250424T135551Z
LAST-MODIFIED:20250617T122824Z
UID:3164-1752310800-1752321600@www.faithhomewood.org
SUMMARY:Buy Nothing Pop-Up Store
DESCRIPTION:Bring your gently used household goods or clothing to Faith Lutheran’s parking lot from 9am-Noon on Saturday\, July 12. Stay as long as you like to swap and share with your neighbors. \n\n\n\nAll items must be offered for free; no payments accepted. \n\n\n\nTake home your new finds\, and anything you brought that you have left. \n\n\n\nFaith Lutheran Church is not responsible for the condition or quality of the offered item. \n\n\n\nTo donate\, please register via our online form
URL:https://www.faithhomewood.org/event/buy-nothing-pop-up-store/
LOCATION:Faith Lutheran of Homewood IL\, 18645 Dixie Highway\, Homewood\, IL\, 60430\, United States
END:VEVENT
BEGIN:VEVENT
DTSTART;TZID=America/Chicago:20250713T093000
DTEND;TZID=America/Chicago:20250713T103000
DTSTAMP:20260424T005022
CREATED:20250212T201105Z
LAST-MODIFIED:20250212T201106Z
UID:2973-1752399000-1752402600@www.faithhomewood.org
SUMMARY:Worship Service
DESCRIPTION:Please join us for our weekly Sunday worship. Past services can be viewed via our YouTube channel.
URL:https://www.faithhomewood.org/event/worship-service-68/
LOCATION:Faith Lutheran of Homewood IL\, 18645 Dixie Highway\, Homewood\, IL\, 60430\, United States
END:VEVENT
BEGIN:VEVENT
DTSTART;TZID=America/Chicago:20250719T090000
DTEND;TZID=America/Chicago:20250719T100000
DTSTAMP:20260424T005022
CREATED:20250212T201919Z
LAST-MODIFIED:20250212T201920Z
UID:3011-1752915600-1752919200@www.faithhomewood.org
SUMMARY:Altar Setup
DESCRIPTION:We encourage potential volunteers to assist in altar setup for our Sunday worship services for fellowship\, camaraderie\, and inspiration.
URL:https://www.faithhomewood.org/event/altar-setup-75/
LOCATION:Faith Lutheran of Homewood IL\, 18645 Dixie Highway\, Homewood\, IL\, 60430\, United States
END:VEVENT
BEGIN:VEVENT
DTSTART;TZID=America/Chicago:20250720T093000
DTEND;TZID=America/Chicago:20250720T103000
DTSTAMP:20260424T005022
CREATED:20250212T201121Z
LAST-MODIFIED:20250212T201122Z
UID:2980-1753003800-1753007400@www.faithhomewood.org
SUMMARY:Worship Service
DESCRIPTION:Please join us for our weekly Sunday worship. Past services can be viewed via our YouTube channel.
URL:https://www.faithhomewood.org/event/worship-service-69/
LOCATION:Faith Lutheran of Homewood IL\, 18645 Dixie Highway\, Homewood\, IL\, 60430\, United States
END:VEVENT
BEGIN:VEVENT
DTSTART;TZID=America/Chicago:20250723T140000
DTEND;TZID=America/Chicago:20250723T150000
DTSTAMP:20260424T005022
CREATED:20250716T165235Z
LAST-MODIFIED:20250716T165236Z
UID:3572-1753279200-1753282800@www.faithhomewood.org
SUMMARY:Pop-Up Popsicles!
DESCRIPTION:Come on over to the church yard on Wednesday\, July 23rd and 30th from 2:00 pm – 3:00 pm for a popsicle. \n\n\n\nWhy? Because it’s summer!
URL:https://www.faithhomewood.org/event/pop-up-popsicles/
LOCATION:Faith Lutheran of Homewood IL\, 18645 Dixie Highway\, Homewood\, IL\, 60430\, United States
END:VEVENT
BEGIN:VEVENT
DTSTART;TZID=America/Chicago:20250726T090000
DTEND;TZID=America/Chicago:20250726T100000
DTSTAMP:20260424T005022
CREATED:20250212T201940Z
LAST-MODIFIED:20250212T201941Z
UID:3010-1753520400-1753524000@www.faithhomewood.org
SUMMARY:Altar Setup
DESCRIPTION:We encourage potential volunteers to assist in altar setup for our Sunday worship services for fellowship\, camaraderie\, and inspiration.
URL:https://www.faithhomewood.org/event/altar-setup-76/
LOCATION:Faith Lutheran of Homewood IL\, 18645 Dixie Highway\, Homewood\, IL\, 60430\, United States
END:VEVENT
BEGIN:VEVENT
DTSTART;TZID=America/Chicago:20250727T093000
DTEND;TZID=America/Chicago:20250727T103000
DTSTAMP:20260424T005022
CREATED:20250212T201146Z
LAST-MODIFIED:20250212T201147Z
UID:2974-1753608600-1753612200@www.faithhomewood.org
SUMMARY:Worship Service
DESCRIPTION:Please join us for our weekly Sunday worship. Past services can be viewed via our YouTube channel.
URL:https://www.faithhomewood.org/event/worship-service-70/
LOCATION:Faith Lutheran of Homewood IL\, 18645 Dixie Highway\, Homewood\, IL\, 60430\, United States
END:VEVENT
BEGIN:VEVENT
DTSTART;TZID=America/Chicago:20250730T140000
DTEND;TZID=America/Chicago:20250730T150000
DTSTAMP:20260424T005022
CREATED:20250716T165334Z
LAST-MODIFIED:20250716T165336Z
UID:3574-1753884000-1753887600@www.faithhomewood.org
SUMMARY:Pop-Up Popsicles!
DESCRIPTION:Come on over to the church yard on Wednesday\, July 23rd and 30th from 2:00 pm – 3:00 pm for a popsicle. \n\n\n\nWhy? Because it’s summer!
URL:https://www.faithhomewood.org/event/pop-up-popsicles-2/
LOCATION:Faith Lutheran of Homewood IL\, 18645 Dixie Highway\, Homewood\, IL\, 60430\, United States
END:VEVENT
END:VCALENDAR