BEGIN:VCALENDAR
VERSION:2.0
PRODID:-//Faith Lutheran of Homewood, IL - ECPv6.15.20//NONSGML v1.0//EN
CALSCALE:GREGORIAN
METHOD:PUBLISH
X-ORIGINAL-URL:https://www.faithhomewood.org
X-WR-CALDESC:Events for Faith Lutheran of Homewood, IL
REFRESH-INTERVAL;VALUE=DURATION:PT1H
X-Robots-Tag:noindex
X-PUBLISHED-TTL:PT1H
BEGIN:VTIMEZONE
TZID:America/Chicago
BEGIN:DAYLIGHT
TZOFFSETFROM:-0600
TZOFFSETTO:-0500
TZNAME:CDT
DTSTART:20250309T080000
END:DAYLIGHT
BEGIN:STANDARD
TZOFFSETFROM:-0500
TZOFFSETTO:-0600
TZNAME:CST
DTSTART:20251102T070000
END:STANDARD
BEGIN:DAYLIGHT
TZOFFSETFROM:-0600
TZOFFSETTO:-0500
TZNAME:CDT
DTSTART:20260308T080000
END:DAYLIGHT
BEGIN:STANDARD
TZOFFSETFROM:-0500
TZOFFSETTO:-0600
TZNAME:CST
DTSTART:20261101T070000
END:STANDARD
BEGIN:DAYLIGHT
TZOFFSETFROM:-0600
TZOFFSETTO:-0500
TZNAME:CDT
DTSTART:20270314T080000
END:DAYLIGHT
BEGIN:STANDARD
TZOFFSETFROM:-0500
TZOFFSETTO:-0600
TZNAME:CST
DTSTART:20271107T070000
END:STANDARD
END:VTIMEZONE
BEGIN:VEVENT
DTSTART;TZID=America/Chicago:20260103T090000
DTEND;TZID=America/Chicago:20260103T100000
DTSTAMP:20260423T144623
CREATED:20251120T231642Z
LAST-MODIFIED:20251120T231643Z
UID:4082-1767430800-1767434400@www.faithhomewood.org
SUMMARY:Altar Setup
DESCRIPTION:We encourage potential volunteers to assist in altar setup for our Sunday worship services for fellowship\, camaraderie\, and inspiration.
URL:https://www.faithhomewood.org/event/altar-setup-98/
LOCATION:Faith Lutheran of Homewood IL\, 18645 Dixie Highway\, Homewood\, IL\, 60430\, United States
END:VEVENT
BEGIN:VEVENT
DTSTART;TZID=America/Chicago:20260104T103000
DTEND;TZID=America/Chicago:20260104T113000
DTSTAMP:20260423T144623
CREATED:20251120T231456Z
LAST-MODIFIED:20251120T231457Z
UID:4073-1767522600-1767526200@www.faithhomewood.org
SUMMARY:Worship Service
DESCRIPTION:Please join us for our weekly Sunday worship. Past services can be viewed via our YouTube channel.
URL:https://www.faithhomewood.org/event/worship-service-94/
LOCATION:Faith Lutheran of Homewood IL\, 18645 Dixie Highway\, Homewood\, IL\, 60430\, United States
END:VEVENT
BEGIN:VEVENT
DTSTART;TZID=America/Chicago:20260110T090000
DTEND;TZID=America/Chicago:20260110T100000
DTSTAMP:20260423T144623
CREATED:20251120T231722Z
LAST-MODIFIED:20251120T231722Z
UID:4083-1768035600-1768039200@www.faithhomewood.org
SUMMARY:Altar Setup
DESCRIPTION:We encourage potential volunteers to assist in altar setup for our Sunday worship services for fellowship\, camaraderie\, and inspiration.
URL:https://www.faithhomewood.org/event/altar-setup-99/
LOCATION:Faith Lutheran of Homewood IL\, 18645 Dixie Highway\, Homewood\, IL\, 60430\, United States
END:VEVENT
BEGIN:VEVENT
DTSTART;TZID=America/Chicago:20260111T103000
DTEND;TZID=America/Chicago:20260111T113000
DTSTAMP:20260423T144623
CREATED:20251120T231514Z
LAST-MODIFIED:20251120T231514Z
UID:4074-1768127400-1768131000@www.faithhomewood.org
SUMMARY:Worship Service
DESCRIPTION:Please join us for our weekly Sunday worship. Past services can be viewed via our YouTube channel.
URL:https://www.faithhomewood.org/event/worship-service-95/
LOCATION:Faith Lutheran of Homewood IL\, 18645 Dixie Highway\, Homewood\, IL\, 60430\, United States
END:VEVENT
BEGIN:VEVENT
DTSTART;TZID=America/Chicago:20260117T090000
DTEND;TZID=America/Chicago:20260117T100000
DTSTAMP:20260423T144623
CREATED:20251120T231807Z
LAST-MODIFIED:20251120T231807Z
UID:4087-1768640400-1768644000@www.faithhomewood.org
SUMMARY:Altar Setup
DESCRIPTION:We encourage potential volunteers to assist in altar setup for our Sunday worship services for fellowship\, camaraderie\, and inspiration.
URL:https://www.faithhomewood.org/event/altar-setup-100/
LOCATION:Faith Lutheran of Homewood IL\, 18645 Dixie Highway\, Homewood\, IL\, 60430\, United States
END:VEVENT
BEGIN:VEVENT
DTSTART;TZID=America/Chicago:20260118T103000
DTEND;TZID=America/Chicago:20260118T113000
DTSTAMP:20260423T144623
CREATED:20251120T231530Z
LAST-MODIFIED:20251120T231530Z
UID:4075-1768732200-1768735800@www.faithhomewood.org
SUMMARY:Worship Service
DESCRIPTION:Please join us for our weekly Sunday worship. Past services can be viewed via our YouTube channel.
URL:https://www.faithhomewood.org/event/worship-service-96/
LOCATION:Faith Lutheran of Homewood IL\, 18645 Dixie Highway\, Homewood\, IL\, 60430\, United States
END:VEVENT
BEGIN:VEVENT
DTSTART;TZID=America/Chicago:20260119T080000
DTEND;TZID=America/Chicago:20260119T170000
DTSTAMP:20260423T144623
CREATED:20260114T180150Z
LAST-MODIFIED:20260114T180150Z
UID:3153-1768809600-1768842000@www.faithhomewood.org
SUMMARY:Office Closed for MLK Birthday
DESCRIPTION:Join Us On April 27th for Our Next Potluck! \n\n\n\nThe Church Office will be closed on Monday\, January 19th\, in observance of Dr Martin Luther King Jr.’s birthday.  \n\n\n\nWe will reopen at 9:00 am on Tuesday\, January 20.
URL:https://www.faithhomewood.org/event/office-closed-for-mlk-birthday/
LOCATION:Faith Lutheran of Homewood IL\, 18645 Dixie Highway\, Homewood\, IL\, 60430\, United States
END:VEVENT
BEGIN:VEVENT
DTSTART;TZID=America/Chicago:20260124T090000
DTEND;TZID=America/Chicago:20260124T100000
DTSTAMP:20260423T144623
CREATED:20251120T231826Z
LAST-MODIFIED:20251120T231827Z
UID:4085-1769245200-1769248800@www.faithhomewood.org
SUMMARY:Altar Setup
DESCRIPTION:We encourage potential volunteers to assist in altar setup for our Sunday worship services for fellowship\, camaraderie\, and inspiration.
URL:https://www.faithhomewood.org/event/altar-setup-101/
LOCATION:Faith Lutheran of Homewood IL\, 18645 Dixie Highway\, Homewood\, IL\, 60430\, United States
END:VEVENT
BEGIN:VEVENT
DTSTART;TZID=America/Chicago:20260125T103000
DTEND;TZID=America/Chicago:20260125T113000
DTSTAMP:20260423T144623
CREATED:20251120T231555Z
LAST-MODIFIED:20251120T231556Z
UID:4076-1769337000-1769340600@www.faithhomewood.org
SUMMARY:Worship Service
DESCRIPTION:Please join us for our weekly Sunday worship. Past services can be viewed via our YouTube channel.
URL:https://www.faithhomewood.org/event/worship-service-97/
LOCATION:Faith Lutheran of Homewood IL\, 18645 Dixie Highway\, Homewood\, IL\, 60430\, United States
END:VEVENT
BEGIN:VEVENT
DTSTART;TZID=America/Chicago:20260131T090000
DTEND;TZID=America/Chicago:20260131T100000
DTSTAMP:20260423T144623
CREATED:20251120T231844Z
LAST-MODIFIED:20251120T231844Z
UID:4084-1769850000-1769853600@www.faithhomewood.org
SUMMARY:Altar Setup
DESCRIPTION:We encourage potential volunteers to assist in altar setup for our Sunday worship services for fellowship\, camaraderie\, and inspiration.
URL:https://www.faithhomewood.org/event/altar-setup-102/
LOCATION:Faith Lutheran of Homewood IL\, 18645 Dixie Highway\, Homewood\, IL\, 60430\, United States
END:VEVENT
END:VCALENDAR