BEGIN:VCALENDAR
VERSION:2.0
PRODID:-//Faith Lutheran of Homewood, IL - ECPv6.15.20//NONSGML v1.0//EN
CALSCALE:GREGORIAN
METHOD:PUBLISH
X-WR-CALNAME:Faith Lutheran of Homewood, IL
X-ORIGINAL-URL:https://www.faithhomewood.org
X-WR-CALDESC:Events for Faith Lutheran of Homewood, IL
REFRESH-INTERVAL;VALUE=DURATION:PT1H
X-Robots-Tag:noindex
X-PUBLISHED-TTL:PT1H
BEGIN:VTIMEZONE
TZID:America/Chicago
BEGIN:DAYLIGHT
TZOFFSETFROM:-0600
TZOFFSETTO:-0500
TZNAME:CDT
DTSTART:20250309T080000
END:DAYLIGHT
BEGIN:STANDARD
TZOFFSETFROM:-0500
TZOFFSETTO:-0600
TZNAME:CST
DTSTART:20251102T070000
END:STANDARD
BEGIN:DAYLIGHT
TZOFFSETFROM:-0600
TZOFFSETTO:-0500
TZNAME:CDT
DTSTART:20260308T080000
END:DAYLIGHT
BEGIN:STANDARD
TZOFFSETFROM:-0500
TZOFFSETTO:-0600
TZNAME:CST
DTSTART:20261101T070000
END:STANDARD
BEGIN:DAYLIGHT
TZOFFSETFROM:-0600
TZOFFSETTO:-0500
TZNAME:CDT
DTSTART:20270314T080000
END:DAYLIGHT
BEGIN:STANDARD
TZOFFSETFROM:-0500
TZOFFSETTO:-0600
TZNAME:CST
DTSTART:20271107T070000
END:STANDARD
END:VTIMEZONE
BEGIN:VEVENT
DTSTART;TZID=America/Chicago:20260201T093000
DTEND;TZID=America/Chicago:20260201T103000
DTSTAMP:20260423T130046
CREATED:20260114T180013Z
LAST-MODIFIED:20260114T180014Z
UID:4171-1769938200-1769941800@www.faithhomewood.org
SUMMARY:Deep Dive - The Gospel of Matthew
DESCRIPTION:A deeper dive into the gospel of Matthew. No prior Bible knowledge needed.Come and check it out!
URL:https://www.faithhomewood.org/event/deep-dive-the-gospel-of-matthew/
LOCATION:Faith Lutheran of Homewood IL\, 18645 Dixie Highway\, Homewood\, IL\, 60430\, United States
END:VEVENT
BEGIN:VEVENT
DTSTART;TZID=America/Chicago:20260201T103000
DTEND;TZID=America/Chicago:20260201T113000
DTSTAMP:20260423T130046
CREATED:20260113T145048Z
LAST-MODIFIED:20260113T145048Z
UID:4147-1769941800-1769945400@www.faithhomewood.org
SUMMARY:Worship Service
DESCRIPTION:Please join us for our weekly Sunday worship. Past services can be viewed via our YouTube channel.
URL:https://www.faithhomewood.org/event/worship-service-98/
LOCATION:Faith Lutheran of Homewood IL\, 18645 Dixie Highway\, Homewood\, IL\, 60430\, United States
END:VEVENT
BEGIN:VEVENT
DTSTART;TZID=America/Chicago:20260207T090000
DTEND;TZID=America/Chicago:20260207T100000
DTSTAMP:20260423T130046
CREATED:20260113T145024Z
LAST-MODIFIED:20260113T145024Z
UID:4141-1770454800-1770458400@www.faithhomewood.org
SUMMARY:Altar Setup
DESCRIPTION:We encourage potential volunteers to assist in altar setup for our Sunday worship services for fellowship\, camaraderie\, and inspiration.
URL:https://www.faithhomewood.org/event/altar-setup-103/
LOCATION:Faith Lutheran of Homewood IL\, 18645 Dixie Highway\, Homewood\, IL\, 60430\, United States
END:VEVENT
BEGIN:VEVENT
DTSTART;TZID=America/Chicago:20260208T103000
DTEND;TZID=America/Chicago:20260208T113000
DTSTAMP:20260423T130046
CREATED:20260113T145108Z
LAST-MODIFIED:20260113T145108Z
UID:4146-1770546600-1770550200@www.faithhomewood.org
SUMMARY:Worship Service
DESCRIPTION:Please join us for our weekly Sunday worship. Past services can be viewed via our YouTube channel.
URL:https://www.faithhomewood.org/event/worship-service-99/
LOCATION:Faith Lutheran of Homewood IL\, 18645 Dixie Highway\, Homewood\, IL\, 60430\, United States
END:VEVENT
BEGIN:VEVENT
DTSTART;TZID=America/Chicago:20260214T090000
DTEND;TZID=America/Chicago:20260214T100000
DTSTAMP:20260423T130046
CREATED:20260113T145452Z
LAST-MODIFIED:20260113T145452Z
UID:4140-1771059600-1771063200@www.faithhomewood.org
SUMMARY:Altar Setup
DESCRIPTION:We encourage potential volunteers to assist in altar setup for our Sunday worship services for fellowship\, camaraderie\, and inspiration.
URL:https://www.faithhomewood.org/event/altar-setup-104/
LOCATION:Faith Lutheran of Homewood IL\, 18645 Dixie Highway\, Homewood\, IL\, 60430\, United States
END:VEVENT
BEGIN:VEVENT
DTSTART;TZID=America/Chicago:20260215T103000
DTEND;TZID=America/Chicago:20260215T113000
DTSTAMP:20260423T130046
CREATED:20260113T145135Z
LAST-MODIFIED:20260113T145135Z
UID:4138-1771151400-1771155000@www.faithhomewood.org
SUMMARY:Worship Service
DESCRIPTION:Please join us for our weekly Sunday worship. Past services can be viewed via our YouTube channel.
URL:https://www.faithhomewood.org/event/worship-service-100/
LOCATION:Faith Lutheran of Homewood IL\, 18645 Dixie Highway\, Homewood\, IL\, 60430\, United States
END:VEVENT
BEGIN:VEVENT
DTSTART;TZID=America/Chicago:20260215T103000
DTEND;TZID=America/Chicago:20260215T113000
DTSTAMP:20260423T130046
CREATED:20260113T145151Z
LAST-MODIFIED:20260113T145152Z
UID:4145-1771151400-1771155000@www.faithhomewood.org
SUMMARY:Worship Service
DESCRIPTION:Please join us for our weekly Sunday worship. Past services can be viewed via our YouTube channel.
URL:https://www.faithhomewood.org/event/worship-service-101/
LOCATION:Faith Lutheran of Homewood IL\, 18645 Dixie Highway\, Homewood\, IL\, 60430\, United States
END:VEVENT
BEGIN:VEVENT
DTSTART;TZID=America/Chicago:20260221T090000
DTEND;TZID=America/Chicago:20260221T100000
DTSTAMP:20260423T130046
CREATED:20260113T145509Z
LAST-MODIFIED:20260113T145509Z
UID:4135-1771664400-1771668000@www.faithhomewood.org
SUMMARY:Altar Setup
DESCRIPTION:We encourage potential volunteers to assist in altar setup for our Sunday worship services for fellowship\, camaraderie\, and inspiration.
URL:https://www.faithhomewood.org/event/altar-setup-105/
LOCATION:Faith Lutheran of Homewood IL\, 18645 Dixie Highway\, Homewood\, IL\, 60430\, United States
END:VEVENT
BEGIN:VEVENT
DTSTART;TZID=America/Chicago:20260222T103000
DTEND;TZID=America/Chicago:20260222T113000
DTSTAMP:20260423T130046
CREATED:20260113T145211Z
LAST-MODIFIED:20260113T145211Z
UID:4144-1771756200-1771759800@www.faithhomewood.org
SUMMARY:Worship Service
DESCRIPTION:Please join us for our weekly Sunday worship. Past services can be viewed via our YouTube channel.
URL:https://www.faithhomewood.org/event/worship-service-102/
LOCATION:Faith Lutheran of Homewood IL\, 18645 Dixie Highway\, Homewood\, IL\, 60430\, United States
END:VEVENT
BEGIN:VEVENT
DTSTART;TZID=America/Chicago:20260222T113000
DTEND;TZID=America/Chicago:20260222T123000
DTSTAMP:20260423T130046
CREATED:20260121T202944Z
LAST-MODIFIED:20260121T202944Z
UID:4176-1771759800-1771763400@www.faithhomewood.org
SUMMARY:Annual Church Meeting
DESCRIPTION:
URL:https://www.faithhomewood.org/event/annual-church-meeting/
LOCATION:Faith Lutheran of Homewood IL\, 18645 Dixie Highway\, Homewood\, IL\, 60430\, United States
END:VEVENT
BEGIN:VEVENT
DTSTART;TZID=America/Chicago:20260228T090000
DTEND;TZID=America/Chicago:20260228T100000
DTSTAMP:20260423T130046
CREATED:20260113T145527Z
LAST-MODIFIED:20260113T145527Z
UID:4134-1772269200-1772272800@www.faithhomewood.org
SUMMARY:Altar Setup
DESCRIPTION:We encourage potential volunteers to assist in altar setup for our Sunday worship services for fellowship\, camaraderie\, and inspiration.
URL:https://www.faithhomewood.org/event/altar-setup-106/
LOCATION:Faith Lutheran of Homewood IL\, 18645 Dixie Highway\, Homewood\, IL\, 60430\, United States
END:VEVENT
END:VCALENDAR